BEGIN:VCALENDAR
VERSION:2.0
PRODID:-//unsere-hafencity - ECPv6.15.20//NONSGML v1.0//EN
CALSCALE:GREGORIAN
METHOD:PUBLISH
X-WR-CALNAME:unsere-hafencity
X-ORIGINAL-URL:https://unsere-hafencity.de
X-WR-CALDESC:Veranstaltungen für unsere-hafencity
REFRESH-INTERVAL;VALUE=DURATION:PT1H
X-Robots-Tag:noindex
X-PUBLISHED-TTL:PT1H
BEGIN:VTIMEZONE
TZID:Europe/Berlin
BEGIN:DAYLIGHT
TZOFFSETFROM:+0100
TZOFFSETTO:+0200
TZNAME:CEST
DTSTART:20250330T010000
END:DAYLIGHT
BEGIN:STANDARD
TZOFFSETFROM:+0200
TZOFFSETTO:+0100
TZNAME:CET
DTSTART:20251026T010000
END:STANDARD
BEGIN:DAYLIGHT
TZOFFSETFROM:+0100
TZOFFSETTO:+0200
TZNAME:CEST
DTSTART:20260329T010000
END:DAYLIGHT
BEGIN:STANDARD
TZOFFSETFROM:+0200
TZOFFSETTO:+0100
TZNAME:CET
DTSTART:20261025T010000
END:STANDARD
BEGIN:DAYLIGHT
TZOFFSETFROM:+0100
TZOFFSETTO:+0200
TZNAME:CEST
DTSTART:20270328T010000
END:DAYLIGHT
BEGIN:STANDARD
TZOFFSETFROM:+0200
TZOFFSETTO:+0100
TZNAME:CET
DTSTART:20271031T010000
END:STANDARD
END:VTIMEZONE
BEGIN:VEVENT
DTSTART;TZID=Europe/Berlin:20260224T130000
DTEND;TZID=Europe/Berlin:20260224T140000
DTSTAMP:20260422T163548
CREATED:20251216T091501Z
LAST-MODIFIED:20260323T111457Z
UID:10010992-1771938000-1771941600@unsere-hafencity.de
SUMMARY:Gesprächsrunde – Gemeinsam Deutsch sprechen
DESCRIPTION:Deutsch üben kann Spaß machen! \nNach diesem Motto treffen wir uns jede Woche in kleinen Gruppen und sprechen Deutsch. Immer kostenlos und für alle interessierten Erwachsenen. Das Besondere: alles ohne Hausaufgaben und ohne Muss\, aber mit ganz viel Spaß\, Freude und Herzlichkeit. \n\nWann: Dienstags\, 13:00-14:00 Uhr\, ab 03.02. wöchentlich\nOrt: Gemeinschaftshaus Grasbrookpark\nAnmeldung: nicht notwendig\nAngebotsleitung: Sprachbrücke Hamburg e.V. : kontakt@sprachbruecke-hamburg.de / www.sprachbruecke-hamburg.de
URL:https://unsere-hafencity.de/event/gespraechsrunde-gemeinsam-deutsch-sprechen/2026-02-24/
END:VEVENT
BEGIN:VEVENT
DTSTART;TZID=Europe/Berlin:20260224T163000
DTEND;TZID=Europe/Berlin:20260224T173000
DTSTAMP:20260422T163548
CREATED:20251116T211929Z
LAST-MODIFIED:20251116T211929Z
UID:10006811-1771950600-1771954200@unsere-hafencity.de
SUMMARY:Karate
DESCRIPTION:STARK WIE EINE WELLE\, RUHIG WIE DIE SEE \nWie Kapitän sein Schiff sicher durch un­ruhige Ge­wässer steu­ern muss\, lernst du beim Ka­rate durch prä­zise Tech­niken sowie tak­tischem Ge­schick\, deine Kraft ge­zielt ein­zu­setzen und deinen Kör­per per­fekt zu kon­trol­lie­ren. Doch nicht nur Mus­keln wer­den bei dieser Kampf­sport­art gestärkt – auch Disziplin\, Ge­duld und Respekt sind zen­trale Säulen des Trainings. Be­reit\, der rauen See zu trot­zen und über dich hinaus­zu­wachsen?
URL:https://unsere-hafencity.de/event/karate/2026-02-24/
LOCATION:Katharinenschule\, Am Dalmannkai 18\, Hamburg\, 20457
ATTACH;FMTTYPE=image/jpeg:https://unsere-hafencity.de/wp-content/uploads/2025/11/stoertebeker-sv-karate-kinder-header-scaled.jpg
ORGANIZER;CN="St%C3%B6rtebeker SV":MAILTO:kontakt@stoertebekersv.de
END:VEVENT
BEGIN:VEVENT
DTSTART;TZID=Europe/Berlin:20260224T180000
DTEND;TZID=Europe/Berlin:20260224T190000
DTSTAMP:20260422T163548
CREATED:20251116T212113Z
LAST-MODIFIED:20251116T212113Z
UID:10006289-1771956000-1771959600@unsere-hafencity.de
SUMMARY:Yoga
DESCRIPTION:STRECK DICH FREI – ATMUNG AN\, SPANNUNG AUS \nStell dir vor\, du stehst auf dem Deck eines Schiffes. Die Wellen tragen das Schiff\, der Horizont öffnet sich – und du atmest tief ein. \nYoga bei uns ist wie eine sanfte Brise nach stürmischer See – Bewegung\, Atem und Achtsamkeit in perfektem Einklang. Ganz gleich\, ob du das erste Mal an Bord gehst oder schon sicher auf der Matte stehst: Hier findest du Raum zum Durchatmen\, Kraftschöpfen und Loslassen.
URL:https://unsere-hafencity.de/event/yoga/2026-02-24/
LOCATION:Katharinenschule\, Am Dalmannkai 18\, Hamburg\, 20457
ATTACH;FMTTYPE=image/jpeg:https://unsere-hafencity.de/wp-content/uploads/2025/11/stoertebeker-sv_header_erwachsene_yoga-scaled.jpg
ORGANIZER;CN="St%C3%B6rtebeker SV":MAILTO:kontakt@stoertebekersv.de
END:VEVENT
BEGIN:VEVENT
DTSTART;TZID=Europe/Berlin:20260224T183000
DTEND;TZID=Europe/Berlin:20260224T210000
DTSTAMP:20260422T163548
CREATED:20251208T155833Z
LAST-MODIFIED:20260106T095647Z
UID:10008452-1771957800-1771966800@unsere-hafencity.de
SUMMARY:Stressreduktion durch Achtsamkeitstraining
DESCRIPTION:Dieses 8-wöchige Stressbewältigungstraining basiert auf der Praxis der Achtsamkeit. Durch Übungen zur Körperwahrnehmung im Sitzen und im Gehen üben Sie Konzentration und Aufmerksamkeit. Auch Elemente des Yoga fließen in den Kurs ein. \nDas Ziel ist es\, eine achtsame Haltung in den privaten wie beruflichen Alltag zu übertragen und dadurch gelassener mit Stress sowie belastenden Gedanken und Gefühlen umgehen zu können. Das Training wurde von Prof. Dr. Jon Kabat-Zinn unter dem Namen „Mindfulness-Based-Stress-Reduction“ entwickelt und ist daher auch unter der Abkürzung „MBSR“ bekannt. \nSie lernen in in diesem Training Stressbewältigung durch Achtsamkeit und Ihre Wahrnehmung für jeden Augenblick zu schärfen. Sie schulen Ihre Aufmerksamkeit und erleben die entspannende Wirkung meditativer Verfahren. \nEin gemeinsamer Achtsamkeitstag unterstützt das Training\, um das erlernte zu vertiefen und in Ihren Alltag zu integrieren.
URL:https://unsere-hafencity.de/event/stressreduktion-durch-achtsamkeitstraining/2026-02-24/
LOCATION:Elternschule Rothenburgsort\, Marckmannstraße 75\, Hamburg\, 20539
ATTACH;FMTTYPE=image/jpeg:https://unsere-hafencity.de/wp-content/uploads/2025/12/Mein-Angebot_Totale-scaled.jpg
ORGANIZER;CN="Achtsamkeit und MBSR mit Johanna Marx":MAILTO:achtsamkeit@johanna-marx.de
END:VEVENT
END:VCALENDAR