BEGIN:VCALENDAR
VERSION:2.0
PRODID:-//unsere-hafencity - ECPv6.15.20//NONSGML v1.0//EN
CALSCALE:GREGORIAN
METHOD:PUBLISH
X-WR-CALNAME:unsere-hafencity
X-ORIGINAL-URL:https://unsere-hafencity.de
X-WR-CALDESC:Veranstaltungen für unsere-hafencity
REFRESH-INTERVAL;VALUE=DURATION:PT1H
X-Robots-Tag:noindex
X-PUBLISHED-TTL:PT1H
BEGIN:VTIMEZONE
TZID:Europe/Berlin
BEGIN:DAYLIGHT
TZOFFSETFROM:+0100
TZOFFSETTO:+0200
TZNAME:CEST
DTSTART:20250330T010000
END:DAYLIGHT
BEGIN:STANDARD
TZOFFSETFROM:+0200
TZOFFSETTO:+0100
TZNAME:CET
DTSTART:20251026T010000
END:STANDARD
BEGIN:DAYLIGHT
TZOFFSETFROM:+0100
TZOFFSETTO:+0200
TZNAME:CEST
DTSTART:20260329T010000
END:DAYLIGHT
BEGIN:STANDARD
TZOFFSETFROM:+0200
TZOFFSETTO:+0100
TZNAME:CET
DTSTART:20261025T010000
END:STANDARD
BEGIN:DAYLIGHT
TZOFFSETFROM:+0100
TZOFFSETTO:+0200
TZNAME:CEST
DTSTART:20270328T010000
END:DAYLIGHT
BEGIN:STANDARD
TZOFFSETFROM:+0200
TZOFFSETTO:+0100
TZNAME:CET
DTSTART:20271031T010000
END:STANDARD
END:VTIMEZONE
BEGIN:VEVENT
DTSTART;TZID=Europe/Berlin:20260403T110000
DTEND;TZID=Europe/Berlin:20260403T123000
DTSTAMP:20260422T152549
CREATED:20260401T112526Z
LAST-MODIFIED:20260401T113117Z
UID:10013120-1775214000-1775219400@unsere-hafencity.de
SUMMARY:Lichtmoment
DESCRIPTION:20.03. – 09.04.2026 \nIm Ökumenischen Forum HafenCity können Sie den Alltag für einen Moment hinter sich lassen und in eine besondere Atmosphäre eintauchen – ein Raum für Klarheit\, Reflexion und Ihren ganz individuellen Lichtmoment. \nBei Gruppen ab fünf Personen bitten wir um Voranmeldung. Für Kindergärten und Schulen bieten wir eine altersgerechte Begleitung durch die Installation an. \nDer Eintritt ist frei. \nÖffnungszeiten täglich:\n10:00 – 12:30 Uhr\n13:30 – 17:30 Uhr \nAusnahme an Ostern \nFreitag\, 03.04.: geöffnet von 11:00-12:30 Uhr und 15:00-17:30 Uhr \nSamstag\, 04.04.\, bis einschl. Montag\, 06.04.\,: geschlossen
URL:https://unsere-hafencity.de/event/lichtmoment-5-2/
LOCATION:Ökumenisches Forum HafenCity\, Shanghaiallee 12\, Hamburg\, 20457
CATEGORIES:Führung,Kunst
ATTACH;FMTTYPE=image/jpeg:https://unsere-hafencity.de/wp-content/uploads/2026/03/250226_Oekumenisches_Forum_Hafencity_Lichtmoment_Keyvisual-scaled.jpg
END:VEVENT
BEGIN:VEVENT
DTSTART;TZID=Europe/Berlin:20260403T150000
DTEND;TZID=Europe/Berlin:20260403T173000
DTSTAMP:20260422T152549
CREATED:20260401T112651Z
LAST-MODIFIED:20260401T121307Z
UID:10013121-1775228400-1775237400@unsere-hafencity.de
SUMMARY:Lichtmoment
DESCRIPTION:20.03. – 09.04.2026 \nIm Ökumenischen Forum HafenCity können Sie den Alltag für einen Moment hinter sich lassen und in eine besondere Atmosphäre eintauchen – ein Raum für Klarheit\, Reflexion und Ihren ganz individuellen Lichtmoment. \nBei Gruppen ab fünf Personen bitten wir um Voranmeldung. Für Kindergärten und Schulen bieten wir eine altersgerechte Begleitung durch die Installation an. \nDer Eintritt ist frei. \nÖffnungszeiten täglich:\n10:00 – 12:30 Uhr\n13:30 – 17:30 Uhr \nAusnahme an Ostern \nFreitag\, 03.04.: geöffnet von 11:00-12:30 Uhr und 15:00-17:30 Uhr \nSamstag\, 04.04.\, bis einschl. Montag\, 06.04.\,: geschlossen
URL:https://unsere-hafencity.de/event/lichtmoment-6/
LOCATION:Ökumenisches Forum HafenCity\, Shanghaiallee 12\, Hamburg\, 20457
CATEGORIES:Führung,Kunst
ATTACH;FMTTYPE=image/jpeg:https://unsere-hafencity.de/wp-content/uploads/2026/03/250226_Oekumenisches_Forum_Hafencity_Lichtmoment_Keyvisual-scaled.jpg
END:VEVENT
BEGIN:VEVENT
DTSTART;TZID=Europe/Berlin:20260403T160000
DTEND;TZID=Europe/Berlin:20260403T220000
DTSTAMP:20260422T152549
CREATED:20260306T055340Z
LAST-MODIFIED:20260306T055821Z
UID:10011274-1775232000-1775253600@unsere-hafencity.de
SUMMARY:Der Markt der Møglichkeiten
DESCRIPTION:Kultur trifft Kreativität in der Gleishalle Oberhafen. \nZwei Tage voller Inspiration: Der liebevoll kuratierte Markt der Møglichkeiten verwandelt die Gleishalle in einen lebendigen Kulturbasar – mit Design\, Kunsthandwerk\, nachhaltigen Produkten\, gutem Essen und besonderen Menschen. DJ-Sets sorgen für entspannte Stimmung zwischen Streetfood und handverlesenen Ständen. \nDas Motto: Komm wie du bist\, gib was du kannst\, Kinder und Hunde sind natürlich wie immer kostenlos mit dabei. \n\nWann: 06.03.-07.03 | 16-22 Uhr\, Sa. & So. ab 14-20 Uhr\nWo: Gleishalle Oberhafen\, Stockmeyerstraße 43\nEintritt: Pay what you want\n\nMehr Infos: Gleishalle Oberhafen\nnächste Termine: 03.04.-04.04.\, 01.05-03.05.
URL:https://unsere-hafencity.de/event/der-markt-der-moglichkeiten-3/2026-04-03/
LOCATION:gleishalle\, Gleishalle\, Stockmeyerstraße 43\, Hamburg\, Hamburg\, 20457
CATEGORIES:Flohmarkt,Musik
ATTACH;FMTTYPE=image/png:https://unsere-hafencity.de/wp-content/uploads/2025/12/Markt-der-moeglichkeiten-hafentcity-eventkalender.png
END:VEVENT
END:VCALENDAR