BEGIN:VCALENDAR
VERSION:2.0
PRODID:-//unsere-hafencity - ECPv6.15.20//NONSGML v1.0//EN
CALSCALE:GREGORIAN
METHOD:PUBLISH
X-WR-CALNAME:unsere-hafencity
X-ORIGINAL-URL:https://unsere-hafencity.de
X-WR-CALDESC:Veranstaltungen für unsere-hafencity
REFRESH-INTERVAL;VALUE=DURATION:PT1H
X-Robots-Tag:noindex
X-PUBLISHED-TTL:PT1H
BEGIN:VTIMEZONE
TZID:Europe/Berlin
BEGIN:DAYLIGHT
TZOFFSETFROM:+0100
TZOFFSETTO:+0200
TZNAME:CEST
DTSTART:20250330T010000
END:DAYLIGHT
BEGIN:STANDARD
TZOFFSETFROM:+0200
TZOFFSETTO:+0100
TZNAME:CET
DTSTART:20251026T010000
END:STANDARD
BEGIN:DAYLIGHT
TZOFFSETFROM:+0100
TZOFFSETTO:+0200
TZNAME:CEST
DTSTART:20260329T010000
END:DAYLIGHT
BEGIN:STANDARD
TZOFFSETFROM:+0200
TZOFFSETTO:+0100
TZNAME:CET
DTSTART:20261025T010000
END:STANDARD
BEGIN:DAYLIGHT
TZOFFSETFROM:+0100
TZOFFSETTO:+0200
TZNAME:CEST
DTSTART:20270328T010000
END:DAYLIGHT
BEGIN:STANDARD
TZOFFSETFROM:+0200
TZOFFSETTO:+0100
TZNAME:CET
DTSTART:20271031T010000
END:STANDARD
END:VTIMEZONE
BEGIN:VEVENT
DTSTART;TZID=Europe/Berlin:20260422T100000
DTEND;TZID=Europe/Berlin:20260422T110000
DTSTAMP:20260424T100201
CREATED:20260324T195208Z
LAST-MODIFIED:20260401T122501Z
UID:10012468-1776852000-1776855600@unsere-hafencity.de
SUMMARY:Mütterberatung inkl. Krabbelgruppe (Babys)
DESCRIPTION:Die Mütterberatung bietet Unterstützung bei vielen Fragen rund ums Baby oder Kleinkind.  \nEine erfahrene Kinderkrankenschwester berät zu Themen wie Pflege und Entwicklung Deines Kindes\, Stillen\, Ernährung sowie Informationen über empfohlene Impfungen. Während des Kurses besteht außerdem die Möglichkeit\, Dein Kind wiegen und messen zu lassen. \nAuch bei Fragen oder Sorgen – etwa wenn Dein Baby viel weint oder nachts unruhig schläft – erhältst Du Unterstützung. \nParallel zur Beratung findet ein Eltern-Treff mit Krabbelgruppe statt\, sodass Du die Gelegenheit hast\, Dich mit anderen Eltern auszutauschen. \n\nWann: Mittwoch\,\n\n10:00-11:00 Uhr (Babys)\n11:00-12:00 Uhr (Kleinkinder)\n\n\nTeilnehmer: Offen für alle interessierten Eltern\nAnmeldung: Nicht notwendig\nKursleitung: Sonja Snow
URL:https://unsere-hafencity.de/event/muetterberatung-inkl-krabbelgruppe-babys-2-2/2026-04-22/
LOCATION:Gemeinschaftshaus Grasbrook Park\, Gemeinschaftshaus Grasbrookpark\, Strandkai\, Hamburg\, 20457\, Germany
ATTACH;FMTTYPE=image/jpeg:https://unsere-hafencity.de/wp-content/uploads/2025/07/cute-babies-with-their-parents-2023-11-27-05-08-07-utc-scaled.jpg
END:VEVENT
BEGIN:VEVENT
DTSTART;TZID=Europe/Berlin:20260422T110000
DTEND;TZID=Europe/Berlin:20260422T120000
DTSTAMP:20260424T100201
CREATED:20260324T195517Z
LAST-MODIFIED:20260327T120901Z
UID:10012481-1776855600-1776859200@unsere-hafencity.de
SUMMARY:Mütterberatung inkl. Krabbelgruppe (Kleinkinder)
DESCRIPTION:Die Mütterberatung bietet Unterstützung bei vielen Fragen rund ums Kleinkind.  \nEine erfahrene Kinderkrankenschwester berät zu Themen wie Pflege und Entwicklung Deines Kindes\, Stillen\, Ernährung sowie Informationen über empfohlene Impfungen. Während des Kurses besteht außerdem die Möglichkeit\, Dein Kind wiegen und messen zu lassen. \nAuch bei Fragen oder Sorgen – etwa wenn Dein Baby viel weint oder nachts unruhig schläft – erhältst Du Unterstützung. \nParallel zur Beratung findet ein Eltern-Treff mit Krabbelgruppe statt\, sodass Du die Gelegenheit hast\, Dich mit anderen Eltern auszutauschen. \n\nWann: Mittwoch\,\n10:00-11:00 Uhr (Babys)\n11:00-12:00 Uhr (Kleinkinder)\nTeilnehmer: Offen für alle interessierten Eltern\nAnmeldung: nicht notwendig\nKursleitung: Sonja Snow\n\n 
URL:https://unsere-hafencity.de/event/muetterberatung-inkl-krabbelgruppe-kleinkinder-2-2/2026-04-22/
LOCATION:Gemeinschaftshaus Grasbrook Park\, Gemeinschaftshaus Grasbrookpark\, Strandkai\, Hamburg\, 20457\, Germany
CATEGORIES:Kinder
ATTACH;FMTTYPE=image/jpeg:https://unsere-hafencity.de/wp-content/uploads/2025/07/Muetterberatung-HafenCity-Kleinkinder-e1753087294492.jpg
END:VEVENT
BEGIN:VEVENT
DTSTART;TZID=Europe/Berlin:20260422T110000
DTEND;TZID=Europe/Berlin:20260422T200000
DTSTAMP:20260424T100201
CREATED:20260408T121752Z
LAST-MODIFIED:20260408T121752Z
UID:10013155-1776855600-1776888000@unsere-hafencity.de
SUMMARY:Schlagzeugunterricht
DESCRIPTION:Es groovt mitten in der Hafencity! In der neuen Groovedock- Schlagzeugschule Hafencity erwartet dich moderner\, professioneller Schlagzeugunterricht für alle\, in einem top ausgestatteten\, hellen Raum direkt am Baakenhafen. \nDie Groovedock- Schlagzeugschule verbindet moderne\, musikpädagogische Konzepte mit viel Spielfreude am Instrument und eine hochprofessionelle Ausstattung mit einer gemütlichen\, freundlichen Atmosphäre. Erhalte Unterricht direkt beim Profi- Musiker\, Tour- und Studioschlagzeuger und #1- Artist. Immer Montags und Mittwochs zwischen 11:00 und 20:00 Uhr im Marktplatz der Manufakturen. Termine nach Vereinbarung. Leg an\, groove los!
URL:https://unsere-hafencity.de/event/schlagzeugunterricht/2026-04-22/
LOCATION:Marktplatz der Manufakturen\, Versmannstraße 42\, Hamburg\, 20457
CATEGORIES:Musik
ATTACH;FMTTYPE=image/jpeg:https://unsere-hafencity.de/wp-content/uploads/2026/04/IMG_5405-5-scaled.jpg
END:VEVENT
BEGIN:VEVENT
DTSTART;TZID=Europe/Berlin:20260422T180000
DTEND;TZID=Europe/Berlin:20260422T190000
DTSTAMP:20260424T100201
CREATED:20260210T113643Z
LAST-MODIFIED:20260210T113643Z
UID:10011076-1776880800-1776884400@unsere-hafencity.de
SUMMARY:Wucht – Feierabendkonzert im Oberhafen
DESCRIPTION:Ta-ta-ta-taaa: Beethovens Fünfte für vier Hände. Orchestre en Miniature. \nLudwig van Beethoven\,\nSinfonie Nr. 5 c-moll op. 67 \nYun Xu\, Klavier\nFranck-Thomas Link\, Klavier \nEinlass 17h\, Konzert 18h\, Lounge 19h\nTickets: 18 € im Online-Vorverkauf\, 23 € an der Abendkasse\, Mitglieder: 9 € \nWir freuen uns\, Ensemble in Residence in der Halle 424 zu sein. \nVier Töne\, die jeder kennt. Kein Motiv der Musikgeschichte ist berühmter\, keines wurde so oft gedeutet – vom Schicksalsruf bis zum Morsecode für „V“ wie Victory. 1808 in Wien uraufgeführt\, entsteht das Werk in schwierigen Jahren: Beethovens Gehör verschlechtert sich\, die finanzielle Lage ist angespannt. Kompositorisch setzt er auf äußerste Konzentration: Ein einziges rhythmisches Motiv durchdringt alle vier Sätze\, der Weg führt von c-moll nach C-Dur\, ins Licht.
URL:https://unsere-hafencity.de/event/wucht-feierabendkonzert-im-oberhafen/
LOCATION:Halle424\, Stockmeyerstraße 43\, Hamburg\, 20457
CATEGORIES:Musik
ATTACH;FMTTYPE=image/jpeg:https://unsere-hafencity.de/wp-content/uploads/2026/02/Link-Xu-2.jpg
ORGANIZER;CN="Hamburger Kammerkunstverein e. V.":MAILTO:tickets@kammerkunst.de
END:VEVENT
BEGIN:VEVENT
DTSTART;TZID=Europe/Berlin:20260422T180000
DTEND;TZID=Europe/Berlin:20260422T190000
DTSTAMP:20260424T100201
CREATED:20260412T075724Z
LAST-MODIFIED:20260412T075724Z
UID:10013429-1776880800-1776884400@unsere-hafencity.de
SUMMARY:Feierabendkonzert – Klassik im Oberhafen
DESCRIPTION:WUCHT – Ta-ta-ta-taaa: Beethoven 5 für 4 Hände. Der Schicksalssinfonie steht „Mutter Gans“ zu Seite\, Maurice Ravels Märchensuite für große und kleine Kinder. Orchestre en miniature! \nLudwig van Beethoven\, Sinfonie Nr. 5 c-moll op. 67 \nMaurice Ravel\, „Ma Mère l’Oye“ \nYun Xu und Franck-Thomas Link\, Klavier \nEinlass 17 Uhr\, Konzert 18 Uhr\, Lounge 19 Uhr\nTickets: 18 € im Online-Vorverkauf\, 23 € an der Abendkasse\, Mitglieder: 9 €\nWir freuen uns\, Ensemble in Residence in der Halle 424 zu sein.
URL:https://unsere-hafencity.de/event/feierabendkonzert-klassik-im-oberhafen-2/
LOCATION:Halle424\, Stockmeyerstraße 43\, Hamburg\, 20457
CATEGORIES:Konzert
ATTACH;FMTTYPE=image/jpeg:https://unsere-hafencity.de/wp-content/uploads/2026/04/Link-Xu.jpg
ORGANIZER;CN="Hamburger Kammerkunstverein e. V.":MAILTO:tickets@kammerkunst.de
END:VEVENT
BEGIN:VEVENT
DTSTART;TZID=Europe/Berlin:20260422T180000
DTEND;TZID=Europe/Berlin:20260422T200000
DTSTAMP:20260424T100201
CREATED:20260122T105258Z
LAST-MODIFIED:20260122T105258Z
UID:10010698-1776880800-1776888000@unsere-hafencity.de
SUMMARY:Breaking mit Cemino
DESCRIPTION:Der Breaking Kurs mit Cemino startet endlich bei Lukulule.\nEuch erwarten solide Breaking Basics\, weiterführende Schritte und vor allem der Fokus auf Tanz\, Bewegung und Gesundheit. Gemeinsam entwickeln wir Groove\, Technik und Ausdruck\, unabhängig davon\, wo ihr gerade steht. \nDer Kurs ist offen für alle Levels und jedes Alter. Egal ob Anfänger oder mit Vorerfahrung\, ihr seid herzlich willkommen. \nIch freue mich darauf\, mit euch zu tanzen und gemeinsam zu wachsen. \nBis bald bei Lukulule\nEuer Cemino ✌️
URL:https://unsere-hafencity.de/event/breaking-mit-cemino/2026-04-22/
LOCATION:Lukulule e.V.\, Stockmeyerstraße 41 Halle 4i\, Hamburg\, 20457\, Germany
ATTACH;FMTTYPE=image/jpeg:https://unsere-hafencity.de/wp-content/uploads/2026/01/Flyer_Braking_DIN-Lang_low.jpg
ORGANIZER;CN="Lukulule e.V.":MAILTO:info(at)lukulule(dot)de
END:VEVENT
BEGIN:VEVENT
DTSTART;TZID=Europe/Berlin:20260422T183000
DTEND;TZID=Europe/Berlin:20260422T200000
DTSTAMP:20260424T100201
CREATED:20260324T200849Z
LAST-MODIFIED:20260324T200849Z
UID:10012559-1776882600-1776888000@unsere-hafencity.de
SUMMARY:Lauftreff
DESCRIPTION:Du möchtest (wieder) ins Laufen kommen oder nicht allein trainieren? Unser Lauftreff richtet sich an alle\, die in netter Gesellschaft ihre Ausdauer verbessern möchten. Das Schnupperangebot ist eine Kooperation mit dem SV Baakenhafen. \nDie Dauer beträgt ca. 75–90 Minuten: Wir starten mit einem kurzen Warm-up\, laufen anschließend 8–10 km in einem angenehmen Tempo und beenden das Training mit Cool Down und Stretching. Das Tempo passen wir natürlich an die Gruppe an. Komm vorbei und lauf mit – wir freuen uns auf dich! \n\nWann: Mittwochs\, 18:30 Uhr\nTermine: 01.04.\, 08.04.\, 15.04.\, 22.04.\, 29.04.\, 06.05.\, 13.05.\, 20.05.\nOrt: Treffpunkt: Gretchen-Wohlwill-Platz\nAnmeldung: Keine Anmeldung notwendig\nAngebotsleitung: Lennart Harnischfeger\n\n 
URL:https://unsere-hafencity.de/event/lauftreff/2026-04-22/
LOCATION:Gretchen-Wohlwill-Platz\, Gretchen-Wohlwill-Platz\, Hamburg\, 20457
CATEGORIES:Sport
ATTACH;FMTTYPE=image/jpeg:https://unsere-hafencity.de/wp-content/uploads/2026/03/Lauftreff-QM-HafenCity-Q2-e1774382913408.jpeg
END:VEVENT
BEGIN:VEVENT
DTSTART;TZID=Europe/Berlin:20260422T183000
DTEND;TZID=Europe/Berlin:20260422T210000
DTSTAMP:20260424T100201
CREATED:20260406T184919Z
LAST-MODIFIED:20260406T184919Z
UID:10013150-1776882600-1776891600@unsere-hafencity.de
SUMMARY:Musik & Stulle mit Finn Moriz
DESCRIPTION:Mit „Musik & Stulle“ lädt die Hobenköök im Oberhafen erneut zu einem Abend ein\, der Live-Musik und gemeinsames Erleben in der HafenCity verbindet. Die Reihe schafft eine Bühne für lokale Künstlerinnen und Künstler und steht zugleich für nachhaltige\, regionale Ansätze – ein Konzept\, das sich nahtlos in die Entwicklung des Quartiers einfügt. \nAm 22. April 2026 ist der Hamburger Musiker Finn Moriz zu Gast. Mit seinem deutschsprachigen Indie-Pop bewegt er sich zwischen ruhigen\, persönlichen Momenten und kraftvollen\, energiegeladenen Passagen. Seine Songs erzählen feinfühlige Geschichten und entfalten live eine besondere Nähe zum Publikum. Bereits 2024 war er Teil der Reihe im Oberhafen. Mit seinem 2025 erschienenen Debütalbum „SIRI SPIEL LOVESONGS“ knüpft er daran an und bringt seine charakteristische Mischung aus Poesie und Dynamik erneut auf die Bühne. \nVeranstaltung auf einen Blick\n\nWas: Konzertabend „Musik & Stulle“ mit Finn Moriz\nWann: Mittwoch\, 22. April 2026 | 18:30 – 21:00 Uhr (Einlass ab 18:30 Uhr\, Beginn 19:00 Uhr)\nWo: In und um die Hobenköök (Oberhafen)\, 20457 Hamburg (Location-Update erfolgt vorab per Mail)\nEintritt: 26\,00 € (inkl. MwSt.\, zzgl. Versandkosten)\nAnmeldung: Ticketkauf erforderlich im Vorfeld\n\nDie Konzertreihe „Musik & Stulle“ wird von der Hobenköök und Bridge Gigs organisiert. Neben dem musikalischen Programm gehören auch kostenfreie Stullen zum Konzept\, Getränke sind vor Ort erhältlich.
URL:https://unsere-hafencity.de/event/musik-stulle-mit-finn-moriz/
LOCATION:Hobenköök\, Stockmeyerstraße 43\, Hamburg\, Hamburg\, 20457
CATEGORIES:Konzert,Musik
ATTACH;FMTTYPE=image/jpeg:https://unsere-hafencity.de/wp-content/uploads/2026/04/finn-moriz_hobenkooek_Hafencity.jpg
ORGANIZER;CN="Hobenk%C3%B6%C3%B6k GmbH":MAILTO:marketing@hobenkoeoek.de
END:VEVENT
END:VCALENDAR