BEGIN:VCALENDAR
VERSION:2.0
PRODID:-//unsere-hafencity - ECPv6.15.20//NONSGML v1.0//EN
CALSCALE:GREGORIAN
METHOD:PUBLISH
X-WR-CALNAME:unsere-hafencity
X-ORIGINAL-URL:https://unsere-hafencity.de
X-WR-CALDESC:Veranstaltungen für unsere-hafencity
REFRESH-INTERVAL;VALUE=DURATION:PT1H
X-Robots-Tag:noindex
X-PUBLISHED-TTL:PT1H
BEGIN:VTIMEZONE
TZID:Europe/Berlin
BEGIN:DAYLIGHT
TZOFFSETFROM:+0100
TZOFFSETTO:+0200
TZNAME:CEST
DTSTART:20250330T010000
END:DAYLIGHT
BEGIN:STANDARD
TZOFFSETFROM:+0200
TZOFFSETTO:+0100
TZNAME:CET
DTSTART:20251026T010000
END:STANDARD
BEGIN:DAYLIGHT
TZOFFSETFROM:+0100
TZOFFSETTO:+0200
TZNAME:CEST
DTSTART:20260329T010000
END:DAYLIGHT
BEGIN:STANDARD
TZOFFSETFROM:+0200
TZOFFSETTO:+0100
TZNAME:CET
DTSTART:20261025T010000
END:STANDARD
BEGIN:DAYLIGHT
TZOFFSETFROM:+0100
TZOFFSETTO:+0200
TZNAME:CEST
DTSTART:20270328T010000
END:DAYLIGHT
BEGIN:STANDARD
TZOFFSETFROM:+0200
TZOFFSETTO:+0100
TZNAME:CET
DTSTART:20271031T010000
END:STANDARD
END:VTIMEZONE
BEGIN:VEVENT
DTSTART;VALUE=DATE:20260423
DTEND;VALUE=DATE:20260921
DTSTAMP:20260423T110907
CREATED:20260325T122422Z
LAST-MODIFIED:20260326T072358Z
UID:10012731-1776902400-1789948799@unsere-hafencity.de
SUMMARY:33. OPEN ART-Ausstellung im Überseequartier "Kanada-von Natur aus vielfältig"
DESCRIPTION:Sehnsuchtsland Kanada: Die 33. OPEN ART-Ausstellung im Überseequartier richtet ab dem 23. April 2026 unter dem Titel „Kanada – Von Natur aus vielfältig“ den Blick auf das zweitgrößte Land der Erde. \nNach der Ausstellung über Florida stellt das Überseequartier und der Reiseveranstalter CRD Touristik und Destination Canada 50 großformatige Aufnahmen von den zahlreichen Reisen des Hamburger Fotografen-Paares Krim Grüttner und Reinhard Prinzmeier aus: Insgesamt mehr als neun Monate waren sie in Kanada mit ihrem Camper Van unterwegs und zeigen eine Vielfalt von dem\, was das Land so anziehend macht. Sie nehmen die Betrachter mit in grandiose Landschaften\, zu wilden Tieren und zur indigenen Kultur der First Nations. Bis zum 20. September 2026 sind die Bilder und Geschichten rund um die Uhr kostenlos auf dem Überseeboulevard zugänglich. \nNach Ausstellungsende wird jede dieser 50 Originalfototafeln an Spender verschenkt\, die einen angemessenen Betrag an den gemeinnützigen Verein SPRACHBRÜCKE-HAMBURG e.V. gespendet haben. Details dazu finden sich ab Ausstellungsbeginn unter https://www.herumkommer.de/kanada/
URL:https://unsere-hafencity.de/event/33-open-art-ausstellung-im-ueberseequartier-kanada-von-natur-aus-vielfaeltig/
LOCATION:Überseeboulevard\, Überseeallee\, Hamburg\, Hamburg\, 20457
CATEGORIES:Ausstellung
ATTACH;FMTTYPE=application/pdf:https://unsere-hafencity.de/wp-content/uploads/2026/03/Emerald-Lake-Yoho-National-Park-British-Columbia-Web-C-Reinhard-Prinzmeier.pdf
END:VEVENT
BEGIN:VEVENT
DTSTART;TZID=Europe/Berlin:20260423T100000
DTEND;TZID=Europe/Berlin:20260423T110000
DTSTAMP:20260423T110907
CREATED:20260324T202946Z
LAST-MODIFIED:20260324T203209Z
UID:10012575-1776938400-1776942000@unsere-hafencity.de
SUMMARY:OMY! Soziales Yoga 60+
DESCRIPTION:Yoga geht immer und in jedem Alter\, auch bei Einschränkungen und kleiner Rente – Dafür steht OMY! Soziales Yoga 60+ und richtet sich als offenes Angebot an ältere Menschen mit geringem Einkommen.  \nDie Übungen im Sitzen oder Stehen stärken Ihren Körper auf sanfte Weise\, erhalten Ihre Beweglichkeit und dienen Ihrer Entspannung. Es sind keine Vorkenntnisse erforderlich. Das Angebot wird in Kooperation mit „Yoga für Alle e.V.“ realisiert. Der Verein setzt sich mit seinen sozialen Yoga-Angeboten dafür ein\, Teilhabe\, Prävention und Bewegung für alle zu ermöglichen. \n\nWann: Donnerstags\, 10:00-11:00 Uhr | 02.04.\, 09.04.\, 16.04.\, 23.04.\, 30.04.\, 07.05.\, 21.05.\, 04.06.\, 11.06.\, 18.06.\, 25.06.\nOrt: Gemeinschaftshaus Grasbrookpark\nTeilnehmende: max. 10 Teilnehmende\nAnmeldung: notwendig\nAngebotsleitung: Maximiliane Kultau\n\nZur Anmeldung unter: Anmeldungsformular für Programmplan 2026 Quartiersmanagement HafenCity – Formular ausfüllen oder per E-Mail an moin@unsere-hafencity.de
URL:https://unsere-hafencity.de/event/omy-soziales-yoga-60-2-2/2026-04-23/
LOCATION:Gemeinschaftshaus Grasbrook Park\, Gemeinschaftshaus Grasbrookpark\, Strandkai\, Hamburg\, 20457\, Germany
ATTACH;FMTTYPE=image/jpeg:https://unsere-hafencity.de/wp-content/uploads/2025/12/OMYSozialesYoga-HafenCity-e1774384173608.jpeg
END:VEVENT
BEGIN:VEVENT
DTSTART;TZID=Europe/Berlin:20260423T130000
DTEND;TZID=Europe/Berlin:20260423T140000
DTSTAMP:20260423T110907
CREATED:20260324T204502Z
LAST-MODIFIED:20260324T204502Z
UID:10012597-1776949200-1776952800@unsere-hafencity.de
SUMMARY:Telefonische Sprechzeit
DESCRIPTION:Du hast Anliegen\, Wünsche\, Anregungen\, Ideen für die HafenCity oder einfach eine Frage zu unseren Angeboten? \nDann melde dich gerne telefonisch in unserer Sprechzeit dienstags und donnerstags von 13:00 bis 14:00 Uhr unter 0160 97941743\, um dein Anliegen gemeinsam zu besprechen. \n\nWann: Dienstags und Donnerstags\, 13:00-14:00 Uhr (Feiertage ausgenommen)\nOrt: telefonisch unter: 0160 97941743\nAnmeldung: nicht notwendig\nAngebotsleitung: Quartiersmanagement HafenCity e.V.
URL:https://unsere-hafencity.de/event/telefonische-sprechzeit/2026-04-23/
ORGANIZER;CN="Quartiersmanagement HafenCity e.V.":MAILTO:kontakt@unsere-hafencity.de
END:VEVENT
BEGIN:VEVENT
DTSTART;TZID=Europe/Berlin:20260423T153000
DTEND;TZID=Europe/Berlin:20260423T163000
DTSTAMP:20260423T110907
CREATED:20260324T195856Z
LAST-MODIFIED:20260327T091806Z
UID:10012546-1776958200-1776961800@unsere-hafencity.de
SUMMARY:Eltern-Kind-Musikkurs (0-3 Jahre)
DESCRIPTION:Mit Instrumenten\, Tänzen und Bewegungsspielen sammeln Kinder und Eltern gemeinsam und spielerisch musikalische Erfahrungen. \nDieser Kurs vermittelt Spaß an Musik und fördert gleichzeitig die motorische\, emotionale und sprachliche Entwicklung der Kinder. Der Kurs läuft über ein Quartal. Die Teilnehmende wechseln jeweils nach. Ablauf des Quartals. Anmeldungen von Personen\, die bisher noch nicht teilgenommen haben\, werden bevorzugt berücksichtigt. \n\nWann: Donnerstags\, 15:30-16:30 Uhr (außer in den Hamburger Ferien)\nOrt: Gemeinschaftshaus Grasbrookpark\nTeilnehmende: Max. 10 Kinder ab 6 Monaten mit einer Begleitperson\nAnmeldung: Alle Kursplätze sind belegt\, Warteliste geschlossen.\nAngebotsleitung: Staatliche Jugendmusikschule Hamburg (Johanna Balks)\n\nAlle Kursplätze sind belegt\, Warteliste geschlossen
URL:https://unsere-hafencity.de/event/eltern-kind-musikkurs-2/2026-04-23/
LOCATION:Gemeinschaftshaus Grasbrook Park\, Gemeinschaftshaus Grasbrookpark\, Strandkai\, Hamburg\, 20457\, Germany
CATEGORIES:Kinder
END:VEVENT
BEGIN:VEVENT
DTSTART;TZID=Europe/Berlin:20260423T163000
DTEND;TZID=Europe/Berlin:20260423T173000
DTSTAMP:20260423T110907
CREATED:20251216T084645Z
LAST-MODIFIED:20260327T101734Z
UID:10012423-1776961800-1776965400@unsere-hafencity.de
SUMMARY:Musikalische Früherziehung (4-6 Jahre)
DESCRIPTION:Die musikalische Früherziehung ermöglicht den Kindern\, durch Bewegung\, Singen und Instrumentenspiel Musik zu erleben. \nWir fördern beim frühen Umgang mit Musik die Sprachentwicklung\, Wahrnehmungsfähigkeit und Persönlichkeit der Kinder. Gleichzeitig fördert die Gruppe Selbstvertrauen und Neugier. \nDer Kurs läuft über ein Quartal. Die Teilnehmende wechseln jeweils nach Ablauf des Quartals. Anmeldungen von Personen\, die bisher noch nicht teilgenommen haben\, werden bevorzugt berücksichtigt. \n\nWann: Donnerstags\, 16:30-17:30 Uhr\nOrt: Gemeinschaftshaus Grasbrookpark\nTeilnehmende: Max. 14 Kinder\nAnmeldung: notwendig\nAngebotsleitung: Staatliche Jugendmusikschule Hamburg (Johanna Balks)\n\nAlle Kursplätze sind belegt – Wartelist ist aktiv  \nZur Anmeldung unter: Anmeldungsformular für Programmplan 2026 – Q2 Quartiersmanagement HafenCity  – Formular ausfüllen  oder eine E-Mail an moin@unsere-hafencity.de \n 
URL:https://unsere-hafencity.de/event/musikalische-frueherziehung-4-6-jahre/2026-04-23/
LOCATION:Gemeinschaftshaus Grasbrook Park\, Gemeinschaftshaus Grasbrookpark\, Strandkai\, Hamburg\, 20457\, Germany
END:VEVENT
BEGIN:VEVENT
DTSTART;TZID=Europe/Berlin:20260423T170000
DTEND;TZID=Europe/Berlin:20260423T190000
DTSTAMP:20260423T110907
CREATED:20260324T203925Z
LAST-MODIFIED:20260324T203925Z
UID:10012588-1776963600-1776970800@unsere-hafencity.de
SUMMARY:Streitmobil
DESCRIPTION:Ohne eine kritische Auseinandersetzung mit den Standpunkten und Bedürfnissen anderer funktionieren keine Familie\, keine Freundschaft und schon gar kein friedliches Gemeinwesen.  \nIm Streitmobil treffen wir uns in einem Raum\, jenseits von richtig oder falsch und lernen gewaltfreie Kommunikation kennen. Das Angebot richtet sich an Menschen\, die in alltäglichen Situationen Unterstützung im Umgang mit Konflikten oder in ihrer Kommunikation suchen. Das Streitmobil ist ein niedrigschwelliges\, aufsuchendes Impulsangebot. \n\nWann: Donnerstag\, 17:00-19:00 Uhr\nOrt: 23.04. (Grasbrookpark)\, 28.05. (Grasbrookpark)\, 25.06. (Lola-Rogge-Platz)\nTeilnehmer: Offen für alle Interessierten\nEintritt: Frei\nKontakt: Katja Kaiser\n\nZur Anmeldung unter: Anmeldungsformular für Programmplan 2026 Quartiersmanagement HafenCity – Formular ausfüllen oder per E-Mail an moin@unsere-hafencity.de
URL:https://unsere-hafencity.de/event/streitmobil-3/2026-04-23/
LOCATION:lola-Rogge-platz\, Lola-Rogge-Platz\, Hamburg\, 20457
ATTACH;FMTTYPE=image/jpeg:https://unsere-hafencity.de/wp-content/uploads/2025/07/Streitmobil.jpeg
END:VEVENT
BEGIN:VEVENT
DTSTART;TZID=Europe/Berlin:20260423T190000
DTEND;TZID=Europe/Berlin:20260423T220000
DTSTAMP:20260423T110907
CREATED:20260401T095153Z
LAST-MODIFIED:20260401T095153Z
UID:10003920-1776970800-1776981600@unsere-hafencity.de
SUMMARY:QUARTERPIPE BAR x BREITE KNEIPE
DESCRIPTION:Donnerstag ist Bar-Tag in der Quarterpipe! Wenn keine Parallelveranstaltung läuft\, öffnen wir ab 19 Uhr die Türen und laden euch ein\, den Abend in entspannter Runde zu verbringen. Freut euch auf kühle Drinks (gegen Spende)\, gute Gesellschaft und eine lockere Atmosphäre. Nebenbei könnt ihr beim Kickern oder einer Runde Tischtennis euer Können zeigen – oder einfach gemütlich zusammen sitzen und den Abend genießen. \nHinweis zur Breiten Kneipe: \nAn diesem Abend ist die Breite Kneipe bei uns zu Gast. Sie findet einmal im Monat (jeden 4. Donnerstag) an wechselnden Orten statt und ist ein Soli-Projekt für Gefangene – insbesondere Anarchis*tinnen und Antifaschist*innen. Seit über 10 Jahren schafft die Breite Kneipe Räume für Austausch und soziales Zusammenkommen und bringt das Thema Knast und Gefangenschaft in unterschiedliche Kontexte. Wie bei uns gilt auch dort: Die Getränke gibt es auf Spendenbasis. \nAlle sind willkommen – wir freuen uns auf euch!
URL:https://unsere-hafencity.de/event/offener-nachbarschaftstreff-quarterpipe-bar-2/
LOCATION:QUARTERPIPE\, Versmannstrasse 66 (Zugang über Versmannkai)\, Hamburg\, Hamburg\, 20457\, Germany
ATTACH;FMTTYPE=image/png:https://unsere-hafencity.de/wp-content/uploads/2025/08/QP.png
END:VEVENT
END:VCALENDAR