BEGIN:VCALENDAR
VERSION:2.0
PRODID:-//unsere-hafencity - ECPv6.15.20//NONSGML v1.0//EN
CALSCALE:GREGORIAN
METHOD:PUBLISH
X-WR-CALNAME:unsere-hafencity
X-ORIGINAL-URL:https://unsere-hafencity.de
X-WR-CALDESC:Veranstaltungen für unsere-hafencity
REFRESH-INTERVAL;VALUE=DURATION:PT1H
X-Robots-Tag:noindex
X-PUBLISHED-TTL:PT1H
BEGIN:VTIMEZONE
TZID:Europe/Berlin
BEGIN:DAYLIGHT
TZOFFSETFROM:+0100
TZOFFSETTO:+0200
TZNAME:CEST
DTSTART:20250330T010000
END:DAYLIGHT
BEGIN:STANDARD
TZOFFSETFROM:+0200
TZOFFSETTO:+0100
TZNAME:CET
DTSTART:20251026T010000
END:STANDARD
BEGIN:DAYLIGHT
TZOFFSETFROM:+0100
TZOFFSETTO:+0200
TZNAME:CEST
DTSTART:20260329T010000
END:DAYLIGHT
BEGIN:STANDARD
TZOFFSETFROM:+0200
TZOFFSETTO:+0100
TZNAME:CET
DTSTART:20261025T010000
END:STANDARD
BEGIN:DAYLIGHT
TZOFFSETFROM:+0100
TZOFFSETTO:+0200
TZNAME:CEST
DTSTART:20270328T010000
END:DAYLIGHT
BEGIN:STANDARD
TZOFFSETFROM:+0200
TZOFFSETTO:+0100
TZNAME:CET
DTSTART:20271031T010000
END:STANDARD
END:VTIMEZONE
BEGIN:VEVENT
DTSTART;VALUE=DATE:20260423
DTEND;VALUE=DATE:20260921
DTSTAMP:20260426T005500
CREATED:20260325T122422Z
LAST-MODIFIED:20260326T072358Z
UID:10012731-1776902400-1789948799@unsere-hafencity.de
SUMMARY:33. OPEN ART-Ausstellung im Überseequartier "Kanada-von Natur aus vielfältig"
DESCRIPTION:Sehnsuchtsland Kanada: Die 33. OPEN ART-Ausstellung im Überseequartier richtet ab dem 23. April 2026 unter dem Titel „Kanada – Von Natur aus vielfältig“ den Blick auf das zweitgrößte Land der Erde. \nNach der Ausstellung über Florida stellt das Überseequartier und der Reiseveranstalter CRD Touristik und Destination Canada 50 großformatige Aufnahmen von den zahlreichen Reisen des Hamburger Fotografen-Paares Krim Grüttner und Reinhard Prinzmeier aus: Insgesamt mehr als neun Monate waren sie in Kanada mit ihrem Camper Van unterwegs und zeigen eine Vielfalt von dem\, was das Land so anziehend macht. Sie nehmen die Betrachter mit in grandiose Landschaften\, zu wilden Tieren und zur indigenen Kultur der First Nations. Bis zum 20. September 2026 sind die Bilder und Geschichten rund um die Uhr kostenlos auf dem Überseeboulevard zugänglich. \nNach Ausstellungsende wird jede dieser 50 Originalfototafeln an Spender verschenkt\, die einen angemessenen Betrag an den gemeinnützigen Verein SPRACHBRÜCKE-HAMBURG e.V. gespendet haben. Details dazu finden sich ab Ausstellungsbeginn unter https://www.herumkommer.de/kanada/
URL:https://unsere-hafencity.de/event/33-open-art-ausstellung-im-ueberseequartier-kanada-von-natur-aus-vielfaeltig/
LOCATION:Überseeboulevard\, Überseeallee\, Hamburg\, Hamburg\, 20457
CATEGORIES:Ausstellung
ATTACH;FMTTYPE=application/pdf:https://unsere-hafencity.de/wp-content/uploads/2026/03/Emerald-Lake-Yoho-National-Park-British-Columbia-Web-C-Reinhard-Prinzmeier.pdf
END:VEVENT
BEGIN:VEVENT
DTSTART;TZID=Europe/Berlin:20260426T110000
DTEND;TZID=Europe/Berlin:20260426T180000
DTSTAMP:20260426T005500
CREATED:20260314T100301Z
LAST-MODIFIED:20260314T100301Z
UID:10012038-1777201200-1777226400@unsere-hafencity.de
SUMMARY:Frühlingsmarkt im Marktplatz der Manufakturen in der HafenCity
DESCRIPTION:Am letzten Aprilwochenende verwandelt sich der Marktplatz der Manufakturen wieder in einen lebendigen Treffpunkt für Design\, Kunsthandwerk und Kulinarik. Der Frühlingsmarkt lädt Besucherinnen und Besucher dazu ein\, neue kreative Produkte zu entdecken\, regionale Spezialitäten zu probieren und die besondere Atmosphäre des Quartiers zu genießen. \nVeranstaltung auf einen Blick\n\nWas: Frühlingsmarkt im Marktplatz der Manufakturen – Food- und Designmarkt mit über 50 Ausstellern\nWann: 25. & 26. April 2026 | jeweils 11:00–18:00 Uhr\nWo: Marktplatz der Manufakturen\, Versmannstraße 42\, 20457 Hamburg (HafenCity)\nEintritt: Kostenfrei\nAnmeldung: Nicht erforderlich\, Infos zum Marktplatz der Manufakturen\n\nMehr als 50 Aussteller präsentieren an beiden Tagen handgefertigtes Kunsthandwerk\, Designprodukte und kulinarische Köstlichkeiten. Von individuellen Unikaten über kreative Frühlingsideen bis hin zu feinen Spezialitäten gibt es zahlreiche Stände zu entdecken. Der Markt bietet damit eine abwechslungsreiche Mischung aus Designmarkt\, Genussangeboten und entspanntem Bummeln. \nDer Marktplatz der Manufakturen in der Versmannstraße wird an diesem Wochenende zu einem offenen Treffpunkt für alle\, die sich für Kreativität\, Handwerk und regionale Produkte interessieren. \nQR-Code für den Frühlinsmarkt auf dem Marktplatz der Manufakturen – scannen & speichern!
URL:https://unsere-hafencity.de/event/fruehlingsmarkt-im-marktplatz-der-manufakturen-in-der-hafencity/2026-04-26/
LOCATION:Marktplatz der Manufakturen\, Versmannstraße 42\, Hamburg\, 20457
CATEGORIES:Design,Kunst
ATTACH;FMTTYPE=image/png:https://unsere-hafencity.de/wp-content/uploads/2026/03/flyerfruehlingsmarktneu-Marktplatz-der-Manufakturen.png
END:VEVENT
BEGIN:VEVENT
DTSTART;TZID=Europe/Berlin:20260426T190000
DTEND;TZID=Europe/Berlin:20260426T200000
DTSTAMP:20260426T005500
CREATED:20260424T070913Z
LAST-MODIFIED:20260424T070913Z
UID:10013433-1777230000-1777233600@unsere-hafencity.de
SUMMARY:Outdoor Gruppen Training
DESCRIPTION:Outdoor Training mit Grow & Move\nKein Fitnessstudio\, keine vier Wände – nur du\, die frische Luft und ein Training\, das wirklich etwas bewegt. Das Outdoor Training von Grow & Move findet direkt an der Promenade Kirchenpauerkai statt und macht die HafenCity zur Trainingsfläche. Trainiert wird mit dem eigenen Körpergewicht und funktionellem Equipment – effektiv\, abwechslungsreich und für alle Fitnesslevel geeignet. Die Einheiten finden montags von 19–20 Uhr und donnerstags von 18:30–19:30 Uhr statt. Eine Anmeldung ist erforderlich\, Einzeltermine sind möglich. Anmeldung und weitere Infos unter growandmove.de.
URL:https://unsere-hafencity.de/event/outdoor-gruppen-training/2026-04-26/
LOCATION:Promenade\, Kirchenpauerkai Promenade\, Hamburg\, 20457\, Germany
CATEGORIES:Sport
ATTACH;FMTTYPE=image/png:https://unsere-hafencity.de/wp-content/uploads/2026/04/Bildschirmfoto-2026-04-23-um-23.10.38.png
END:VEVENT
END:VCALENDAR