BEGIN:VCALENDAR
VERSION:2.0
PRODID:-//unsere-hafencity - ECPv6.15.20//NONSGML v1.0//EN
CALSCALE:GREGORIAN
METHOD:PUBLISH
X-ORIGINAL-URL:https://unsere-hafencity.de
X-WR-CALDESC:Veranstaltungen für unsere-hafencity
REFRESH-INTERVAL;VALUE=DURATION:PT1H
X-Robots-Tag:noindex
X-PUBLISHED-TTL:PT1H
BEGIN:VTIMEZONE
TZID:Europe/Berlin
BEGIN:DAYLIGHT
TZOFFSETFROM:+0100
TZOFFSETTO:+0200
TZNAME:CEST
DTSTART:20250330T010000
END:DAYLIGHT
BEGIN:STANDARD
TZOFFSETFROM:+0200
TZOFFSETTO:+0100
TZNAME:CET
DTSTART:20251026T010000
END:STANDARD
BEGIN:DAYLIGHT
TZOFFSETFROM:+0100
TZOFFSETTO:+0200
TZNAME:CEST
DTSTART:20260329T010000
END:DAYLIGHT
BEGIN:STANDARD
TZOFFSETFROM:+0200
TZOFFSETTO:+0100
TZNAME:CET
DTSTART:20261025T010000
END:STANDARD
BEGIN:DAYLIGHT
TZOFFSETFROM:+0100
TZOFFSETTO:+0200
TZNAME:CEST
DTSTART:20270328T010000
END:DAYLIGHT
BEGIN:STANDARD
TZOFFSETFROM:+0200
TZOFFSETTO:+0100
TZNAME:CET
DTSTART:20271031T010000
END:STANDARD
END:VTIMEZONE
BEGIN:VEVENT
DTSTART;VALUE=DATE:20260423
DTEND;VALUE=DATE:20260921
DTSTAMP:20260422T194733
CREATED:20260325T122422Z
LAST-MODIFIED:20260326T072358Z
UID:10012731-1776902400-1789948799@unsere-hafencity.de
SUMMARY:33. OPEN ART-Ausstellung im Überseequartier "Kanada-von Natur aus vielfältig"
DESCRIPTION:Sehnsuchtsland Kanada: Die 33. OPEN ART-Ausstellung im Überseequartier richtet ab dem 23. April 2026 unter dem Titel „Kanada – Von Natur aus vielfältig“ den Blick auf das zweitgrößte Land der Erde. \nNach der Ausstellung über Florida stellt das Überseequartier und der Reiseveranstalter CRD Touristik und Destination Canada 50 großformatige Aufnahmen von den zahlreichen Reisen des Hamburger Fotografen-Paares Krim Grüttner und Reinhard Prinzmeier aus: Insgesamt mehr als neun Monate waren sie in Kanada mit ihrem Camper Van unterwegs und zeigen eine Vielfalt von dem\, was das Land so anziehend macht. Sie nehmen die Betrachter mit in grandiose Landschaften\, zu wilden Tieren und zur indigenen Kultur der First Nations. Bis zum 20. September 2026 sind die Bilder und Geschichten rund um die Uhr kostenlos auf dem Überseeboulevard zugänglich. \nNach Ausstellungsende wird jede dieser 50 Originalfototafeln an Spender verschenkt\, die einen angemessenen Betrag an den gemeinnützigen Verein SPRACHBRÜCKE-HAMBURG e.V. gespendet haben. Details dazu finden sich ab Ausstellungsbeginn unter https://www.herumkommer.de/kanada/
URL:https://unsere-hafencity.de/event/33-open-art-ausstellung-im-ueberseequartier-kanada-von-natur-aus-vielfaeltig/
LOCATION:Überseeboulevard\, Überseeallee\, Hamburg\, Hamburg\, 20457
CATEGORIES:Ausstellung
ATTACH;FMTTYPE=application/pdf:https://unsere-hafencity.de/wp-content/uploads/2026/03/Emerald-Lake-Yoho-National-Park-British-Columbia-Web-C-Reinhard-Prinzmeier.pdf
END:VEVENT
BEGIN:VEVENT
DTSTART;TZID=Europe/Berlin:20260429T100000
DTEND;TZID=Europe/Berlin:20260429T110000
DTSTAMP:20260422T194733
CREATED:20260324T195208Z
LAST-MODIFIED:20260401T122501Z
UID:10012469-1777456800-1777460400@unsere-hafencity.de
SUMMARY:Mütterberatung inkl. Krabbelgruppe (Babys)
DESCRIPTION:Die Mütterberatung bietet Unterstützung bei vielen Fragen rund ums Baby oder Kleinkind.  \nEine erfahrene Kinderkrankenschwester berät zu Themen wie Pflege und Entwicklung Deines Kindes\, Stillen\, Ernährung sowie Informationen über empfohlene Impfungen. Während des Kurses besteht außerdem die Möglichkeit\, Dein Kind wiegen und messen zu lassen. \nAuch bei Fragen oder Sorgen – etwa wenn Dein Baby viel weint oder nachts unruhig schläft – erhältst Du Unterstützung. \nParallel zur Beratung findet ein Eltern-Treff mit Krabbelgruppe statt\, sodass Du die Gelegenheit hast\, Dich mit anderen Eltern auszutauschen. \n\nWann: Mittwoch\,\n\n10:00-11:00 Uhr (Babys)\n11:00-12:00 Uhr (Kleinkinder)\n\n\nTeilnehmer: Offen für alle interessierten Eltern\nAnmeldung: Nicht notwendig\nKursleitung: Sonja Snow
URL:https://unsere-hafencity.de/event/muetterberatung-inkl-krabbelgruppe-babys-2-2/2026-04-29/
LOCATION:Gemeinschaftshaus Grasbrook Park\, Gemeinschaftshaus Grasbrookpark\, Strandkai\, Hamburg\, 20457\, Germany
ATTACH;FMTTYPE=image/jpeg:https://unsere-hafencity.de/wp-content/uploads/2025/07/cute-babies-with-their-parents-2023-11-27-05-08-07-utc-scaled.jpg
END:VEVENT
BEGIN:VEVENT
DTSTART;TZID=Europe/Berlin:20260429T110000
DTEND;TZID=Europe/Berlin:20260429T120000
DTSTAMP:20260422T194733
CREATED:20260324T195517Z
LAST-MODIFIED:20260327T120901Z
UID:10012482-1777460400-1777464000@unsere-hafencity.de
SUMMARY:Mütterberatung inkl. Krabbelgruppe (Kleinkinder)
DESCRIPTION:Die Mütterberatung bietet Unterstützung bei vielen Fragen rund ums Kleinkind.  \nEine erfahrene Kinderkrankenschwester berät zu Themen wie Pflege und Entwicklung Deines Kindes\, Stillen\, Ernährung sowie Informationen über empfohlene Impfungen. Während des Kurses besteht außerdem die Möglichkeit\, Dein Kind wiegen und messen zu lassen. \nAuch bei Fragen oder Sorgen – etwa wenn Dein Baby viel weint oder nachts unruhig schläft – erhältst Du Unterstützung. \nParallel zur Beratung findet ein Eltern-Treff mit Krabbelgruppe statt\, sodass Du die Gelegenheit hast\, Dich mit anderen Eltern auszutauschen. \n\nWann: Mittwoch\,\n10:00-11:00 Uhr (Babys)\n11:00-12:00 Uhr (Kleinkinder)\nTeilnehmer: Offen für alle interessierten Eltern\nAnmeldung: nicht notwendig\nKursleitung: Sonja Snow\n\n 
URL:https://unsere-hafencity.de/event/muetterberatung-inkl-krabbelgruppe-kleinkinder-2-2/2026-04-29/
LOCATION:Gemeinschaftshaus Grasbrook Park\, Gemeinschaftshaus Grasbrookpark\, Strandkai\, Hamburg\, 20457\, Germany
CATEGORIES:Kinder
ATTACH;FMTTYPE=image/jpeg:https://unsere-hafencity.de/wp-content/uploads/2025/07/Muetterberatung-HafenCity-Kleinkinder-e1753087294492.jpg
END:VEVENT
BEGIN:VEVENT
DTSTART;TZID=Europe/Berlin:20260429T110000
DTEND;TZID=Europe/Berlin:20260429T200000
DTSTAMP:20260422T194733
CREATED:20260408T121752Z
LAST-MODIFIED:20260408T121752Z
UID:10013156-1777460400-1777492800@unsere-hafencity.de
SUMMARY:Schlagzeugunterricht
DESCRIPTION:Es groovt mitten in der Hafencity! In der neuen Groovedock- Schlagzeugschule Hafencity erwartet dich moderner\, professioneller Schlagzeugunterricht für alle\, in einem top ausgestatteten\, hellen Raum direkt am Baakenhafen. \nDie Groovedock- Schlagzeugschule verbindet moderne\, musikpädagogische Konzepte mit viel Spielfreude am Instrument und eine hochprofessionelle Ausstattung mit einer gemütlichen\, freundlichen Atmosphäre. Erhalte Unterricht direkt beim Profi- Musiker\, Tour- und Studioschlagzeuger und #1- Artist. Immer Montags und Mittwochs zwischen 11:00 und 20:00 Uhr im Marktplatz der Manufakturen. Termine nach Vereinbarung. Leg an\, groove los!
URL:https://unsere-hafencity.de/event/schlagzeugunterricht/2026-04-29/
LOCATION:Marktplatz der Manufakturen\, Versmannstraße 42\, Hamburg\, 20457
CATEGORIES:Musik
ATTACH;FMTTYPE=image/jpeg:https://unsere-hafencity.de/wp-content/uploads/2026/04/IMG_5405-5-scaled.jpg
END:VEVENT
BEGIN:VEVENT
DTSTART;TZID=Europe/Berlin:20260429T180000
DTEND;TZID=Europe/Berlin:20260429T200000
DTSTAMP:20260422T194733
CREATED:20260122T105258Z
LAST-MODIFIED:20260122T105258Z
UID:10010699-1777485600-1777492800@unsere-hafencity.de
SUMMARY:Breaking mit Cemino
DESCRIPTION:Der Breaking Kurs mit Cemino startet endlich bei Lukulule.\nEuch erwarten solide Breaking Basics\, weiterführende Schritte und vor allem der Fokus auf Tanz\, Bewegung und Gesundheit. Gemeinsam entwickeln wir Groove\, Technik und Ausdruck\, unabhängig davon\, wo ihr gerade steht. \nDer Kurs ist offen für alle Levels und jedes Alter. Egal ob Anfänger oder mit Vorerfahrung\, ihr seid herzlich willkommen. \nIch freue mich darauf\, mit euch zu tanzen und gemeinsam zu wachsen. \nBis bald bei Lukulule\nEuer Cemino ✌️
URL:https://unsere-hafencity.de/event/breaking-mit-cemino/2026-04-29/
LOCATION:Lukulule e.V.\, Stockmeyerstraße 41 Halle 4i\, Hamburg\, 20457\, Germany
ATTACH;FMTTYPE=image/jpeg:https://unsere-hafencity.de/wp-content/uploads/2026/01/Flyer_Braking_DIN-Lang_low.jpg
ORGANIZER;CN="Lukulule e.V.":MAILTO:info(at)lukulule(dot)de
END:VEVENT
BEGIN:VEVENT
DTSTART;TZID=Europe/Berlin:20260429T183000
DTEND;TZID=Europe/Berlin:20260429T200000
DTSTAMP:20260422T194733
CREATED:20250924T080235Z
LAST-MODIFIED:20250924T080235Z
UID:10005594-1777487400-1777492800@unsere-hafencity.de
SUMMARY:Treffen der AG Kultur des Netzwerk HafenCity e.V.
DESCRIPTION:Bei den monatlichen Treffen der AG Kultur/Arbeitsgruppe Kultur\, kommen interessierte Anwohner und Anwohnerinnen zusammen\, um sich über gesellschaftlich-kulturelle Themen in der gesamten HafenCity auszutauschen. Es gilt zu erörtern\, was kulturelle Angebote\, Wünsche sowie Begegnungs- und Auftrittsorte für die Nachbarschaft im Quartier sein und wie das jeweils gefördert werden könnte.  \nDer Abend wird von der Arbeitsgruppe Kultur des Netzwerks HafenCity e. V. organisiert. Es ist jedoch ausdrücklich erwünscht\, dass die Treffen offen für alle Bewohner und Bewohnerinnen des Stadtteils sind. Man muss für die Treffen nicht Mitglied im Netzwerk HafenCity e. V. sein. \n\nWann: Letzter Mittwoch oder Montag im Monat\, 18:30 Uhr\nTermine: 29.10.\, 24.11.\nTeilnehmer: Offen für alle Interessierten\nEintritt: Frei\nKontakt: Wolfgang Timpe\n\nZur Anmeldung unter: unsere-hafencity.de oder per E-Mail an moin@unsere-hafencity.de
URL:https://unsere-hafencity.de/event/treffen-der-ag-kultur-des-netzwerk-hafencity-e-v-2/2026-04-29/
LOCATION:Gemeinschaftshaus Grasbrook Park\, Gemeinschaftshaus Grasbrookpark\, Strandkai\, Hamburg\, 20457\, Germany
ATTACH;FMTTYPE=image/jpeg:https://unsere-hafencity.de/wp-content/uploads/2025/03/people-in-circle-holding-hands-together.jpeg
END:VEVENT
BEGIN:VEVENT
DTSTART;TZID=Europe/Berlin:20260429T183000
DTEND;TZID=Europe/Berlin:20260429T200000
DTSTAMP:20260422T194733
CREATED:20260324T200849Z
LAST-MODIFIED:20260324T200849Z
UID:10012560-1777487400-1777492800@unsere-hafencity.de
SUMMARY:Lauftreff
DESCRIPTION:Du möchtest (wieder) ins Laufen kommen oder nicht allein trainieren? Unser Lauftreff richtet sich an alle\, die in netter Gesellschaft ihre Ausdauer verbessern möchten. Das Schnupperangebot ist eine Kooperation mit dem SV Baakenhafen. \nDie Dauer beträgt ca. 75–90 Minuten: Wir starten mit einem kurzen Warm-up\, laufen anschließend 8–10 km in einem angenehmen Tempo und beenden das Training mit Cool Down und Stretching. Das Tempo passen wir natürlich an die Gruppe an. Komm vorbei und lauf mit – wir freuen uns auf dich! \n\nWann: Mittwochs\, 18:30 Uhr\nTermine: 01.04.\, 08.04.\, 15.04.\, 22.04.\, 29.04.\, 06.05.\, 13.05.\, 20.05.\nOrt: Treffpunkt: Gretchen-Wohlwill-Platz\nAnmeldung: Keine Anmeldung notwendig\nAngebotsleitung: Lennart Harnischfeger\n\n 
URL:https://unsere-hafencity.de/event/lauftreff/2026-04-29/
LOCATION:Gretchen-Wohlwill-Platz\, Gretchen-Wohlwill-Platz\, Hamburg\, 20457
CATEGORIES:Sport
ATTACH;FMTTYPE=image/jpeg:https://unsere-hafencity.de/wp-content/uploads/2026/03/Lauftreff-QM-HafenCity-Q2-e1774382913408.jpeg
END:VEVENT
BEGIN:VEVENT
DTSTART;TZID=Europe/Berlin:20260429T183000
DTEND;TZID=Europe/Berlin:20260429T203000
DTSTAMP:20260422T194733
CREATED:20260324T202216Z
LAST-MODIFIED:20260327T090619Z
UID:10012569-1777487400-1777494600@unsere-hafencity.de
SUMMARY:Kreativ-Workshop
DESCRIPTION:Bei unserem Kreativ-Workshop erwartet Dich jeden Monat ein neues\, inspirierendes Thema. Gemeinsam gestalten und ausprobieren in netter Runde\, mit viel Raum für deine eigene Kreativität.  \nKomm vorbei und nimm nicht nur ein Kunstwerk\, sondern auch neue Impulse mit nach Hause. \n\nWann: Letzter Mittwoch im Monat\, 18:30-20:30 Uhr | 29.04.\, 27.05.\, 24.06.\nOrt: Gemeinschaftshaus Grasbrookpark\nTeilnehmende: Max. 12 Personen\nAnmeldung: notwendig\, für jeweils einen Termin\nAngebotsleitung: Lana Solms\n\nZur Anmeldung unter: Anmeldungsformular für Programmplan 2026 – Q2 Quartiersmanagement HafenCity  – Formular ausfüllen  oder eine E-Mail an moin@unsere-hafencity.de \nApril: Zeit für Kunst – Kreative Wanduhren gestalten\nIn diesem Workshop gestaltest Du deine eigene Wanduhr – modern\, persönlich und genau so\, wie sie zu dir passt. Nach einer kurzen Einführung in Farben\, Formen und Maltechniken entwickelst Du dein individuelles Design. In entspannter Atmosphäre wirst Du während des gesamten Kurses kreativ begleitet und bekommst Inspiration und Tipps. Zum Schluss kommt die Batterie rein – und fertig ist deine selbst designte Uhr. Ein echtes Unikat für deine Wand! \nMai: Collage – cut\, glue\, create!\nWillkommen zu einem entspannten Abend voller Kreativität und Ausdruck! Collage (vom französischen coller = kleben) wurde von Künstlern wie Braque & Picasso gefeiert – und begeistert bis heute mit mutigen Mix aus Bild\, Text & Idee. Ob Vision Board\, Popkultur- Reflexion oder einfach nur zum Spaß – hier kannst du dich kreativ austoben! Du bekommst eine Leinwandplatte und jede Menge Material: Magazine\, Bücher\, Farben\, Pinsel\, Scheren\, Kleber – alles wird da sein. Komm vorbei und collage los! \nJuni: Paint Your Tote Bag\nIn diesem kreativen Workshop verwandelst Du eine schlichte Stofftasche in dein eigenes\, farbenfrohes Unikat. Wir stellen dir bunte Textilfarben & coole Schablonen zur Verfügung – Du bringst deine Kreativität mit. Egal ob Anfänger:in oder Profi: Hier zählt dein Stil! Am Ende nimmst Du eine selbst gestaltete Tote Bag mit nach Hause – praktisch\, einzigartig und absolut Du.
URL:https://unsere-hafencity.de/event/kreativ-workshop-2-2/2026-04-29/
LOCATION:Gemeinschaftshaus Grasbrook Park\, Gemeinschaftshaus Grasbrookpark\, Strandkai\, Hamburg\, 20457\, Germany
ATTACH;FMTTYPE=image/jpeg:https://unsere-hafencity.de/wp-content/uploads/2025/12/Kreativ-Workshop-HafenCity-e1765731235609.jpeg
END:VEVENT
END:VCALENDAR