BEGIN:VCALENDAR
VERSION:2.0
PRODID:-//unsere-hafencity - ECPv6.15.20//NONSGML v1.0//EN
CALSCALE:GREGORIAN
METHOD:PUBLISH
X-ORIGINAL-URL:https://unsere-hafencity.de
X-WR-CALDESC:Veranstaltungen für unsere-hafencity
REFRESH-INTERVAL;VALUE=DURATION:PT1H
X-Robots-Tag:noindex
X-PUBLISHED-TTL:PT1H
BEGIN:VTIMEZONE
TZID:Europe/Berlin
BEGIN:DAYLIGHT
TZOFFSETFROM:+0100
TZOFFSETTO:+0200
TZNAME:CEST
DTSTART:20250330T010000
END:DAYLIGHT
BEGIN:STANDARD
TZOFFSETFROM:+0200
TZOFFSETTO:+0100
TZNAME:CET
DTSTART:20251026T010000
END:STANDARD
BEGIN:DAYLIGHT
TZOFFSETFROM:+0100
TZOFFSETTO:+0200
TZNAME:CEST
DTSTART:20260329T010000
END:DAYLIGHT
BEGIN:STANDARD
TZOFFSETFROM:+0200
TZOFFSETTO:+0100
TZNAME:CET
DTSTART:20261025T010000
END:STANDARD
BEGIN:DAYLIGHT
TZOFFSETFROM:+0100
TZOFFSETTO:+0200
TZNAME:CEST
DTSTART:20270328T010000
END:DAYLIGHT
BEGIN:STANDARD
TZOFFSETFROM:+0200
TZOFFSETTO:+0100
TZNAME:CET
DTSTART:20271031T010000
END:STANDARD
END:VTIMEZONE
BEGIN:VEVENT
DTSTART;VALUE=DATE:20260423
DTEND;VALUE=DATE:20260921
DTSTAMP:20260422T151938
CREATED:20260325T122422Z
LAST-MODIFIED:20260326T072358Z
UID:10012731-1776902400-1789948799@unsere-hafencity.de
SUMMARY:33. OPEN ART-Ausstellung im Überseequartier "Kanada-von Natur aus vielfältig"
DESCRIPTION:Sehnsuchtsland Kanada: Die 33. OPEN ART-Ausstellung im Überseequartier richtet ab dem 23. April 2026 unter dem Titel „Kanada – Von Natur aus vielfältig“ den Blick auf das zweitgrößte Land der Erde. \nNach der Ausstellung über Florida stellt das Überseequartier und der Reiseveranstalter CRD Touristik und Destination Canada 50 großformatige Aufnahmen von den zahlreichen Reisen des Hamburger Fotografen-Paares Krim Grüttner und Reinhard Prinzmeier aus: Insgesamt mehr als neun Monate waren sie in Kanada mit ihrem Camper Van unterwegs und zeigen eine Vielfalt von dem\, was das Land so anziehend macht. Sie nehmen die Betrachter mit in grandiose Landschaften\, zu wilden Tieren und zur indigenen Kultur der First Nations. Bis zum 20. September 2026 sind die Bilder und Geschichten rund um die Uhr kostenlos auf dem Überseeboulevard zugänglich. \nNach Ausstellungsende wird jede dieser 50 Originalfototafeln an Spender verschenkt\, die einen angemessenen Betrag an den gemeinnützigen Verein SPRACHBRÜCKE-HAMBURG e.V. gespendet haben. Details dazu finden sich ab Ausstellungsbeginn unter https://www.herumkommer.de/kanada/
URL:https://unsere-hafencity.de/event/33-open-art-ausstellung-im-ueberseequartier-kanada-von-natur-aus-vielfaeltig/
LOCATION:Überseeboulevard\, Überseeallee\, Hamburg\, Hamburg\, 20457
CATEGORIES:Ausstellung
ATTACH;FMTTYPE=application/pdf:https://unsere-hafencity.de/wp-content/uploads/2026/03/Emerald-Lake-Yoho-National-Park-British-Columbia-Web-C-Reinhard-Prinzmeier.pdf
END:VEVENT
BEGIN:VEVENT
DTSTART;TZID=Europe/Berlin:20260430T080000
DTEND;TZID=Europe/Berlin:20260501T020000
DTSTAMP:20260422T151938
CREATED:20260303T082514Z
LAST-MODIFIED:20260303T082514Z
UID:10011195-1777536000-1777600800@unsere-hafencity.de
SUMMARY:Tanz in den Mai 2026 – Küchenparty mit 7 Gerichten & Drinks in der Hobenköök
DESCRIPTION:Wenn die HafenCity in den Frühling startet\, wird in der Hobenköök traditionell gefeiert: Am 30. April 2026 lädt das Restaurant in der Stockmeyerstraße zum „Tanz in den Mai“\, mit kulinarischen Stationen\, inkludierten Getränken und anschließender DJ-Party mitten in der Hafenküche. \nDas Format verbindet eine hochwertige Küchenparty mit regionaler Kulinarik. Ab 18:30 Uhr öffnen mehrere Genussstationen\, an denen Gäste Gerichte direkt aus der offenen Küche erleben können. Von Grill- und Bowl-Station über norddeutsche Charcuterie bis hin zu Hamburger Dumplings reicht das Spektrum. Fleisch- und vegetarische Optionen stehen gleichermaßen im Fokus. \nVeranstaltung auf einen Blick\n\nWas: Tanz in den Mai 2026 – Küchenparty mit 7 Gerichten\, Drinks und Afterparty\nWann: Donnerstag\, 30.04.2026\, 18:30–02:00 Uhr(Partyticket ab 21:00 Uhr)\nWo: Hobenköök\, Stockmeyerstraße 43\, 20457 Hamburg (HafenCity)\nEintritt:– 79\,00 € inkl. Speisen & Getränke– 39\,00 € Partyticket inkl. Getränke(jeweils inkl. MwSt.\, zzgl. Versandkosten)\nAnmeldung: Ticketkauf „Tanz in den Mai“ erforderlich. Eventtickets sind vom Widerruf ausgeschlossen. Kulanzregelung: Gutschein gegen 15 € Gebühr bei kurzfristiger Absage möglich.
URL:https://unsere-hafencity.de/event/tanz-in-den-mai-2026-kuechenparty-mit-7-gerichten-drinks-in-der-hobenkoeoek/
LOCATION:Hobenköök\, Stockmeyerstraße 43\, Hamburg\, Hamburg\, 20457
CATEGORIES:Kochen,Party
ATTACH;FMTTYPE=image/jpeg:https://unsere-hafencity.de/wp-content/uploads/2026/03/hobenkoeoek_tanz-in-den-mai-2026.jpg
ORGANIZER;CN="Hobenk%C3%B6%C3%B6k GmbH":MAILTO:marketing@hobenkoeoek.de
END:VEVENT
BEGIN:VEVENT
DTSTART;TZID=Europe/Berlin:20260501T160000
DTEND;TZID=Europe/Berlin:20260501T220000
DTSTAMP:20260422T151938
CREATED:20260306T055340Z
LAST-MODIFIED:20260306T055821Z
UID:10011276-1777651200-1777672800@unsere-hafencity.de
SUMMARY:Der Markt der Møglichkeiten
DESCRIPTION:Kultur trifft Kreativität in der Gleishalle Oberhafen. \nZwei Tage voller Inspiration: Der liebevoll kuratierte Markt der Møglichkeiten verwandelt die Gleishalle in einen lebendigen Kulturbasar – mit Design\, Kunsthandwerk\, nachhaltigen Produkten\, gutem Essen und besonderen Menschen. DJ-Sets sorgen für entspannte Stimmung zwischen Streetfood und handverlesenen Ständen. \nDas Motto: Komm wie du bist\, gib was du kannst\, Kinder und Hunde sind natürlich wie immer kostenlos mit dabei. \n\nWann: 06.03.-07.03 | 16-22 Uhr\, Sa. & So. ab 14-20 Uhr\nWo: Gleishalle Oberhafen\, Stockmeyerstraße 43\nEintritt: Pay what you want\n\nMehr Infos: Gleishalle Oberhafen\nnächste Termine: 03.04.-04.04.\, 01.05-03.05.
URL:https://unsere-hafencity.de/event/der-markt-der-moglichkeiten-3/2026-05-01/
LOCATION:gleishalle\, Gleishalle\, Stockmeyerstraße 43\, Hamburg\, Hamburg\, 20457
CATEGORIES:Flohmarkt,Musik
ATTACH;FMTTYPE=image/png:https://unsere-hafencity.de/wp-content/uploads/2025/12/Markt-der-moeglichkeiten-hafentcity-eventkalender.png
END:VEVENT
END:VCALENDAR