BEGIN:VCALENDAR
VERSION:2.0
PRODID:-//unsere-hafencity - ECPv6.15.20//NONSGML v1.0//EN
CALSCALE:GREGORIAN
METHOD:PUBLISH
X-WR-CALNAME:unsere-hafencity
X-ORIGINAL-URL:https://unsere-hafencity.de
X-WR-CALDESC:Veranstaltungen für unsere-hafencity
REFRESH-INTERVAL;VALUE=DURATION:PT1H
X-Robots-Tag:noindex
X-PUBLISHED-TTL:PT1H
BEGIN:VTIMEZONE
TZID:Europe/Berlin
BEGIN:DAYLIGHT
TZOFFSETFROM:+0100
TZOFFSETTO:+0200
TZNAME:CEST
DTSTART:20240331T010000
END:DAYLIGHT
BEGIN:STANDARD
TZOFFSETFROM:+0200
TZOFFSETTO:+0100
TZNAME:CET
DTSTART:20241027T010000
END:STANDARD
BEGIN:DAYLIGHT
TZOFFSETFROM:+0100
TZOFFSETTO:+0200
TZNAME:CEST
DTSTART:20250330T010000
END:DAYLIGHT
BEGIN:STANDARD
TZOFFSETFROM:+0200
TZOFFSETTO:+0100
TZNAME:CET
DTSTART:20251026T010000
END:STANDARD
BEGIN:DAYLIGHT
TZOFFSETFROM:+0100
TZOFFSETTO:+0200
TZNAME:CEST
DTSTART:20260329T010000
END:DAYLIGHT
BEGIN:STANDARD
TZOFFSETFROM:+0200
TZOFFSETTO:+0100
TZNAME:CET
DTSTART:20261025T010000
END:STANDARD
END:VTIMEZONE
BEGIN:VEVENT
DTSTART;TZID=Europe/Berlin:20251221T100000
DTEND;TZID=Europe/Berlin:20251221T140000
DTSTAMP:20260422T213456
CREATED:20251217T071217Z
LAST-MODIFIED:20251217T071217Z
UID:10008378-1766311200-1766325600@unsere-hafencity.de
SUMMARY:Sonntagsbrunch in der Hobenköök – festlich schlemmen am 21. Dezember 2025
DESCRIPTION:Kurz vor Weihnachten lädt die Hobenköök im Oberhafen zu einem ganz besonderen Brunch-Erlebnis ein: Am Sonntag\, den 21. Dezember\, erwartet euch ein ausgedehntes norddeutsches Frühstücks- und Mittagsbuffet mit allem\, was die Region kulinarisch zu bieten hat – von herzhaft bis süß\, von traditionell bis vegan. \nWas euch erwartet: \n\nSauerteigbrot\, Franzbrötchen\, Croissants\, Brötchen & hausgemachte Aufstriche\nRührei\, Käsevariationen\, Fischspezialitäten & Wildkräuterpesto\nVegane Optionen\, eingelegtes Gemüse\, Granola & Overnight Oats\n1 warmer Hauptgang + 1 vollwertiger veganer Hauptgang inklusive\nFilterkaffee\, Tee und Wasser sind im Preis enthalten\n\nNach dem gemütlichen Essen lädt die Markthalle zum Stöbern ein – ideal für den letzten Geschenkekauf in entspannter Atmosphäre. \nDetails: \n\nZeit: Sonntag\, 21.12.2025 | 10-14 Uhr\nOrt: Hobenköök im Oberhafen\, Stockmeyerstraße 43\, 20457 Hamburg\nPreis: 32\,90 € pro Person\nTicket: Zur Buchung des Brunchs\n\nKids willkommen!Für Kinder unter 15 Jahren gibt es ein ermäßigtes KidsTicket für 11\,90 €\, mit allem Drum und Dran. \n→ Zum KidsTicket
URL:https://unsere-hafencity.de/event/sonntagsbrunch-in-der-hobenkoeoek-festlich-schlemmen-am-21-dezember-2025/
LOCATION:Hobenköök\, Stockmeyerstraße 43\, Hamburg\, Hamburg\, 20457
ATTACH;FMTTYPE=image/jpeg:https://unsere-hafencity.de/wp-content/uploads/2025/12/Sontagsbrunch-hobenkoeoek.jpg
ORGANIZER;CN="Hobenk%C3%B6%C3%B6k GmbH":MAILTO:marketing@hobenkoeoek.de
END:VEVENT
BEGIN:VEVENT
DTSTART;TZID=Europe/Berlin:20251228T100000
DTEND;TZID=Europe/Berlin:20251228T140000
DTSTAMP:20260422T213456
CREATED:20251217T072240Z
LAST-MODIFIED:20251217T072438Z
UID:10008379-1766916000-1766930400@unsere-hafencity.de
SUMMARY:Sonntagsbrunch in der Hobenköök – festlich schlemmen am 28. Dezember 2025
DESCRIPTION:Genussvolle Sonntage zwischen den Jahren! Ihr liebt den Sonntagsbrunch in der Hobenköök – deshalb öffnen wir gleich an zwei Sonntagen zwischen den Jahren unsere Türen für euch:Nach dem 21. Dezember laden wir euch auch am 28. Dezember 2025 ein\, zu einem entspannten\, winterlichen Brunch im Oberhafen. \nFreut euch auf einen genussvollen Start in den Sonntag mit regionalen Spezialitäten\, norddeutscher Küche und einer großen Auswahl an süßen\, herzhaften und veganen Köstlichkeiten. Danach bleibt genug Zeit\, um in der Markthalle zu stöbern oder letzte Besorgungen in ruhiger Atmosphäre zu erledigen. \nDas erwartet euch beim Brunch:\n\nSauerteigbrote von Lenes Bio Backstube\nHobenköök Schwarzbrot mit Apfel & Buttermilch\nFranzbrötchen & Croissants von Bäckerei Moin\nKrusties & Körnerbrötchen\nButter von der Meierei Horst\, Margarine & Marmeladen\nSüße & herzhafte Aufstriche\, auch vegan\nOvernight Oats & Hobenköök Granola mit Nüssen & Saaten\nObst aus dem Alten Land\nRührei mit Kräutern von Andresen\nNorddeutscher Käse mit Himbeersenf & Eingepickeltem\nEingelegtes Gemüse mit veganem Vanozza-Käse & Oliven\nWildkräuterpesto\nRäucherlachs & Rauchmakrele mit Meerrettich & Gurke\n\nZusätzlich inklusive:1 warmer Hauptgang und 1 vollwertiger veganer Hauptgang. \nWasser\, Filterkaffee und Tee sind im Preis enthalten. \nDetails\n\nWann: Sonntag\, 28.12.2025\, 10–14 Uhr\nWo: Hobenköök im Oberhafen\, Stockmeyerstraße 43\, 20457 Hamburg\nPreis: 32\,90 € pro Person\nTickets: Brunch am 28.12.2025\n\nKids willkommen!\nFür Kinder unter 15 Jahren gibt es ein ermäßigtes KidsTicket für 11\,90 €. \n→ KidsTicket am 28.12.2025
URL:https://unsere-hafencity.de/event/sonntagsbrunch-in-der-hobenkoeoek-festlich-schlemmen-am-21-dezember-2025-2/
LOCATION:Hobenköök\, Stockmeyerstraße 43\, Hamburg\, Hamburg\, 20457
ATTACH;FMTTYPE=image/jpeg:https://unsere-hafencity.de/wp-content/uploads/2025/12/sontagsbrunch-hobenkoeoek-2812.jpg
ORGANIZER;CN="Hobenk%C3%B6%C3%B6k GmbH":MAILTO:marketing@hobenkoeoek.de
END:VEVENT
END:VCALENDAR