BEGIN:VCALENDAR
VERSION:2.0
PRODID:-//unsere-hafencity - ECPv6.15.20//NONSGML v1.0//EN
CALSCALE:GREGORIAN
METHOD:PUBLISH
X-WR-CALNAME:unsere-hafencity
X-ORIGINAL-URL:https://unsere-hafencity.de
X-WR-CALDESC:Veranstaltungen für unsere-hafencity
REFRESH-INTERVAL;VALUE=DURATION:PT1H
X-Robots-Tag:noindex
X-PUBLISHED-TTL:PT1H
BEGIN:VTIMEZONE
TZID:Europe/Berlin
BEGIN:DAYLIGHT
TZOFFSETFROM:+0100
TZOFFSETTO:+0200
TZNAME:CEST
DTSTART:20250330T010000
END:DAYLIGHT
BEGIN:STANDARD
TZOFFSETFROM:+0200
TZOFFSETTO:+0100
TZNAME:CET
DTSTART:20251026T010000
END:STANDARD
BEGIN:DAYLIGHT
TZOFFSETFROM:+0100
TZOFFSETTO:+0200
TZNAME:CEST
DTSTART:20260329T010000
END:DAYLIGHT
BEGIN:STANDARD
TZOFFSETFROM:+0200
TZOFFSETTO:+0100
TZNAME:CET
DTSTART:20261025T010000
END:STANDARD
BEGIN:DAYLIGHT
TZOFFSETFROM:+0100
TZOFFSETTO:+0200
TZNAME:CEST
DTSTART:20270328T010000
END:DAYLIGHT
BEGIN:STANDARD
TZOFFSETFROM:+0200
TZOFFSETTO:+0100
TZNAME:CET
DTSTART:20271031T010000
END:STANDARD
END:VTIMEZONE
BEGIN:VEVENT
DTSTART;TZID=Europe/Berlin:20260204T190000
DTEND;TZID=Europe/Berlin:20260204T213000
DTSTAMP:20260419T184547
CREATED:20260130T093438Z
LAST-MODIFIED:20260130T093545Z
UID:10010975-1770231600-1770240600@unsere-hafencity.de
SUMMARY:Creative Business Pingpong #2
DESCRIPTION:Impuls\, Rundlauf & Networking im Design Zentrum Hamburg \nKreativität braucht Austausch – und manchmal auch eine Tischtennisplatte.Mit Creative Business Pingpong #2 lädt die Creative Business Academy zu einem besonderen After-Work-Format ein\, das Impulse\, Bewegung und Networking miteinander verbindet. \nDetails\n\nWann: Mittwoch\, 04. Februar 2026 | 19:00 – 21:30 Uhr\nWo: Design Zentrum Hamburg\, Hongkongstraße 8\, 20457 Hamburg (HafenCity)\nKosten: Tickets ab 4\,00 € (inkl. Eintritt & Freigetränk)\nVeranstalter: Creative Business Academy / Hamburg Kreativ Gesellschaft\nTickets: über den offiziellen Ticketlink erhältlich\n\nBei Rundlauf an der Tischtennisplatte\, Musik und entspannter Bar-Atmosphäre entstehen Gespräche jenseits klassischer Networking-Routinen. Kurze Impulsvorträge geben Denkanstöße zu kreativem Arbeiten und unternehmerischer Entwicklung\, während sich beim Spiel und im offenen Austausch neue Kontakte\, Ideen und Kooperationen ergeben. \nDas Format richtet sich an Kreativschaffende\, Selbstständige\, Gründer:innen und alle\, die ihr kreatives Business weiterdenken und sich mit anderen vernetzen möchten – niedrigschwellig\, inspirierend und praxisnah. \nVeranstaltet wird das Event von der Creative Business Academy\, dem Weiterbildungs- und Netzwerkprogramm der Hamburg Kreativ Gesellschaft. Die Academy begleitet Kreative dabei\, ihre Geschäftsmodelle nachhaltig\, marktorientiert und zukunftsfähig aufzustellen – mit Workshops\, Vorträgen und Community-Learning. Das Programm wird gefördert durch Mittel der Europäischen Union sowie der Freien und Hansestadt Hamburg. \nEin Freigetränk ist im Ticketpreis enthalten.
URL:https://unsere-hafencity.de/event/creative-business-pingpong-2/
LOCATION:Design Zentrum Hamburg\, Hongkongstraße 8\, Hamburg\, 20457
ATTACH;FMTTYPE=image/png:https://unsere-hafencity.de/wp-content/uploads/2026/01/Creative-Business-Beerpong-04022026.png
END:VEVENT
BEGIN:VEVENT
DTSTART;TZID=Europe/Berlin:20260206T183000
DTEND;TZID=Europe/Berlin:20260206T220000
DTSTAMP:20260419T184547
CREATED:20260131T172406Z
LAST-MODIFIED:20260131T172406Z
UID:10010976-1770402600-1770415200@unsere-hafencity.de
SUMMARY:SORTIMENT - Ausstellung und Programm der HCU
DESCRIPTION:Ausstellung & Programm der Architekturstudierenden der HafenCity Universität Hamburg \nWie wird Architektur heute entworfen\, diskutiert und vermittelt? Mit SORTIMENT laden die Architekturstudierenden der HafenCity Universität Hamburg zu einem offenen Ausstellungs- und Veranstaltungswochenende ein\, das Entwurfsprozesse sichtbar macht und zugleich zum Dialog über Stadt\, Raum und Gesellschaft einlädt. \nÜber mehrere Tage hinweg wird die Hochschule selbst zum Ausstellungsort und Diskursraum. Gezeigt werden aktuelle studentische Arbeiten\, die nicht nur Ergebnisse präsentieren\, sondern Fragen stellen:Welche Verantwortung trägt Architektur in einer Stadt im Wandel? Für wen werden Räume geplant\, und wer bleibt dabei außen vor? SORTIMENT versteht sich bewusst als offenes Format und richtet sich an alle Interessierten\, unabhängig von fachlichem Hintergrund oder Vorwissen. \nDetails:\n\nVernissage: Freitag\, 06. Februar 2026\, ab 18:30 Uhr\nAusstellung: Samstag\, 07.02. bis Montag\, 09.02.2026 | täglich von 10:00 – 22:00 Uhr\nWo: HafenCity Universität Hamburg\, Henning-Voscherau-Platz 1\, 20457 Hamburg\nEintritt: frei\n\nWeitere Infos findest du direkt bei der HCU! \nBegleitet wird die Ausstellung von einem vielseitigen Programm mit Workshops\, Gesprächsrunden\, einer Filmveranstaltung und Mitmachangeboten. Diese Formate übersetzen die ausgestellten Arbeiten in unterschiedliche Perspektiven und schaffen Raum für Austausch zwischen Studierenden\, Lehrenden und Gästen. \nDen Auftakt bildet die Vernissage am Freitagabend\, die Ausstellung\, Vortrag und gemeinsames Feiern verbindet. Nach einem Rundgang durch die Ausstellung geht der Abend mit Musik\, Gesprächen sowie Essen und Getränken weiter – und setzt sich anschließend im fundbureau fort. Studierende der HCU erhalten dort bei Vorlage ihres Ausweises vergünstigten Eintritt. \nSORTIMENT ist ein Wochenende der Begegnung zwischen Entwurf und Diskussion\, zwischen Hochschule und Stadt\, zwischen Architektur und Öffentlichkeit. Alle sind eingeladen\, vorbeizukommen\, mitzudenken und Architektur als gemeinsamen Prozess zu erleben.
URL:https://unsere-hafencity.de/event/sortiment-ausstellung-und-programm-der-hcu/2026-02-06/
LOCATION:HafenCity Universität\, Henning-Voscherau-Platz 1\, Hamburg\, 20457
ATTACH;FMTTYPE=image/png:https://unsere-hafencity.de/wp-content/uploads/2026/01/Sortiment_HCU_Ausstellung-Programm-Vernissage-06.02.-09.02.png
END:VEVENT
BEGIN:VEVENT
DTSTART;TZID=Europe/Berlin:20260207T100000
DTEND;TZID=Europe/Berlin:20260207T220000
DTSTAMP:20260419T184547
CREATED:20260131T172406Z
LAST-MODIFIED:20260131T172406Z
UID:10010977-1770458400-1770501600@unsere-hafencity.de
SUMMARY:SORTIMENT - Ausstellung und Programm der HCU
DESCRIPTION:Ausstellung & Programm der Architekturstudierenden der HafenCity Universität Hamburg \nWie wird Architektur heute entworfen\, diskutiert und vermittelt? Mit SORTIMENT laden die Architekturstudierenden der HafenCity Universität Hamburg zu einem offenen Ausstellungs- und Veranstaltungswochenende ein\, das Entwurfsprozesse sichtbar macht und zugleich zum Dialog über Stadt\, Raum und Gesellschaft einlädt. \nÜber mehrere Tage hinweg wird die Hochschule selbst zum Ausstellungsort und Diskursraum. Gezeigt werden aktuelle studentische Arbeiten\, die nicht nur Ergebnisse präsentieren\, sondern Fragen stellen:Welche Verantwortung trägt Architektur in einer Stadt im Wandel? Für wen werden Räume geplant\, und wer bleibt dabei außen vor? SORTIMENT versteht sich bewusst als offenes Format und richtet sich an alle Interessierten\, unabhängig von fachlichem Hintergrund oder Vorwissen. \nDetails:\n\nVernissage: Freitag\, 06. Februar 2026\, ab 18:30 Uhr\nAusstellung: Samstag\, 07.02. bis Montag\, 09.02.2026 | täglich von 10:00 – 22:00 Uhr\nWo: HafenCity Universität Hamburg\, Henning-Voscherau-Platz 1\, 20457 Hamburg\nEintritt: frei\n\nWeitere Infos findest du direkt bei der HCU! \nBegleitet wird die Ausstellung von einem vielseitigen Programm mit Workshops\, Gesprächsrunden\, einer Filmveranstaltung und Mitmachangeboten. Diese Formate übersetzen die ausgestellten Arbeiten in unterschiedliche Perspektiven und schaffen Raum für Austausch zwischen Studierenden\, Lehrenden und Gästen. \nDen Auftakt bildet die Vernissage am Freitagabend\, die Ausstellung\, Vortrag und gemeinsames Feiern verbindet. Nach einem Rundgang durch die Ausstellung geht der Abend mit Musik\, Gesprächen sowie Essen und Getränken weiter – und setzt sich anschließend im fundbureau fort. Studierende der HCU erhalten dort bei Vorlage ihres Ausweises vergünstigten Eintritt. \nSORTIMENT ist ein Wochenende der Begegnung zwischen Entwurf und Diskussion\, zwischen Hochschule und Stadt\, zwischen Architektur und Öffentlichkeit. Alle sind eingeladen\, vorbeizukommen\, mitzudenken und Architektur als gemeinsamen Prozess zu erleben.
URL:https://unsere-hafencity.de/event/sortiment-ausstellung-und-programm-der-hcu/2026-02-07/
LOCATION:HafenCity Universität\, Henning-Voscherau-Platz 1\, Hamburg\, 20457
ATTACH;FMTTYPE=image/png:https://unsere-hafencity.de/wp-content/uploads/2026/01/Sortiment_HCU_Ausstellung-Programm-Vernissage-06.02.-09.02.png
END:VEVENT
BEGIN:VEVENT
DTSTART;TZID=Europe/Berlin:20260207T130000
DTEND;TZID=Europe/Berlin:20260207T150000
DTSTAMP:20260419T184547
CREATED:20260131T183706Z
LAST-MODIFIED:20260131T183706Z
UID:10010980-1770469200-1770476400@unsere-hafencity.de
SUMMARY:Open Hotel Days: 25hours Hotel Altes Hafenamt × Hamburg Dungeon
DESCRIPTION:Grusel trifft auf Geschichte – Hotelführung der anderen Art \nIm Rahmen der OPEN HOTEL DAYS 2026 öffnen das 25hours Hotel Altes Hafenamt und das Hamburg Dungeon ihre Türen für ein außergewöhnliches Special in der HafenCity: Diese Führung verbindet düstere Geschichte mit echtem Gruselfaktor. \nZum Auftakt können sich Teilnehmende von professionellen Make-up-Artists realistische\, blutige Wunden schminken lassen. Danach führt der Rundgang durch das älteste und geschichtsträchtigste Gebäude der HafenCity. In dem ehemaligen Hafenamt wurden einst Teile der Speicherstadt geplant\, heute wird der Ort zur Kulisse für unheimliche Geschichten\, verborgene Details und maritime Historie mit Gänsehautgarantie. \nDetails:\n\nWann: Samstag\, 07. Februar 2026 | 13:00 – 15:00 Uhr\nWo: 25hours Hotel Altes Hafenamt\, Osakaallee 12\, 20457 Hamburg\nEintritt: frei\nAnmeldung: erforderlich\nAltersempfehlung: ab 12 Jahren\n\nAnmeldung direkt hier beim 25hours Hotel \nDas Event schlägt eine Brücke zwischen Vergangenheit und Inszenierung: historisch fundiert\, atmosphärisch dicht und bewusst anders als klassische Hotelführungen. Wer sich für Geschichte interessiert und Lust auf ein besonderes Erlebnis hat\, ist hier genau richtig. \nDie Teilnahme ist kostenfrei\, eine vorherige Anmeldung ist erforderlich.Die Führung ist nicht für Kinder unter 12 Jahren geeignet.
URL:https://unsere-hafencity.de/event/open-hotel-days-25hours-hotel-altes-hafenamt-x-hamburg-dungeon/
LOCATION:25hours Hotel HafenCity\, Überseeallee 5\, Hamburg\, 20457
CATEGORIES:Führung
ATTACH;FMTTYPE=image/jpeg:https://unsere-hafencity.de/wp-content/uploads/2026/01/25h_hafencity_events_dungeon.jpeg
END:VEVENT
BEGIN:VEVENT
DTSTART;TZID=Europe/Berlin:20260208T100000
DTEND;TZID=Europe/Berlin:20260208T220000
DTSTAMP:20260419T184547
CREATED:20260131T172406Z
LAST-MODIFIED:20260131T172406Z
UID:10010978-1770544800-1770588000@unsere-hafencity.de
SUMMARY:SORTIMENT - Ausstellung und Programm der HCU
DESCRIPTION:Ausstellung & Programm der Architekturstudierenden der HafenCity Universität Hamburg \nWie wird Architektur heute entworfen\, diskutiert und vermittelt? Mit SORTIMENT laden die Architekturstudierenden der HafenCity Universität Hamburg zu einem offenen Ausstellungs- und Veranstaltungswochenende ein\, das Entwurfsprozesse sichtbar macht und zugleich zum Dialog über Stadt\, Raum und Gesellschaft einlädt. \nÜber mehrere Tage hinweg wird die Hochschule selbst zum Ausstellungsort und Diskursraum. Gezeigt werden aktuelle studentische Arbeiten\, die nicht nur Ergebnisse präsentieren\, sondern Fragen stellen:Welche Verantwortung trägt Architektur in einer Stadt im Wandel? Für wen werden Räume geplant\, und wer bleibt dabei außen vor? SORTIMENT versteht sich bewusst als offenes Format und richtet sich an alle Interessierten\, unabhängig von fachlichem Hintergrund oder Vorwissen. \nDetails:\n\nVernissage: Freitag\, 06. Februar 2026\, ab 18:30 Uhr\nAusstellung: Samstag\, 07.02. bis Montag\, 09.02.2026 | täglich von 10:00 – 22:00 Uhr\nWo: HafenCity Universität Hamburg\, Henning-Voscherau-Platz 1\, 20457 Hamburg\nEintritt: frei\n\nWeitere Infos findest du direkt bei der HCU! \nBegleitet wird die Ausstellung von einem vielseitigen Programm mit Workshops\, Gesprächsrunden\, einer Filmveranstaltung und Mitmachangeboten. Diese Formate übersetzen die ausgestellten Arbeiten in unterschiedliche Perspektiven und schaffen Raum für Austausch zwischen Studierenden\, Lehrenden und Gästen. \nDen Auftakt bildet die Vernissage am Freitagabend\, die Ausstellung\, Vortrag und gemeinsames Feiern verbindet. Nach einem Rundgang durch die Ausstellung geht der Abend mit Musik\, Gesprächen sowie Essen und Getränken weiter – und setzt sich anschließend im fundbureau fort. Studierende der HCU erhalten dort bei Vorlage ihres Ausweises vergünstigten Eintritt. \nSORTIMENT ist ein Wochenende der Begegnung zwischen Entwurf und Diskussion\, zwischen Hochschule und Stadt\, zwischen Architektur und Öffentlichkeit. Alle sind eingeladen\, vorbeizukommen\, mitzudenken und Architektur als gemeinsamen Prozess zu erleben.
URL:https://unsere-hafencity.de/event/sortiment-ausstellung-und-programm-der-hcu/2026-02-08/
LOCATION:HafenCity Universität\, Henning-Voscherau-Platz 1\, Hamburg\, 20457
ATTACH;FMTTYPE=image/png:https://unsere-hafencity.de/wp-content/uploads/2026/01/Sortiment_HCU_Ausstellung-Programm-Vernissage-06.02.-09.02.png
END:VEVENT
BEGIN:VEVENT
DTSTART;TZID=Europe/Berlin:20260209T100000
DTEND;TZID=Europe/Berlin:20260209T220000
DTSTAMP:20260419T184547
CREATED:20260131T172406Z
LAST-MODIFIED:20260131T172406Z
UID:10010979-1770631200-1770674400@unsere-hafencity.de
SUMMARY:SORTIMENT - Ausstellung und Programm der HCU
DESCRIPTION:Ausstellung & Programm der Architekturstudierenden der HafenCity Universität Hamburg \nWie wird Architektur heute entworfen\, diskutiert und vermittelt? Mit SORTIMENT laden die Architekturstudierenden der HafenCity Universität Hamburg zu einem offenen Ausstellungs- und Veranstaltungswochenende ein\, das Entwurfsprozesse sichtbar macht und zugleich zum Dialog über Stadt\, Raum und Gesellschaft einlädt. \nÜber mehrere Tage hinweg wird die Hochschule selbst zum Ausstellungsort und Diskursraum. Gezeigt werden aktuelle studentische Arbeiten\, die nicht nur Ergebnisse präsentieren\, sondern Fragen stellen:Welche Verantwortung trägt Architektur in einer Stadt im Wandel? Für wen werden Räume geplant\, und wer bleibt dabei außen vor? SORTIMENT versteht sich bewusst als offenes Format und richtet sich an alle Interessierten\, unabhängig von fachlichem Hintergrund oder Vorwissen. \nDetails:\n\nVernissage: Freitag\, 06. Februar 2026\, ab 18:30 Uhr\nAusstellung: Samstag\, 07.02. bis Montag\, 09.02.2026 | täglich von 10:00 – 22:00 Uhr\nWo: HafenCity Universität Hamburg\, Henning-Voscherau-Platz 1\, 20457 Hamburg\nEintritt: frei\n\nWeitere Infos findest du direkt bei der HCU! \nBegleitet wird die Ausstellung von einem vielseitigen Programm mit Workshops\, Gesprächsrunden\, einer Filmveranstaltung und Mitmachangeboten. Diese Formate übersetzen die ausgestellten Arbeiten in unterschiedliche Perspektiven und schaffen Raum für Austausch zwischen Studierenden\, Lehrenden und Gästen. \nDen Auftakt bildet die Vernissage am Freitagabend\, die Ausstellung\, Vortrag und gemeinsames Feiern verbindet. Nach einem Rundgang durch die Ausstellung geht der Abend mit Musik\, Gesprächen sowie Essen und Getränken weiter – und setzt sich anschließend im fundbureau fort. Studierende der HCU erhalten dort bei Vorlage ihres Ausweises vergünstigten Eintritt. \nSORTIMENT ist ein Wochenende der Begegnung zwischen Entwurf und Diskussion\, zwischen Hochschule und Stadt\, zwischen Architektur und Öffentlichkeit. Alle sind eingeladen\, vorbeizukommen\, mitzudenken und Architektur als gemeinsamen Prozess zu erleben.
URL:https://unsere-hafencity.de/event/sortiment-ausstellung-und-programm-der-hcu/2026-02-09/
LOCATION:HafenCity Universität\, Henning-Voscherau-Platz 1\, Hamburg\, 20457
ATTACH;FMTTYPE=image/png:https://unsere-hafencity.de/wp-content/uploads/2026/01/Sortiment_HCU_Ausstellung-Programm-Vernissage-06.02.-09.02.png
END:VEVENT
BEGIN:VEVENT
DTSTART;TZID=Europe/Berlin:20260214T100000
DTEND;TZID=Europe/Berlin:20260214T160000
DTSTAMP:20260419T184547
CREATED:20251204T115150Z
LAST-MODIFIED:20251204T115302Z
UID:10007379-1771063200-1771084800@unsere-hafencity.de
SUMMARY:Flohmarkt in der Gleishalle
DESCRIPTION:Ein stimmungsvoller Flohmarkt mit Vintage‑Mode\, Secondhand‑Schätzen\, Design‑ und DIY‑Ständen. Alles überdacht unter dem historischen Hallendach der Gleishalle. Ideal zum Stöbern\, Schnäppchen finden oder um eigene Schätze weiterzugeben. \nHier findet ihr Kleidung\, kleine Möbel\, Bücher\, Kunst oder ausgesuchte Einzelstücke. Der Markt steht für Nachhaltigkeit\, Gemeinschaft und gute Atmosphäre im Quartier. \nWer selbst verkaufen will: Die Gleishalle bietet mit ihrer kreativen\, offenen Struktur regelmäßig Raum für Märkte und Events. Marktlust+1 \nDetails: \n\nWann: Sa.\, 06.12.2025\, 3.1.2026\, 24.01.2026\, 14.02.2026 | jeweils 10–16 Uhr\nWo: Gleishalle am Oberhafen\, Stockmeyerstraße 43\, 20457 Hamburg\nEintritt: frei\n\nDas erwartet euch: \n\nWetterunabhängig: Indoor‑Location mit Industrie‑Charme\nGroße Vielfalt: Mode\, Möbel\, Kunst & mehr\nNachhaltig: Gebraucht statt neu\, klug statt impulsiv\nQuartiersgefühl: Gemeinschaft\, Begegnung & Austausch\n\nPerfekt für alle\, die nachhaltig shoppen\, alte Lieblingsstücke weitergeben oder einfach entspannt am Samstag durch Stände stöbern möchten. \nGemeinsam gegen Verschwendung und für mehr Nachhaltigkeit und Stil mit Geschichte!
URL:https://unsere-hafencity.de/event/flohmarkt-in-der-gleishalle/2026-02-14/
LOCATION:gleishalle\, Gleishalle\, Stockmeyerstraße 43\, Hamburg\, Hamburg\, 20457
ATTACH;FMTTYPE=image/jpeg:https://unsere-hafencity.de/wp-content/uploads/2025/10/Nachtflohmarkt-Gleishalle.jpg
END:VEVENT
BEGIN:VEVENT
DTSTART;TZID=Europe/Berlin:20260214T100000
DTEND;TZID=Europe/Berlin:20260214T160000
DTSTAMP:20260419T184547
CREATED:20260313T070433Z
LAST-MODIFIED:20260313T070433Z
UID:10011282-1771063200-1771084800@unsere-hafencity.de
SUMMARY:Flohmarkt in der Gleishalle
DESCRIPTION:Ein stimmungsvoller Flohmarkt mit Vintage‑Mode\, Secondhand‑Schätzen\, Design‑ und DIY‑Ständen. Alles überdacht unter dem historischen Hallendach der Gleishalle. Ideal zum Stöbern\, Schnäppchen finden oder um eigene Schätze weiterzugeben. \nHier findet ihr Kleidung\, kleine Möbel\, Bücher\, Kunst oder ausgesuchte Einzelstücke. Der Markt steht für Nachhaltigkeit\, Gemeinschaft und gute Atmosphäre im Quartier. \nWer selbst verkaufen will: Die Gleishalle bietet mit ihrer kreativen\, offenen Struktur regelmäßig Raum für Märkte und Events. Marktlust+1 \nDetails: \n\nWann: Sa.\, 14.03. | 10–16 Uhr\nWo: Gleishalle am Oberhafen\, Stockmeyerstraße 43\, 20457 Hamburg\nEintritt: frei\n\nDas erwartet euch: \n\nWetterunabhängig: Indoor‑Location mit Industrie‑Charme\nGroße Vielfalt: Mode\, Möbel\, Kunst & mehr\nNachhaltig: Gebraucht statt neu\, klug statt impulsiv\nQuartiersgefühl: Gemeinschaft\, Begegnung & Austausch\n\nPerfekt für alle\, die nachhaltig shoppen\, alte Lieblingsstücke weitergeben oder einfach entspannt am Samstag durch Stände stöbern möchten. \nGemeinsam gegen Verschwendung und für mehr Nachhaltigkeit und Stil mit Geschichte!
URL:https://unsere-hafencity.de/event/flohmarkt-in-der-gleishalle-2/2026-02-14/
LOCATION:gleishalle\, Gleishalle\, Stockmeyerstraße 43\, Hamburg\, Hamburg\, 20457
CATEGORIES:Flohmarkt
ATTACH;FMTTYPE=image/jpeg:https://unsere-hafencity.de/wp-content/uploads/2025/10/Nachtflohmarkt-Gleishalle.jpg
END:VEVENT
BEGIN:VEVENT
DTSTART;TZID=Europe/Berlin:20260220T170000
DTEND;TZID=Europe/Berlin:20260220T220000
DTSTAMP:20260419T184547
CREATED:20260218T205656Z
LAST-MODIFIED:20260218T210628Z
UID:10011098-1771606800-1771624800@unsere-hafencity.de
SUMMARY:Nachtflohmarkt in der Gleishalle
DESCRIPTION:An zwei Abenden wird die historische Halle zur stimmungsvollen Schatzkammer: Stöbert in ausgewählter Vintage-Mode\, Schmuck\, Kunst\, Platten und DIY-Einzelstücken – alles wettergeschützt und musikalisch begleitet von Live-Musik & DJ-Sets. \nDazu gibt’s leckeres Streetfood und erfrischende Drinks – perfekt zum Stöbern\, Schnacken und Entdecken. Wer selbst verkaufen will\, ist herzlich eingeladen mitzumachen und alten Lieblingsstücken ein neues Leben zu schenken. \n\nWann: Fr. 20.02. & Sa.\, 21.02.2025 | jeweils 17–22 Uhr\nWo: Gleishalle am Oberhafen\, Stockmeyerstraße 43\, 20457 Hamburg\nEintritt: 2 € Kulturbeitrag\n\n-> Gemeinsam gegen Verschwendung\, für mehr Nachhaltigkeit und Stil mit Geschichte! \nSei dabei\, wir sehen uns in der Gleishalle! \nNächste Termine:\n \n\n\n27. Februar 17–22 Uhr\n28. Februar 17–22 Uhr\n20. März 17–22 Uhr\n21. März 17–22 Uhr\n17. April 17–22 Uhr\n18. April 17–22 Uhr
URL:https://unsere-hafencity.de/event/nachtflohmarkt-in-der-gleishalle-3/2026-02-20/
LOCATION:gleishalle\, Gleishalle\, Stockmeyerstraße 43\, Hamburg\, Hamburg\, 20457
CATEGORIES:Flohmarkt
ATTACH;FMTTYPE=image/jpeg:https://unsere-hafencity.de/wp-content/uploads/2025/10/Nachtflohmarkt-Gleishalle.jpg
END:VEVENT
BEGIN:VEVENT
DTSTART;TZID=Europe/Berlin:20260221T170000
DTEND;TZID=Europe/Berlin:20260221T210000
DTSTAMP:20260419T184547
CREATED:20260218T205656Z
LAST-MODIFIED:20260218T210628Z
UID:10011099-1771693200-1771707600@unsere-hafencity.de
SUMMARY:Nachtflohmarkt in der Gleishalle
DESCRIPTION:An zwei Abenden wird die historische Halle zur stimmungsvollen Schatzkammer: Stöbert in ausgewählter Vintage-Mode\, Schmuck\, Kunst\, Platten und DIY-Einzelstücken – alles wettergeschützt und musikalisch begleitet von Live-Musik & DJ-Sets. \nDazu gibt’s leckeres Streetfood und erfrischende Drinks – perfekt zum Stöbern\, Schnacken und Entdecken. Wer selbst verkaufen will\, ist herzlich eingeladen mitzumachen und alten Lieblingsstücken ein neues Leben zu schenken. \n\nWann: Fr. 20.02. & Sa.\, 21.02.2025 | jeweils 17–22 Uhr\nWo: Gleishalle am Oberhafen\, Stockmeyerstraße 43\, 20457 Hamburg\nEintritt: 2 € Kulturbeitrag\n\n-> Gemeinsam gegen Verschwendung\, für mehr Nachhaltigkeit und Stil mit Geschichte! \nSei dabei\, wir sehen uns in der Gleishalle! \nNächste Termine:\n \n\n\n27. Februar 17–22 Uhr\n28. Februar 17–22 Uhr\n20. März 17–22 Uhr\n21. März 17–22 Uhr\n17. April 17–22 Uhr\n18. April 17–22 Uhr
URL:https://unsere-hafencity.de/event/nachtflohmarkt-in-der-gleishalle-3/2026-02-21/
LOCATION:gleishalle\, Gleishalle\, Stockmeyerstraße 43\, Hamburg\, Hamburg\, 20457
CATEGORIES:Flohmarkt
ATTACH;FMTTYPE=image/jpeg:https://unsere-hafencity.de/wp-content/uploads/2025/10/Nachtflohmarkt-Gleishalle.jpg
END:VEVENT
BEGIN:VEVENT
DTSTART;TZID=Europe/Berlin:20260227T170000
DTEND;TZID=Europe/Berlin:20260227T220000
DTSTAMP:20260419T184547
CREATED:20260218T205656Z
LAST-MODIFIED:20260218T210628Z
UID:10011100-1772211600-1772229600@unsere-hafencity.de
SUMMARY:Nachtflohmarkt in der Gleishalle
DESCRIPTION:An zwei Abenden wird die historische Halle zur stimmungsvollen Schatzkammer: Stöbert in ausgewählter Vintage-Mode\, Schmuck\, Kunst\, Platten und DIY-Einzelstücken – alles wettergeschützt und musikalisch begleitet von Live-Musik & DJ-Sets. \nDazu gibt’s leckeres Streetfood und erfrischende Drinks – perfekt zum Stöbern\, Schnacken und Entdecken. Wer selbst verkaufen will\, ist herzlich eingeladen mitzumachen und alten Lieblingsstücken ein neues Leben zu schenken. \n\nWann: Fr. 20.02. & Sa.\, 21.02.2025 | jeweils 17–22 Uhr\nWo: Gleishalle am Oberhafen\, Stockmeyerstraße 43\, 20457 Hamburg\nEintritt: 2 € Kulturbeitrag\n\n-> Gemeinsam gegen Verschwendung\, für mehr Nachhaltigkeit und Stil mit Geschichte! \nSei dabei\, wir sehen uns in der Gleishalle! \nNächste Termine:\n \n\n\n27. Februar 17–22 Uhr\n28. Februar 17–22 Uhr\n20. März 17–22 Uhr\n21. März 17–22 Uhr\n17. April 17–22 Uhr\n18. April 17–22 Uhr
URL:https://unsere-hafencity.de/event/nachtflohmarkt-in-der-gleishalle-3/2026-02-27/
LOCATION:gleishalle\, Gleishalle\, Stockmeyerstraße 43\, Hamburg\, Hamburg\, 20457
CATEGORIES:Flohmarkt
ATTACH;FMTTYPE=image/jpeg:https://unsere-hafencity.de/wp-content/uploads/2025/10/Nachtflohmarkt-Gleishalle.jpg
END:VEVENT
BEGIN:VEVENT
DTSTART;TZID=Europe/Berlin:20260228T170000
DTEND;TZID=Europe/Berlin:20260228T220000
DTSTAMP:20260419T184547
CREATED:20260218T205656Z
LAST-MODIFIED:20260218T210628Z
UID:10011101-1772298000-1772316000@unsere-hafencity.de
SUMMARY:Nachtflohmarkt in der Gleishalle
DESCRIPTION:An zwei Abenden wird die historische Halle zur stimmungsvollen Schatzkammer: Stöbert in ausgewählter Vintage-Mode\, Schmuck\, Kunst\, Platten und DIY-Einzelstücken – alles wettergeschützt und musikalisch begleitet von Live-Musik & DJ-Sets. \nDazu gibt’s leckeres Streetfood und erfrischende Drinks – perfekt zum Stöbern\, Schnacken und Entdecken. Wer selbst verkaufen will\, ist herzlich eingeladen mitzumachen und alten Lieblingsstücken ein neues Leben zu schenken. \n\nWann: Fr. 20.02. & Sa.\, 21.02.2025 | jeweils 17–22 Uhr\nWo: Gleishalle am Oberhafen\, Stockmeyerstraße 43\, 20457 Hamburg\nEintritt: 2 € Kulturbeitrag\n\n-> Gemeinsam gegen Verschwendung\, für mehr Nachhaltigkeit und Stil mit Geschichte! \nSei dabei\, wir sehen uns in der Gleishalle! \nNächste Termine:\n \n\n\n27. Februar 17–22 Uhr\n28. Februar 17–22 Uhr\n20. März 17–22 Uhr\n21. März 17–22 Uhr\n17. April 17–22 Uhr\n18. April 17–22 Uhr
URL:https://unsere-hafencity.de/event/nachtflohmarkt-in-der-gleishalle-3/2026-02-28/
LOCATION:gleishalle\, Gleishalle\, Stockmeyerstraße 43\, Hamburg\, Hamburg\, 20457
CATEGORIES:Flohmarkt
ATTACH;FMTTYPE=image/jpeg:https://unsere-hafencity.de/wp-content/uploads/2025/10/Nachtflohmarkt-Gleishalle.jpg
END:VEVENT
END:VCALENDAR