BEGIN:VCALENDAR
VERSION:2.0
PRODID:-//unsere-hafencity - ECPv6.15.20//NONSGML v1.0//EN
CALSCALE:GREGORIAN
METHOD:PUBLISH
X-WR-CALNAME:unsere-hafencity
X-ORIGINAL-URL:https://unsere-hafencity.de
X-WR-CALDESC:Veranstaltungen für unsere-hafencity
REFRESH-INTERVAL;VALUE=DURATION:PT1H
X-Robots-Tag:noindex
X-PUBLISHED-TTL:PT1H
BEGIN:VTIMEZONE
TZID:Europe/Berlin
BEGIN:DAYLIGHT
TZOFFSETFROM:+0100
TZOFFSETTO:+0200
TZNAME:CEST
DTSTART:20260329T010000
END:DAYLIGHT
BEGIN:STANDARD
TZOFFSETFROM:+0200
TZOFFSETTO:+0100
TZNAME:CET
DTSTART:20261025T010000
END:STANDARD
BEGIN:DAYLIGHT
TZOFFSETFROM:+0100
TZOFFSETTO:+0200
TZNAME:CEST
DTSTART:20270328T010000
END:DAYLIGHT
BEGIN:STANDARD
TZOFFSETFROM:+0200
TZOFFSETTO:+0100
TZNAME:CET
DTSTART:20271031T010000
END:STANDARD
BEGIN:DAYLIGHT
TZOFFSETFROM:+0100
TZOFFSETTO:+0200
TZNAME:CEST
DTSTART:20280326T010000
END:DAYLIGHT
BEGIN:STANDARD
TZOFFSETFROM:+0200
TZOFFSETTO:+0100
TZNAME:CET
DTSTART:20281029T010000
END:STANDARD
END:VTIMEZONE
BEGIN:VEVENT
DTSTART;TZID=Europe/Berlin:20270622T130000
DTEND;TZID=Europe/Berlin:20270622T140000
DTSTAMP:20260425T201258
CREATED:20260324T204502Z
LAST-MODIFIED:20260324T204502Z
UID:10012717-1813669200-1813672800@unsere-hafencity.de
SUMMARY:Telefonische Sprechzeit
DESCRIPTION:Du hast Anliegen\, Wünsche\, Anregungen\, Ideen für die HafenCity oder einfach eine Frage zu unseren Angeboten? \nDann melde dich gerne telefonisch in unserer Sprechzeit dienstags und donnerstags von 13:00 bis 14:00 Uhr unter 0160 97941743\, um dein Anliegen gemeinsam zu besprechen. \n\nWann: Dienstags und Donnerstags\, 13:00-14:00 Uhr (Feiertage ausgenommen)\nOrt: telefonisch unter: 0160 97941743\nAnmeldung: nicht notwendig\nAngebotsleitung: Quartiersmanagement HafenCity e.V.
URL:https://unsere-hafencity.de/event/telefonische-sprechzeit/2027-06-22/
LOCATION:Hamburg
ORGANIZER;CN="Quartiersmanagement HafenCity e.V.":MAILTO:kontakt@unsere-hafencity.de
END:VEVENT
BEGIN:VEVENT
DTSTART;TZID=Europe/Berlin:20270623T110000
DTEND;TZID=Europe/Berlin:20270623T120000
DTSTAMP:20260425T201258
CREATED:20260324T195517Z
LAST-MODIFIED:20260327T120901Z
UID:10012542-1813748400-1813752000@unsere-hafencity.de
SUMMARY:Mütterberatung inkl. Krabbelgruppe (Kleinkinder)
DESCRIPTION:Die Mütterberatung bietet Unterstützung bei vielen Fragen rund ums Kleinkind.  \nEine erfahrene Kinderkrankenschwester berät zu Themen wie Pflege und Entwicklung Deines Kindes\, Stillen\, Ernährung sowie Informationen über empfohlene Impfungen. Während des Kurses besteht außerdem die Möglichkeit\, Dein Kind wiegen und messen zu lassen. \nAuch bei Fragen oder Sorgen – etwa wenn Dein Baby viel weint oder nachts unruhig schläft – erhältst Du Unterstützung. \nParallel zur Beratung findet ein Eltern-Treff mit Krabbelgruppe statt\, sodass Du die Gelegenheit hast\, Dich mit anderen Eltern auszutauschen. \n\nWann: Mittwoch\,\n10:00-11:00 Uhr (Babys)\n11:00-12:00 Uhr (Kleinkinder)\nTeilnehmer: Offen für alle interessierten Eltern\nAnmeldung: nicht notwendig\nKursleitung: Sonja Snow\n\n 
URL:https://unsere-hafencity.de/event/muetterberatung-inkl-krabbelgruppe-kleinkinder-2-2/2027-06-23/
LOCATION:Gemeinschaftshaus Grasbrook Park\, Gemeinschaftshaus Grasbrookpark\, Strandkai\, Hamburg\, 20457\, Germany
CATEGORIES:Kinder
ATTACH;FMTTYPE=image/jpeg:https://unsere-hafencity.de/wp-content/uploads/2025/07/Muetterberatung-HafenCity-Kleinkinder-e1753087294492.jpg
END:VEVENT
BEGIN:VEVENT
DTSTART;TZID=Europe/Berlin:20270624T130000
DTEND;TZID=Europe/Berlin:20270624T140000
DTSTAMP:20260425T201258
CREATED:20260324T204502Z
LAST-MODIFIED:20260324T204502Z
UID:10012718-1813842000-1813845600@unsere-hafencity.de
SUMMARY:Telefonische Sprechzeit
DESCRIPTION:Du hast Anliegen\, Wünsche\, Anregungen\, Ideen für die HafenCity oder einfach eine Frage zu unseren Angeboten? \nDann melde dich gerne telefonisch in unserer Sprechzeit dienstags und donnerstags von 13:00 bis 14:00 Uhr unter 0160 97941743\, um dein Anliegen gemeinsam zu besprechen. \n\nWann: Dienstags und Donnerstags\, 13:00-14:00 Uhr (Feiertage ausgenommen)\nOrt: telefonisch unter: 0160 97941743\nAnmeldung: nicht notwendig\nAngebotsleitung: Quartiersmanagement HafenCity e.V.
URL:https://unsere-hafencity.de/event/telefonische-sprechzeit/2027-06-24/
LOCATION:Hamburg
ORGANIZER;CN="Quartiersmanagement HafenCity e.V.":MAILTO:kontakt@unsere-hafencity.de
END:VEVENT
BEGIN:VEVENT
DTSTART;TZID=Europe/Berlin:20270629T130000
DTEND;TZID=Europe/Berlin:20270629T140000
DTSTAMP:20260425T201258
CREATED:20260324T204502Z
LAST-MODIFIED:20260324T204502Z
UID:10012719-1814274000-1814277600@unsere-hafencity.de
SUMMARY:Telefonische Sprechzeit
DESCRIPTION:Du hast Anliegen\, Wünsche\, Anregungen\, Ideen für die HafenCity oder einfach eine Frage zu unseren Angeboten? \nDann melde dich gerne telefonisch in unserer Sprechzeit dienstags und donnerstags von 13:00 bis 14:00 Uhr unter 0160 97941743\, um dein Anliegen gemeinsam zu besprechen. \n\nWann: Dienstags und Donnerstags\, 13:00-14:00 Uhr (Feiertage ausgenommen)\nOrt: telefonisch unter: 0160 97941743\nAnmeldung: nicht notwendig\nAngebotsleitung: Quartiersmanagement HafenCity e.V.
URL:https://unsere-hafencity.de/event/telefonische-sprechzeit/2027-06-29/
LOCATION:Hamburg
ORGANIZER;CN="Quartiersmanagement HafenCity e.V.":MAILTO:kontakt@unsere-hafencity.de
END:VEVENT
END:VCALENDAR