BEGIN:VCALENDAR
VERSION:2.0
PRODID:-//unsere-hafencity - ECPv6.15.20//NONSGML v1.0//EN
CALSCALE:GREGORIAN
METHOD:PUBLISH
X-ORIGINAL-URL:https://unsere-hafencity.de
X-WR-CALDESC:Veranstaltungen für unsere-hafencity
REFRESH-INTERVAL;VALUE=DURATION:PT1H
X-Robots-Tag:noindex
X-PUBLISHED-TTL:PT1H
BEGIN:VTIMEZONE
TZID:Europe/Berlin
BEGIN:DAYLIGHT
TZOFFSETFROM:+0100
TZOFFSETTO:+0200
TZNAME:CEST
DTSTART:20240331T010000
END:DAYLIGHT
BEGIN:STANDARD
TZOFFSETFROM:+0200
TZOFFSETTO:+0100
TZNAME:CET
DTSTART:20241027T010000
END:STANDARD
BEGIN:DAYLIGHT
TZOFFSETFROM:+0100
TZOFFSETTO:+0200
TZNAME:CEST
DTSTART:20250330T010000
END:DAYLIGHT
BEGIN:STANDARD
TZOFFSETFROM:+0200
TZOFFSETTO:+0100
TZNAME:CET
DTSTART:20251026T010000
END:STANDARD
BEGIN:DAYLIGHT
TZOFFSETFROM:+0100
TZOFFSETTO:+0200
TZNAME:CEST
DTSTART:20260329T010000
END:DAYLIGHT
BEGIN:STANDARD
TZOFFSETFROM:+0200
TZOFFSETTO:+0100
TZNAME:CET
DTSTART:20261025T010000
END:STANDARD
END:VTIMEZONE
BEGIN:VEVENT
DTSTART;TZID=Europe/Berlin:20251214T113000
DTEND;TZID=Europe/Berlin:20251214T133000
DTSTAMP:20260424T111842
CREATED:20251212T081713Z
LAST-MODIFIED:20251212T081713Z
UID:10007387-1765711800-1765719000@unsere-hafencity.de
SUMMARY:DER NUSSKNACKER im Kino – Ballettklassiker aus der Opéra national de Paris
DESCRIPTION:In einer festlichen Sondervorstellung des Kinopolis erwartet euch ein echtes Highlight der Vorweihnachtszeit: „Der Nussknacker“ – das weltberühmte Ballett\, aufgezeichnet an der Opéra Bastille in Paris\, wird auf der großen Leinwand gezeigt. Ein märchenhaftes Erlebnis für die ganze Familie. \nDetails: \n\nWann: Sonntag\, 14. Dezember 2025 | 11:30 Uhr\nWo: KINOPOLIS HafenCity\, Überseeboulevard 11\, 20457 Hamburg\nTickets unter: kinopolis.de/\n\nDarum geht’s:Die junge Clara erhält am Weihnachtsabend einen unscheinbaren Nussknacker. Doch in der Nacht erwacht er zum Leben und nimmt sie mit auf eine fantastische Reise durch Traumwelten voller Magie\, Musik und Abenteuer. Begleitet von Tschaikowskis mitreißender Musik entfaltet sich ein klassisches Wintermärchen mit allem\, was das Herz begehrt.
URL:https://unsere-hafencity.de/event/der-nussknacker-im-kino-ballettklassiker-aus-der-opera-national-de-paris/
LOCATION:Kinopolis\, Überseeboulevard 11\, Hamburg\, 20457
ATTACH;FMTTYPE=image/png:https://unsere-hafencity.de/wp-content/uploads/2025/12/Nussknacker-kinopolis-hafencity-eventkalender.png
END:VEVENT
END:VCALENDAR