BEGIN:VCALENDAR
VERSION:2.0
PRODID:-//unsere-hafencity - ECPv6.15.20//NONSGML v1.0//EN
CALSCALE:GREGORIAN
METHOD:PUBLISH
X-ORIGINAL-URL:https://unsere-hafencity.de
X-WR-CALDESC:Veranstaltungen für unsere-hafencity
REFRESH-INTERVAL;VALUE=DURATION:PT1H
X-Robots-Tag:noindex
X-PUBLISHED-TTL:PT1H
BEGIN:VTIMEZONE
TZID:Europe/Berlin
BEGIN:DAYLIGHT
TZOFFSETFROM:+0100
TZOFFSETTO:+0200
TZNAME:CEST
DTSTART:20250330T010000
END:DAYLIGHT
BEGIN:STANDARD
TZOFFSETFROM:+0200
TZOFFSETTO:+0100
TZNAME:CET
DTSTART:20251026T010000
END:STANDARD
BEGIN:DAYLIGHT
TZOFFSETFROM:+0100
TZOFFSETTO:+0200
TZNAME:CEST
DTSTART:20260329T010000
END:DAYLIGHT
BEGIN:STANDARD
TZOFFSETFROM:+0200
TZOFFSETTO:+0100
TZNAME:CET
DTSTART:20261025T010000
END:STANDARD
BEGIN:DAYLIGHT
TZOFFSETFROM:+0100
TZOFFSETTO:+0200
TZNAME:CEST
DTSTART:20270328T010000
END:DAYLIGHT
BEGIN:STANDARD
TZOFFSETFROM:+0200
TZOFFSETTO:+0100
TZNAME:CET
DTSTART:20271031T010000
END:STANDARD
END:VTIMEZONE
BEGIN:VEVENT
DTSTART;TZID=Europe/Berlin:20260527T183000
DTEND;TZID=Europe/Berlin:20260527T203000
DTSTAMP:20260422T142735
CREATED:20260324T202216Z
LAST-MODIFIED:20260327T090619Z
UID:10012570-1779906600-1779913800@unsere-hafencity.de
SUMMARY:Kreativ-Workshop
DESCRIPTION:Bei unserem Kreativ-Workshop erwartet Dich jeden Monat ein neues\, inspirierendes Thema. Gemeinsam gestalten und ausprobieren in netter Runde\, mit viel Raum für deine eigene Kreativität.  \nKomm vorbei und nimm nicht nur ein Kunstwerk\, sondern auch neue Impulse mit nach Hause. \n\nWann: Letzter Mittwoch im Monat\, 18:30-20:30 Uhr | 29.04.\, 27.05.\, 24.06.\nOrt: Gemeinschaftshaus Grasbrookpark\nTeilnehmende: Max. 12 Personen\nAnmeldung: notwendig\, für jeweils einen Termin\nAngebotsleitung: Lana Solms\n\nZur Anmeldung unter: Anmeldungsformular für Programmplan 2026 – Q2 Quartiersmanagement HafenCity  – Formular ausfüllen  oder eine E-Mail an moin@unsere-hafencity.de \nApril: Zeit für Kunst – Kreative Wanduhren gestalten\nIn diesem Workshop gestaltest Du deine eigene Wanduhr – modern\, persönlich und genau so\, wie sie zu dir passt. Nach einer kurzen Einführung in Farben\, Formen und Maltechniken entwickelst Du dein individuelles Design. In entspannter Atmosphäre wirst Du während des gesamten Kurses kreativ begleitet und bekommst Inspiration und Tipps. Zum Schluss kommt die Batterie rein – und fertig ist deine selbst designte Uhr. Ein echtes Unikat für deine Wand! \nMai: Collage – cut\, glue\, create!\nWillkommen zu einem entspannten Abend voller Kreativität und Ausdruck! Collage (vom französischen coller = kleben) wurde von Künstlern wie Braque & Picasso gefeiert – und begeistert bis heute mit mutigen Mix aus Bild\, Text & Idee. Ob Vision Board\, Popkultur- Reflexion oder einfach nur zum Spaß – hier kannst du dich kreativ austoben! Du bekommst eine Leinwandplatte und jede Menge Material: Magazine\, Bücher\, Farben\, Pinsel\, Scheren\, Kleber – alles wird da sein. Komm vorbei und collage los! \nJuni: Paint Your Tote Bag\nIn diesem kreativen Workshop verwandelst Du eine schlichte Stofftasche in dein eigenes\, farbenfrohes Unikat. Wir stellen dir bunte Textilfarben & coole Schablonen zur Verfügung – Du bringst deine Kreativität mit. Egal ob Anfänger:in oder Profi: Hier zählt dein Stil! Am Ende nimmst Du eine selbst gestaltete Tote Bag mit nach Hause – praktisch\, einzigartig und absolut Du.
URL:https://unsere-hafencity.de/event/kreativ-workshop-2-2/2026-05-27/
LOCATION:Gemeinschaftshaus Grasbrook Park\, Gemeinschaftshaus Grasbrookpark\, Strandkai\, Hamburg\, 20457\, Germany
ATTACH;FMTTYPE=image/jpeg:https://unsere-hafencity.de/wp-content/uploads/2025/12/Kreativ-Workshop-HafenCity-e1765731235609.jpeg
END:VEVENT
END:VCALENDAR