BEGIN:VCALENDAR
VERSION:2.0
PRODID:-//unsere-hafencity - ECPv6.15.20//NONSGML v1.0//EN
CALSCALE:GREGORIAN
METHOD:PUBLISH
X-WR-CALNAME:unsere-hafencity
X-ORIGINAL-URL:https://unsere-hafencity.de
X-WR-CALDESC:Veranstaltungen für unsere-hafencity
REFRESH-INTERVAL;VALUE=DURATION:PT1H
X-Robots-Tag:noindex
X-PUBLISHED-TTL:PT1H
BEGIN:VTIMEZONE
TZID:Europe/Berlin
BEGIN:DAYLIGHT
TZOFFSETFROM:+0100
TZOFFSETTO:+0200
TZNAME:CEST
DTSTART:20240331T010000
END:DAYLIGHT
BEGIN:STANDARD
TZOFFSETFROM:+0200
TZOFFSETTO:+0100
TZNAME:CET
DTSTART:20241027T010000
END:STANDARD
BEGIN:DAYLIGHT
TZOFFSETFROM:+0100
TZOFFSETTO:+0200
TZNAME:CEST
DTSTART:20250330T010000
END:DAYLIGHT
BEGIN:STANDARD
TZOFFSETFROM:+0200
TZOFFSETTO:+0100
TZNAME:CET
DTSTART:20251026T010000
END:STANDARD
BEGIN:DAYLIGHT
TZOFFSETFROM:+0100
TZOFFSETTO:+0200
TZNAME:CEST
DTSTART:20260329T010000
END:DAYLIGHT
BEGIN:STANDARD
TZOFFSETFROM:+0200
TZOFFSETTO:+0100
TZNAME:CET
DTSTART:20261025T010000
END:STANDARD
END:VTIMEZONE
BEGIN:VEVENT
DTSTART;TZID=Europe/Berlin:20251114T160000
DTEND;TZID=Europe/Berlin:20251114T190000
DTSTAMP:20260425T125507
CREATED:20251109T085207Z
LAST-MODIFIED:20251109T085436Z
UID:10005734-1763136000-1763146800@unsere-hafencity.de
SUMMARY:Lichterfest am Gerda-Gmelin-Platz
DESCRIPTION:Ein leuchtendes Nachbarschaftsfest für Groß und Klein. \nWenn es draußen früher dunkel wird\, bringen wir gemeinsam Licht ins Quartier! Das Lichterfest auf dem Gerda-Gmelin-Platz lädt alle Nachbarinnen\, Nachbarn und Gäste der HafenCity zu einem herzlichen und barrierefreien Begegnungsfest ein\, unter freiem Himmel und in gemütlicher Atmosphäre. \n\nWann: Freitag\, 14. November 2025 |16:00 – 20:00 Uhr\nWo: Gerda-Gmelin-Platz\, HafenCity Hamburg\nEintritt: frei\n\nFreut euch sich auf ein buntes Programm für die ganze Familie: \n\nStimmungsvolle Illumination des Platzes\nLive-Musik & Märchenlesung\nBastelaktionen für Kinder\nFotowand für Erinnerungen\nFoodtrucks mit Pommes\, Crêpes & Glühwein\n\nOb beim gemütlichen Plausch mit Glühwein\, beim Kreativsein mit den Kindern oder beim Zuhören\, wenn Märchen und Musik durch den Platz klingen – dieses Fest bringt Menschen zusammen. \nKommt vorbei\, bringt Freund:innen\, Familie oder Nachbar:innen mit und feiert mit uns ein lichtvolles HafenCity-Fest für alle!
URL:https://unsere-hafencity.de/event/lichterfest-am-gerda-gmelin-platz/
ATTACH;FMTTYPE=application/pdf:https://unsere-hafencity.de/wp-content/uploads/2025/11/Plakat-Lichterfest.pdf
END:VEVENT
END:VCALENDAR