BEGIN:VCALENDAR
VERSION:2.0
PRODID:-//unsere-hafencity - ECPv6.15.20//NONSGML v1.0//EN
CALSCALE:GREGORIAN
METHOD:PUBLISH
X-ORIGINAL-URL:https://unsere-hafencity.de
X-WR-CALDESC:Veranstaltungen für unsere-hafencity
REFRESH-INTERVAL;VALUE=DURATION:PT1H
X-Robots-Tag:noindex
X-PUBLISHED-TTL:PT1H
BEGIN:VTIMEZONE
TZID:Europe/Berlin
BEGIN:DAYLIGHT
TZOFFSETFROM:+0100
TZOFFSETTO:+0200
TZNAME:CEST
DTSTART:20270328T010000
END:DAYLIGHT
BEGIN:STANDARD
TZOFFSETFROM:+0200
TZOFFSETTO:+0100
TZNAME:CET
DTSTART:20271031T010000
END:STANDARD
BEGIN:DAYLIGHT
TZOFFSETFROM:+0100
TZOFFSETTO:+0200
TZNAME:CEST
DTSTART:20280326T010000
END:DAYLIGHT
BEGIN:STANDARD
TZOFFSETFROM:+0200
TZOFFSETTO:+0100
TZNAME:CET
DTSTART:20281029T010000
END:STANDARD
BEGIN:DAYLIGHT
TZOFFSETFROM:+0100
TZOFFSETTO:+0200
TZNAME:CEST
DTSTART:20290325T010000
END:DAYLIGHT
BEGIN:STANDARD
TZOFFSETFROM:+0200
TZOFFSETTO:+0100
TZNAME:CET
DTSTART:20291028T010000
END:STANDARD
BEGIN:DAYLIGHT
TZOFFSETFROM:+0100
TZOFFSETTO:+0200
TZNAME:CEST
DTSTART:20300331T010000
END:DAYLIGHT
BEGIN:STANDARD
TZOFFSETFROM:+0200
TZOFFSETTO:+0100
TZNAME:CET
DTSTART:20301027T010000
END:STANDARD
END:VTIMEZONE
BEGIN:VEVENT
DTSTART;TZID=Europe/Berlin:20281005T190000
DTEND;TZID=Europe/Berlin:20281005T210000
DTSTAMP:20260426T021028
CREATED:20250805T062751Z
LAST-MODIFIED:20250805T062751Z
UID:10004048-1854385200-1854392400@unsere-hafencity.de
SUMMARY:Offener Nachbarschaftstreff - QUARTERPIPE BAR
DESCRIPTION:Kommt vorbei und genießt\neinen entspannten Abend bei guter Gesellschaft und leckeren Getränken! \nNeben kühlen Drinks könnt ihr auch eine Runde Kickern oder Tischtennis spielen. \nAlle willkommen 🙂
URL:https://unsere-hafencity.de/event/offener-nachbarschaftstreff-quarterpipe-bar/2028-10-05/
LOCATION:QUARTERPIPE\, Versmannstrasse 66 (Zugang über Versmannkai)\, Hamburg\, Hamburg\, 20457\, Germany
ATTACH;FMTTYPE=image/png:https://unsere-hafencity.de/wp-content/uploads/2025/08/QP.png
END:VEVENT
BEGIN:VEVENT
DTSTART;TZID=Europe/Berlin:20281012T190000
DTEND;TZID=Europe/Berlin:20281012T210000
DTSTAMP:20260426T021028
CREATED:20250805T062751Z
LAST-MODIFIED:20250805T062751Z
UID:10004049-1854990000-1854997200@unsere-hafencity.de
SUMMARY:Offener Nachbarschaftstreff - QUARTERPIPE BAR
DESCRIPTION:Kommt vorbei und genießt\neinen entspannten Abend bei guter Gesellschaft und leckeren Getränken! \nNeben kühlen Drinks könnt ihr auch eine Runde Kickern oder Tischtennis spielen. \nAlle willkommen 🙂
URL:https://unsere-hafencity.de/event/offener-nachbarschaftstreff-quarterpipe-bar/2028-10-12/
LOCATION:QUARTERPIPE\, Versmannstrasse 66 (Zugang über Versmannkai)\, Hamburg\, Hamburg\, 20457\, Germany
ATTACH;FMTTYPE=image/png:https://unsere-hafencity.de/wp-content/uploads/2025/08/QP.png
END:VEVENT
BEGIN:VEVENT
DTSTART;TZID=Europe/Berlin:20281019T190000
DTEND;TZID=Europe/Berlin:20281019T210000
DTSTAMP:20260426T021028
CREATED:20250805T062751Z
LAST-MODIFIED:20250805T062751Z
UID:10004050-1855594800-1855602000@unsere-hafencity.de
SUMMARY:Offener Nachbarschaftstreff - QUARTERPIPE BAR
DESCRIPTION:Kommt vorbei und genießt\neinen entspannten Abend bei guter Gesellschaft und leckeren Getränken! \nNeben kühlen Drinks könnt ihr auch eine Runde Kickern oder Tischtennis spielen. \nAlle willkommen 🙂
URL:https://unsere-hafencity.de/event/offener-nachbarschaftstreff-quarterpipe-bar/2028-10-19/
LOCATION:QUARTERPIPE\, Versmannstrasse 66 (Zugang über Versmannkai)\, Hamburg\, Hamburg\, 20457\, Germany
ATTACH;FMTTYPE=image/png:https://unsere-hafencity.de/wp-content/uploads/2025/08/QP.png
END:VEVENT
BEGIN:VEVENT
DTSTART;TZID=Europe/Berlin:20281026T190000
DTEND;TZID=Europe/Berlin:20281026T210000
DTSTAMP:20260426T021028
CREATED:20250805T062751Z
LAST-MODIFIED:20250805T062751Z
UID:10004051-1856199600-1856206800@unsere-hafencity.de
SUMMARY:Offener Nachbarschaftstreff - QUARTERPIPE BAR
DESCRIPTION:Kommt vorbei und genießt\neinen entspannten Abend bei guter Gesellschaft und leckeren Getränken! \nNeben kühlen Drinks könnt ihr auch eine Runde Kickern oder Tischtennis spielen. \nAlle willkommen 🙂
URL:https://unsere-hafencity.de/event/offener-nachbarschaftstreff-quarterpipe-bar/2028-10-26/
LOCATION:QUARTERPIPE\, Versmannstrasse 66 (Zugang über Versmannkai)\, Hamburg\, Hamburg\, 20457\, Germany
ATTACH;FMTTYPE=image/png:https://unsere-hafencity.de/wp-content/uploads/2025/08/QP.png
END:VEVENT
BEGIN:VEVENT
DTSTART;TZID=Europe/Berlin:20281102T190000
DTEND;TZID=Europe/Berlin:20281102T210000
DTSTAMP:20260426T021028
CREATED:20250805T062751Z
LAST-MODIFIED:20250805T062751Z
UID:10004052-1856804400-1856811600@unsere-hafencity.de
SUMMARY:Offener Nachbarschaftstreff - QUARTERPIPE BAR
DESCRIPTION:Kommt vorbei und genießt\neinen entspannten Abend bei guter Gesellschaft und leckeren Getränken! \nNeben kühlen Drinks könnt ihr auch eine Runde Kickern oder Tischtennis spielen. \nAlle willkommen 🙂
URL:https://unsere-hafencity.de/event/offener-nachbarschaftstreff-quarterpipe-bar/2028-11-02/
LOCATION:QUARTERPIPE\, Versmannstrasse 66 (Zugang über Versmannkai)\, Hamburg\, Hamburg\, 20457\, Germany
ATTACH;FMTTYPE=image/png:https://unsere-hafencity.de/wp-content/uploads/2025/08/QP.png
END:VEVENT
BEGIN:VEVENT
DTSTART;TZID=Europe/Berlin:20281109T190000
DTEND;TZID=Europe/Berlin:20281109T210000
DTSTAMP:20260426T021028
CREATED:20250805T062751Z
LAST-MODIFIED:20250805T062751Z
UID:10004053-1857409200-1857416400@unsere-hafencity.de
SUMMARY:Offener Nachbarschaftstreff - QUARTERPIPE BAR
DESCRIPTION:Kommt vorbei und genießt\neinen entspannten Abend bei guter Gesellschaft und leckeren Getränken! \nNeben kühlen Drinks könnt ihr auch eine Runde Kickern oder Tischtennis spielen. \nAlle willkommen 🙂
URL:https://unsere-hafencity.de/event/offener-nachbarschaftstreff-quarterpipe-bar/2028-11-09/
LOCATION:QUARTERPIPE\, Versmannstrasse 66 (Zugang über Versmannkai)\, Hamburg\, Hamburg\, 20457\, Germany
ATTACH;FMTTYPE=image/png:https://unsere-hafencity.de/wp-content/uploads/2025/08/QP.png
END:VEVENT
BEGIN:VEVENT
DTSTART;TZID=Europe/Berlin:20281116T190000
DTEND;TZID=Europe/Berlin:20281116T210000
DTSTAMP:20260426T021028
CREATED:20250805T062751Z
LAST-MODIFIED:20250805T062751Z
UID:10004054-1858014000-1858021200@unsere-hafencity.de
SUMMARY:Offener Nachbarschaftstreff - QUARTERPIPE BAR
DESCRIPTION:Kommt vorbei und genießt\neinen entspannten Abend bei guter Gesellschaft und leckeren Getränken! \nNeben kühlen Drinks könnt ihr auch eine Runde Kickern oder Tischtennis spielen. \nAlle willkommen 🙂
URL:https://unsere-hafencity.de/event/offener-nachbarschaftstreff-quarterpipe-bar/2028-11-16/
LOCATION:QUARTERPIPE\, Versmannstrasse 66 (Zugang über Versmannkai)\, Hamburg\, Hamburg\, 20457\, Germany
ATTACH;FMTTYPE=image/png:https://unsere-hafencity.de/wp-content/uploads/2025/08/QP.png
END:VEVENT
BEGIN:VEVENT
DTSTART;TZID=Europe/Berlin:20281123T190000
DTEND;TZID=Europe/Berlin:20281123T210000
DTSTAMP:20260426T021028
CREATED:20250805T062751Z
LAST-MODIFIED:20250805T062751Z
UID:10004055-1858618800-1858626000@unsere-hafencity.de
SUMMARY:Offener Nachbarschaftstreff - QUARTERPIPE BAR
DESCRIPTION:Kommt vorbei und genießt\neinen entspannten Abend bei guter Gesellschaft und leckeren Getränken! \nNeben kühlen Drinks könnt ihr auch eine Runde Kickern oder Tischtennis spielen. \nAlle willkommen 🙂
URL:https://unsere-hafencity.de/event/offener-nachbarschaftstreff-quarterpipe-bar/2028-11-23/
LOCATION:QUARTERPIPE\, Versmannstrasse 66 (Zugang über Versmannkai)\, Hamburg\, Hamburg\, 20457\, Germany
ATTACH;FMTTYPE=image/png:https://unsere-hafencity.de/wp-content/uploads/2025/08/QP.png
END:VEVENT
BEGIN:VEVENT
DTSTART;TZID=Europe/Berlin:20281130T190000
DTEND;TZID=Europe/Berlin:20281130T210000
DTSTAMP:20260426T021028
CREATED:20250805T062751Z
LAST-MODIFIED:20250805T062751Z
UID:10004056-1859223600-1859230800@unsere-hafencity.de
SUMMARY:Offener Nachbarschaftstreff - QUARTERPIPE BAR
DESCRIPTION:Kommt vorbei und genießt\neinen entspannten Abend bei guter Gesellschaft und leckeren Getränken! \nNeben kühlen Drinks könnt ihr auch eine Runde Kickern oder Tischtennis spielen. \nAlle willkommen 🙂
URL:https://unsere-hafencity.de/event/offener-nachbarschaftstreff-quarterpipe-bar/2028-11-30/
LOCATION:QUARTERPIPE\, Versmannstrasse 66 (Zugang über Versmannkai)\, Hamburg\, Hamburg\, 20457\, Germany
ATTACH;FMTTYPE=image/png:https://unsere-hafencity.de/wp-content/uploads/2025/08/QP.png
END:VEVENT
BEGIN:VEVENT
DTSTART;TZID=Europe/Berlin:20281207T190000
DTEND;TZID=Europe/Berlin:20281207T210000
DTSTAMP:20260426T021028
CREATED:20250805T062751Z
LAST-MODIFIED:20250805T062751Z
UID:10004057-1859828400-1859835600@unsere-hafencity.de
SUMMARY:Offener Nachbarschaftstreff - QUARTERPIPE BAR
DESCRIPTION:Kommt vorbei und genießt\neinen entspannten Abend bei guter Gesellschaft und leckeren Getränken! \nNeben kühlen Drinks könnt ihr auch eine Runde Kickern oder Tischtennis spielen. \nAlle willkommen 🙂
URL:https://unsere-hafencity.de/event/offener-nachbarschaftstreff-quarterpipe-bar/2028-12-07/
LOCATION:QUARTERPIPE\, Versmannstrasse 66 (Zugang über Versmannkai)\, Hamburg\, Hamburg\, 20457\, Germany
ATTACH;FMTTYPE=image/png:https://unsere-hafencity.de/wp-content/uploads/2025/08/QP.png
END:VEVENT
BEGIN:VEVENT
DTSTART;TZID=Europe/Berlin:20281214T190000
DTEND;TZID=Europe/Berlin:20281214T210000
DTSTAMP:20260426T021028
CREATED:20250805T062751Z
LAST-MODIFIED:20250805T062751Z
UID:10004058-1860433200-1860440400@unsere-hafencity.de
SUMMARY:Offener Nachbarschaftstreff - QUARTERPIPE BAR
DESCRIPTION:Kommt vorbei und genießt\neinen entspannten Abend bei guter Gesellschaft und leckeren Getränken! \nNeben kühlen Drinks könnt ihr auch eine Runde Kickern oder Tischtennis spielen. \nAlle willkommen 🙂
URL:https://unsere-hafencity.de/event/offener-nachbarschaftstreff-quarterpipe-bar/2028-12-14/
LOCATION:QUARTERPIPE\, Versmannstrasse 66 (Zugang über Versmannkai)\, Hamburg\, Hamburg\, 20457\, Germany
ATTACH;FMTTYPE=image/png:https://unsere-hafencity.de/wp-content/uploads/2025/08/QP.png
END:VEVENT
BEGIN:VEVENT
DTSTART;TZID=Europe/Berlin:20281221T190000
DTEND;TZID=Europe/Berlin:20281221T210000
DTSTAMP:20260426T021028
CREATED:20250805T062751Z
LAST-MODIFIED:20250805T062751Z
UID:10004059-1861038000-1861045200@unsere-hafencity.de
SUMMARY:Offener Nachbarschaftstreff - QUARTERPIPE BAR
DESCRIPTION:Kommt vorbei und genießt\neinen entspannten Abend bei guter Gesellschaft und leckeren Getränken! \nNeben kühlen Drinks könnt ihr auch eine Runde Kickern oder Tischtennis spielen. \nAlle willkommen 🙂
URL:https://unsere-hafencity.de/event/offener-nachbarschaftstreff-quarterpipe-bar/2028-12-21/
LOCATION:QUARTERPIPE\, Versmannstrasse 66 (Zugang über Versmannkai)\, Hamburg\, Hamburg\, 20457\, Germany
ATTACH;FMTTYPE=image/png:https://unsere-hafencity.de/wp-content/uploads/2025/08/QP.png
END:VEVENT
BEGIN:VEVENT
DTSTART;TZID=Europe/Berlin:20281228T190000
DTEND;TZID=Europe/Berlin:20281228T210000
DTSTAMP:20260426T021028
CREATED:20250805T062751Z
LAST-MODIFIED:20250805T062751Z
UID:10004060-1861642800-1861650000@unsere-hafencity.de
SUMMARY:Offener Nachbarschaftstreff - QUARTERPIPE BAR
DESCRIPTION:Kommt vorbei und genießt\neinen entspannten Abend bei guter Gesellschaft und leckeren Getränken! \nNeben kühlen Drinks könnt ihr auch eine Runde Kickern oder Tischtennis spielen. \nAlle willkommen 🙂
URL:https://unsere-hafencity.de/event/offener-nachbarschaftstreff-quarterpipe-bar/2028-12-28/
LOCATION:QUARTERPIPE\, Versmannstrasse 66 (Zugang über Versmannkai)\, Hamburg\, Hamburg\, 20457\, Germany
ATTACH;FMTTYPE=image/png:https://unsere-hafencity.de/wp-content/uploads/2025/08/QP.png
END:VEVENT
BEGIN:VEVENT
DTSTART;TZID=Europe/Berlin:20290104T190000
DTEND;TZID=Europe/Berlin:20290104T210000
DTSTAMP:20260426T021028
CREATED:20250805T062751Z
LAST-MODIFIED:20250805T062751Z
UID:10004061-1862247600-1862254800@unsere-hafencity.de
SUMMARY:Offener Nachbarschaftstreff - QUARTERPIPE BAR
DESCRIPTION:Kommt vorbei und genießt\neinen entspannten Abend bei guter Gesellschaft und leckeren Getränken! \nNeben kühlen Drinks könnt ihr auch eine Runde Kickern oder Tischtennis spielen. \nAlle willkommen 🙂
URL:https://unsere-hafencity.de/event/offener-nachbarschaftstreff-quarterpipe-bar/2029-01-04/
LOCATION:QUARTERPIPE\, Versmannstrasse 66 (Zugang über Versmannkai)\, Hamburg\, Hamburg\, 20457\, Germany
ATTACH;FMTTYPE=image/png:https://unsere-hafencity.de/wp-content/uploads/2025/08/QP.png
END:VEVENT
BEGIN:VEVENT
DTSTART;TZID=Europe/Berlin:20290111T190000
DTEND;TZID=Europe/Berlin:20290111T210000
DTSTAMP:20260426T021028
CREATED:20250805T062751Z
LAST-MODIFIED:20250805T062751Z
UID:10004062-1862852400-1862859600@unsere-hafencity.de
SUMMARY:Offener Nachbarschaftstreff - QUARTERPIPE BAR
DESCRIPTION:Kommt vorbei und genießt\neinen entspannten Abend bei guter Gesellschaft und leckeren Getränken! \nNeben kühlen Drinks könnt ihr auch eine Runde Kickern oder Tischtennis spielen. \nAlle willkommen 🙂
URL:https://unsere-hafencity.de/event/offener-nachbarschaftstreff-quarterpipe-bar/2029-01-11/
LOCATION:QUARTERPIPE\, Versmannstrasse 66 (Zugang über Versmannkai)\, Hamburg\, Hamburg\, 20457\, Germany
ATTACH;FMTTYPE=image/png:https://unsere-hafencity.de/wp-content/uploads/2025/08/QP.png
END:VEVENT
BEGIN:VEVENT
DTSTART;TZID=Europe/Berlin:20290118T190000
DTEND;TZID=Europe/Berlin:20290118T210000
DTSTAMP:20260426T021028
CREATED:20250805T062751Z
LAST-MODIFIED:20250805T062751Z
UID:10004063-1863457200-1863464400@unsere-hafencity.de
SUMMARY:Offener Nachbarschaftstreff - QUARTERPIPE BAR
DESCRIPTION:Kommt vorbei und genießt\neinen entspannten Abend bei guter Gesellschaft und leckeren Getränken! \nNeben kühlen Drinks könnt ihr auch eine Runde Kickern oder Tischtennis spielen. \nAlle willkommen 🙂
URL:https://unsere-hafencity.de/event/offener-nachbarschaftstreff-quarterpipe-bar/2029-01-18/
LOCATION:QUARTERPIPE\, Versmannstrasse 66 (Zugang über Versmannkai)\, Hamburg\, Hamburg\, 20457\, Germany
ATTACH;FMTTYPE=image/png:https://unsere-hafencity.de/wp-content/uploads/2025/08/QP.png
END:VEVENT
BEGIN:VEVENT
DTSTART;TZID=Europe/Berlin:20290125T190000
DTEND;TZID=Europe/Berlin:20290125T210000
DTSTAMP:20260426T021028
CREATED:20250805T062751Z
LAST-MODIFIED:20250805T062751Z
UID:10004064-1864062000-1864069200@unsere-hafencity.de
SUMMARY:Offener Nachbarschaftstreff - QUARTERPIPE BAR
DESCRIPTION:Kommt vorbei und genießt\neinen entspannten Abend bei guter Gesellschaft und leckeren Getränken! \nNeben kühlen Drinks könnt ihr auch eine Runde Kickern oder Tischtennis spielen. \nAlle willkommen 🙂
URL:https://unsere-hafencity.de/event/offener-nachbarschaftstreff-quarterpipe-bar/2029-01-25/
LOCATION:QUARTERPIPE\, Versmannstrasse 66 (Zugang über Versmannkai)\, Hamburg\, Hamburg\, 20457\, Germany
ATTACH;FMTTYPE=image/png:https://unsere-hafencity.de/wp-content/uploads/2025/08/QP.png
END:VEVENT
BEGIN:VEVENT
DTSTART;TZID=Europe/Berlin:20290201T190000
DTEND;TZID=Europe/Berlin:20290201T210000
DTSTAMP:20260426T021028
CREATED:20250805T062751Z
LAST-MODIFIED:20250805T062751Z
UID:10004065-1864666800-1864674000@unsere-hafencity.de
SUMMARY:Offener Nachbarschaftstreff - QUARTERPIPE BAR
DESCRIPTION:Kommt vorbei und genießt\neinen entspannten Abend bei guter Gesellschaft und leckeren Getränken! \nNeben kühlen Drinks könnt ihr auch eine Runde Kickern oder Tischtennis spielen. \nAlle willkommen 🙂
URL:https://unsere-hafencity.de/event/offener-nachbarschaftstreff-quarterpipe-bar/2029-02-01/
LOCATION:QUARTERPIPE\, Versmannstrasse 66 (Zugang über Versmannkai)\, Hamburg\, Hamburg\, 20457\, Germany
ATTACH;FMTTYPE=image/png:https://unsere-hafencity.de/wp-content/uploads/2025/08/QP.png
END:VEVENT
BEGIN:VEVENT
DTSTART;TZID=Europe/Berlin:20290208T190000
DTEND;TZID=Europe/Berlin:20290208T210000
DTSTAMP:20260426T021028
CREATED:20250805T062751Z
LAST-MODIFIED:20250805T062751Z
UID:10004066-1865271600-1865278800@unsere-hafencity.de
SUMMARY:Offener Nachbarschaftstreff - QUARTERPIPE BAR
DESCRIPTION:Kommt vorbei und genießt\neinen entspannten Abend bei guter Gesellschaft und leckeren Getränken! \nNeben kühlen Drinks könnt ihr auch eine Runde Kickern oder Tischtennis spielen. \nAlle willkommen 🙂
URL:https://unsere-hafencity.de/event/offener-nachbarschaftstreff-quarterpipe-bar/2029-02-08/
LOCATION:QUARTERPIPE\, Versmannstrasse 66 (Zugang über Versmannkai)\, Hamburg\, Hamburg\, 20457\, Germany
ATTACH;FMTTYPE=image/png:https://unsere-hafencity.de/wp-content/uploads/2025/08/QP.png
END:VEVENT
BEGIN:VEVENT
DTSTART;TZID=Europe/Berlin:20290215T190000
DTEND;TZID=Europe/Berlin:20290215T210000
DTSTAMP:20260426T021028
CREATED:20250805T062751Z
LAST-MODIFIED:20250805T062751Z
UID:10004067-1865876400-1865883600@unsere-hafencity.de
SUMMARY:Offener Nachbarschaftstreff - QUARTERPIPE BAR
DESCRIPTION:Kommt vorbei und genießt\neinen entspannten Abend bei guter Gesellschaft und leckeren Getränken! \nNeben kühlen Drinks könnt ihr auch eine Runde Kickern oder Tischtennis spielen. \nAlle willkommen 🙂
URL:https://unsere-hafencity.de/event/offener-nachbarschaftstreff-quarterpipe-bar/2029-02-15/
LOCATION:QUARTERPIPE\, Versmannstrasse 66 (Zugang über Versmannkai)\, Hamburg\, Hamburg\, 20457\, Germany
ATTACH;FMTTYPE=image/png:https://unsere-hafencity.de/wp-content/uploads/2025/08/QP.png
END:VEVENT
BEGIN:VEVENT
DTSTART;TZID=Europe/Berlin:20290222T190000
DTEND;TZID=Europe/Berlin:20290222T210000
DTSTAMP:20260426T021028
CREATED:20250805T062751Z
LAST-MODIFIED:20250805T062751Z
UID:10004068-1866481200-1866488400@unsere-hafencity.de
SUMMARY:Offener Nachbarschaftstreff - QUARTERPIPE BAR
DESCRIPTION:Kommt vorbei und genießt\neinen entspannten Abend bei guter Gesellschaft und leckeren Getränken! \nNeben kühlen Drinks könnt ihr auch eine Runde Kickern oder Tischtennis spielen. \nAlle willkommen 🙂
URL:https://unsere-hafencity.de/event/offener-nachbarschaftstreff-quarterpipe-bar/2029-02-22/
LOCATION:QUARTERPIPE\, Versmannstrasse 66 (Zugang über Versmannkai)\, Hamburg\, Hamburg\, 20457\, Germany
ATTACH;FMTTYPE=image/png:https://unsere-hafencity.de/wp-content/uploads/2025/08/QP.png
END:VEVENT
BEGIN:VEVENT
DTSTART;TZID=Europe/Berlin:20290301T190000
DTEND;TZID=Europe/Berlin:20290301T210000
DTSTAMP:20260426T021028
CREATED:20250805T062751Z
LAST-MODIFIED:20250805T062751Z
UID:10004069-1867086000-1867093200@unsere-hafencity.de
SUMMARY:Offener Nachbarschaftstreff - QUARTERPIPE BAR
DESCRIPTION:Kommt vorbei und genießt\neinen entspannten Abend bei guter Gesellschaft und leckeren Getränken! \nNeben kühlen Drinks könnt ihr auch eine Runde Kickern oder Tischtennis spielen. \nAlle willkommen 🙂
URL:https://unsere-hafencity.de/event/offener-nachbarschaftstreff-quarterpipe-bar/2029-03-01/
LOCATION:QUARTERPIPE\, Versmannstrasse 66 (Zugang über Versmannkai)\, Hamburg\, Hamburg\, 20457\, Germany
ATTACH;FMTTYPE=image/png:https://unsere-hafencity.de/wp-content/uploads/2025/08/QP.png
END:VEVENT
BEGIN:VEVENT
DTSTART;TZID=Europe/Berlin:20290308T190000
DTEND;TZID=Europe/Berlin:20290308T210000
DTSTAMP:20260426T021028
CREATED:20250805T062751Z
LAST-MODIFIED:20250805T062751Z
UID:10004070-1867690800-1867698000@unsere-hafencity.de
SUMMARY:Offener Nachbarschaftstreff - QUARTERPIPE BAR
DESCRIPTION:Kommt vorbei und genießt\neinen entspannten Abend bei guter Gesellschaft und leckeren Getränken! \nNeben kühlen Drinks könnt ihr auch eine Runde Kickern oder Tischtennis spielen. \nAlle willkommen 🙂
URL:https://unsere-hafencity.de/event/offener-nachbarschaftstreff-quarterpipe-bar/2029-03-08/
LOCATION:QUARTERPIPE\, Versmannstrasse 66 (Zugang über Versmannkai)\, Hamburg\, Hamburg\, 20457\, Germany
ATTACH;FMTTYPE=image/png:https://unsere-hafencity.de/wp-content/uploads/2025/08/QP.png
END:VEVENT
BEGIN:VEVENT
DTSTART;TZID=Europe/Berlin:20290315T190000
DTEND;TZID=Europe/Berlin:20290315T210000
DTSTAMP:20260426T021028
CREATED:20250805T062751Z
LAST-MODIFIED:20250805T062751Z
UID:10004071-1868295600-1868302800@unsere-hafencity.de
SUMMARY:Offener Nachbarschaftstreff - QUARTERPIPE BAR
DESCRIPTION:Kommt vorbei und genießt\neinen entspannten Abend bei guter Gesellschaft und leckeren Getränken! \nNeben kühlen Drinks könnt ihr auch eine Runde Kickern oder Tischtennis spielen. \nAlle willkommen 🙂
URL:https://unsere-hafencity.de/event/offener-nachbarschaftstreff-quarterpipe-bar/2029-03-15/
LOCATION:QUARTERPIPE\, Versmannstrasse 66 (Zugang über Versmannkai)\, Hamburg\, Hamburg\, 20457\, Germany
ATTACH;FMTTYPE=image/png:https://unsere-hafencity.de/wp-content/uploads/2025/08/QP.png
END:VEVENT
BEGIN:VEVENT
DTSTART;TZID=Europe/Berlin:20290322T190000
DTEND;TZID=Europe/Berlin:20290322T210000
DTSTAMP:20260426T021028
CREATED:20250805T062751Z
LAST-MODIFIED:20250805T062751Z
UID:10004072-1868900400-1868907600@unsere-hafencity.de
SUMMARY:Offener Nachbarschaftstreff - QUARTERPIPE BAR
DESCRIPTION:Kommt vorbei und genießt\neinen entspannten Abend bei guter Gesellschaft und leckeren Getränken! \nNeben kühlen Drinks könnt ihr auch eine Runde Kickern oder Tischtennis spielen. \nAlle willkommen 🙂
URL:https://unsere-hafencity.de/event/offener-nachbarschaftstreff-quarterpipe-bar/2029-03-22/
LOCATION:QUARTERPIPE\, Versmannstrasse 66 (Zugang über Versmannkai)\, Hamburg\, Hamburg\, 20457\, Germany
ATTACH;FMTTYPE=image/png:https://unsere-hafencity.de/wp-content/uploads/2025/08/QP.png
END:VEVENT
BEGIN:VEVENT
DTSTART;TZID=Europe/Berlin:20290329T190000
DTEND;TZID=Europe/Berlin:20290329T210000
DTSTAMP:20260426T021028
CREATED:20250805T062751Z
LAST-MODIFIED:20250805T062751Z
UID:10004073-1869505200-1869512400@unsere-hafencity.de
SUMMARY:Offener Nachbarschaftstreff - QUARTERPIPE BAR
DESCRIPTION:Kommt vorbei und genießt\neinen entspannten Abend bei guter Gesellschaft und leckeren Getränken! \nNeben kühlen Drinks könnt ihr auch eine Runde Kickern oder Tischtennis spielen. \nAlle willkommen 🙂
URL:https://unsere-hafencity.de/event/offener-nachbarschaftstreff-quarterpipe-bar/2029-03-29/
LOCATION:QUARTERPIPE\, Versmannstrasse 66 (Zugang über Versmannkai)\, Hamburg\, Hamburg\, 20457\, Germany
ATTACH;FMTTYPE=image/png:https://unsere-hafencity.de/wp-content/uploads/2025/08/QP.png
END:VEVENT
BEGIN:VEVENT
DTSTART;TZID=Europe/Berlin:20290405T190000
DTEND;TZID=Europe/Berlin:20290405T210000
DTSTAMP:20260426T021028
CREATED:20250805T062751Z
LAST-MODIFIED:20250805T062751Z
UID:10004074-1870110000-1870117200@unsere-hafencity.de
SUMMARY:Offener Nachbarschaftstreff - QUARTERPIPE BAR
DESCRIPTION:Kommt vorbei und genießt\neinen entspannten Abend bei guter Gesellschaft und leckeren Getränken! \nNeben kühlen Drinks könnt ihr auch eine Runde Kickern oder Tischtennis spielen. \nAlle willkommen 🙂
URL:https://unsere-hafencity.de/event/offener-nachbarschaftstreff-quarterpipe-bar/2029-04-05/
LOCATION:QUARTERPIPE\, Versmannstrasse 66 (Zugang über Versmannkai)\, Hamburg\, Hamburg\, 20457\, Germany
ATTACH;FMTTYPE=image/png:https://unsere-hafencity.de/wp-content/uploads/2025/08/QP.png
END:VEVENT
BEGIN:VEVENT
DTSTART;TZID=Europe/Berlin:20290412T190000
DTEND;TZID=Europe/Berlin:20290412T210000
DTSTAMP:20260426T021028
CREATED:20250805T062751Z
LAST-MODIFIED:20250805T062751Z
UID:10004075-1870714800-1870722000@unsere-hafencity.de
SUMMARY:Offener Nachbarschaftstreff - QUARTERPIPE BAR
DESCRIPTION:Kommt vorbei und genießt\neinen entspannten Abend bei guter Gesellschaft und leckeren Getränken! \nNeben kühlen Drinks könnt ihr auch eine Runde Kickern oder Tischtennis spielen. \nAlle willkommen 🙂
URL:https://unsere-hafencity.de/event/offener-nachbarschaftstreff-quarterpipe-bar/2029-04-12/
LOCATION:QUARTERPIPE\, Versmannstrasse 66 (Zugang über Versmannkai)\, Hamburg\, Hamburg\, 20457\, Germany
ATTACH;FMTTYPE=image/png:https://unsere-hafencity.de/wp-content/uploads/2025/08/QP.png
END:VEVENT
BEGIN:VEVENT
DTSTART;TZID=Europe/Berlin:20290419T190000
DTEND;TZID=Europe/Berlin:20290419T210000
DTSTAMP:20260426T021028
CREATED:20250805T062751Z
LAST-MODIFIED:20250805T062751Z
UID:10004076-1871319600-1871326800@unsere-hafencity.de
SUMMARY:Offener Nachbarschaftstreff - QUARTERPIPE BAR
DESCRIPTION:Kommt vorbei und genießt\neinen entspannten Abend bei guter Gesellschaft und leckeren Getränken! \nNeben kühlen Drinks könnt ihr auch eine Runde Kickern oder Tischtennis spielen. \nAlle willkommen 🙂
URL:https://unsere-hafencity.de/event/offener-nachbarschaftstreff-quarterpipe-bar/2029-04-19/
LOCATION:QUARTERPIPE\, Versmannstrasse 66 (Zugang über Versmannkai)\, Hamburg\, Hamburg\, 20457\, Germany
ATTACH;FMTTYPE=image/png:https://unsere-hafencity.de/wp-content/uploads/2025/08/QP.png
END:VEVENT
BEGIN:VEVENT
DTSTART;TZID=Europe/Berlin:20290426T190000
DTEND;TZID=Europe/Berlin:20290426T210000
DTSTAMP:20260426T021028
CREATED:20250805T062751Z
LAST-MODIFIED:20250805T062751Z
UID:10004077-1871924400-1871931600@unsere-hafencity.de
SUMMARY:Offener Nachbarschaftstreff - QUARTERPIPE BAR
DESCRIPTION:Kommt vorbei und genießt\neinen entspannten Abend bei guter Gesellschaft und leckeren Getränken! \nNeben kühlen Drinks könnt ihr auch eine Runde Kickern oder Tischtennis spielen. \nAlle willkommen 🙂
URL:https://unsere-hafencity.de/event/offener-nachbarschaftstreff-quarterpipe-bar/2029-04-26/
LOCATION:QUARTERPIPE\, Versmannstrasse 66 (Zugang über Versmannkai)\, Hamburg\, Hamburg\, 20457\, Germany
ATTACH;FMTTYPE=image/png:https://unsere-hafencity.de/wp-content/uploads/2025/08/QP.png
END:VEVENT
END:VCALENDAR