BEGIN:VCALENDAR
VERSION:2.0
PRODID:-//unsere-hafencity - ECPv6.15.20//NONSGML v1.0//EN
CALSCALE:GREGORIAN
METHOD:PUBLISH
X-ORIGINAL-URL:https://unsere-hafencity.de
X-WR-CALDESC:Veranstaltungen für unsere-hafencity
REFRESH-INTERVAL;VALUE=DURATION:PT1H
X-Robots-Tag:noindex
X-PUBLISHED-TTL:PT1H
BEGIN:VTIMEZONE
TZID:Europe/Berlin
BEGIN:DAYLIGHT
TZOFFSETFROM:+0100
TZOFFSETTO:+0200
TZNAME:CEST
DTSTART:20280326T010000
END:DAYLIGHT
BEGIN:STANDARD
TZOFFSETFROM:+0200
TZOFFSETTO:+0100
TZNAME:CET
DTSTART:20281029T010000
END:STANDARD
BEGIN:DAYLIGHT
TZOFFSETFROM:+0100
TZOFFSETTO:+0200
TZNAME:CEST
DTSTART:20290325T010000
END:DAYLIGHT
BEGIN:STANDARD
TZOFFSETFROM:+0200
TZOFFSETTO:+0100
TZNAME:CET
DTSTART:20291028T010000
END:STANDARD
BEGIN:DAYLIGHT
TZOFFSETFROM:+0100
TZOFFSETTO:+0200
TZNAME:CEST
DTSTART:20300331T010000
END:DAYLIGHT
BEGIN:STANDARD
TZOFFSETFROM:+0200
TZOFFSETTO:+0100
TZNAME:CET
DTSTART:20301027T010000
END:STANDARD
END:VTIMEZONE
BEGIN:VEVENT
DTSTART;TZID=Europe/Berlin:20290322T190000
DTEND;TZID=Europe/Berlin:20290322T210000
DTSTAMP:20260426T061552
CREATED:20250805T062751Z
LAST-MODIFIED:20250805T062751Z
UID:10004072-1868900400-1868907600@unsere-hafencity.de
SUMMARY:Offener Nachbarschaftstreff - QUARTERPIPE BAR
DESCRIPTION:Kommt vorbei und genießt\neinen entspannten Abend bei guter Gesellschaft und leckeren Getränken! \nNeben kühlen Drinks könnt ihr auch eine Runde Kickern oder Tischtennis spielen. \nAlle willkommen 🙂
URL:https://unsere-hafencity.de/event/offener-nachbarschaftstreff-quarterpipe-bar/2029-03-22/
LOCATION:QUARTERPIPE\, Versmannstrasse 66 (Zugang über Versmannkai)\, Hamburg\, Hamburg\, 20457\, Germany
ATTACH;FMTTYPE=image/png:https://unsere-hafencity.de/wp-content/uploads/2025/08/QP.png
END:VEVENT
BEGIN:VEVENT
DTSTART;TZID=Europe/Berlin:20290329T190000
DTEND;TZID=Europe/Berlin:20290329T210000
DTSTAMP:20260426T061552
CREATED:20250805T062751Z
LAST-MODIFIED:20250805T062751Z
UID:10004073-1869505200-1869512400@unsere-hafencity.de
SUMMARY:Offener Nachbarschaftstreff - QUARTERPIPE BAR
DESCRIPTION:Kommt vorbei und genießt\neinen entspannten Abend bei guter Gesellschaft und leckeren Getränken! \nNeben kühlen Drinks könnt ihr auch eine Runde Kickern oder Tischtennis spielen. \nAlle willkommen 🙂
URL:https://unsere-hafencity.de/event/offener-nachbarschaftstreff-quarterpipe-bar/2029-03-29/
LOCATION:QUARTERPIPE\, Versmannstrasse 66 (Zugang über Versmannkai)\, Hamburg\, Hamburg\, 20457\, Germany
ATTACH;FMTTYPE=image/png:https://unsere-hafencity.de/wp-content/uploads/2025/08/QP.png
END:VEVENT
BEGIN:VEVENT
DTSTART;TZID=Europe/Berlin:20290405T190000
DTEND;TZID=Europe/Berlin:20290405T210000
DTSTAMP:20260426T061552
CREATED:20250805T062751Z
LAST-MODIFIED:20250805T062751Z
UID:10004074-1870110000-1870117200@unsere-hafencity.de
SUMMARY:Offener Nachbarschaftstreff - QUARTERPIPE BAR
DESCRIPTION:Kommt vorbei und genießt\neinen entspannten Abend bei guter Gesellschaft und leckeren Getränken! \nNeben kühlen Drinks könnt ihr auch eine Runde Kickern oder Tischtennis spielen. \nAlle willkommen 🙂
URL:https://unsere-hafencity.de/event/offener-nachbarschaftstreff-quarterpipe-bar/2029-04-05/
LOCATION:QUARTERPIPE\, Versmannstrasse 66 (Zugang über Versmannkai)\, Hamburg\, Hamburg\, 20457\, Germany
ATTACH;FMTTYPE=image/png:https://unsere-hafencity.de/wp-content/uploads/2025/08/QP.png
END:VEVENT
BEGIN:VEVENT
DTSTART;TZID=Europe/Berlin:20290412T190000
DTEND;TZID=Europe/Berlin:20290412T210000
DTSTAMP:20260426T061552
CREATED:20250805T062751Z
LAST-MODIFIED:20250805T062751Z
UID:10004075-1870714800-1870722000@unsere-hafencity.de
SUMMARY:Offener Nachbarschaftstreff - QUARTERPIPE BAR
DESCRIPTION:Kommt vorbei und genießt\neinen entspannten Abend bei guter Gesellschaft und leckeren Getränken! \nNeben kühlen Drinks könnt ihr auch eine Runde Kickern oder Tischtennis spielen. \nAlle willkommen 🙂
URL:https://unsere-hafencity.de/event/offener-nachbarschaftstreff-quarterpipe-bar/2029-04-12/
LOCATION:QUARTERPIPE\, Versmannstrasse 66 (Zugang über Versmannkai)\, Hamburg\, Hamburg\, 20457\, Germany
ATTACH;FMTTYPE=image/png:https://unsere-hafencity.de/wp-content/uploads/2025/08/QP.png
END:VEVENT
BEGIN:VEVENT
DTSTART;TZID=Europe/Berlin:20290419T190000
DTEND;TZID=Europe/Berlin:20290419T210000
DTSTAMP:20260426T061552
CREATED:20250805T062751Z
LAST-MODIFIED:20250805T062751Z
UID:10004076-1871319600-1871326800@unsere-hafencity.de
SUMMARY:Offener Nachbarschaftstreff - QUARTERPIPE BAR
DESCRIPTION:Kommt vorbei und genießt\neinen entspannten Abend bei guter Gesellschaft und leckeren Getränken! \nNeben kühlen Drinks könnt ihr auch eine Runde Kickern oder Tischtennis spielen. \nAlle willkommen 🙂
URL:https://unsere-hafencity.de/event/offener-nachbarschaftstreff-quarterpipe-bar/2029-04-19/
LOCATION:QUARTERPIPE\, Versmannstrasse 66 (Zugang über Versmannkai)\, Hamburg\, Hamburg\, 20457\, Germany
ATTACH;FMTTYPE=image/png:https://unsere-hafencity.de/wp-content/uploads/2025/08/QP.png
END:VEVENT
BEGIN:VEVENT
DTSTART;TZID=Europe/Berlin:20290426T190000
DTEND;TZID=Europe/Berlin:20290426T210000
DTSTAMP:20260426T061552
CREATED:20250805T062751Z
LAST-MODIFIED:20250805T062751Z
UID:10004077-1871924400-1871931600@unsere-hafencity.de
SUMMARY:Offener Nachbarschaftstreff - QUARTERPIPE BAR
DESCRIPTION:Kommt vorbei und genießt\neinen entspannten Abend bei guter Gesellschaft und leckeren Getränken! \nNeben kühlen Drinks könnt ihr auch eine Runde Kickern oder Tischtennis spielen. \nAlle willkommen 🙂
URL:https://unsere-hafencity.de/event/offener-nachbarschaftstreff-quarterpipe-bar/2029-04-26/
LOCATION:QUARTERPIPE\, Versmannstrasse 66 (Zugang über Versmannkai)\, Hamburg\, Hamburg\, 20457\, Germany
ATTACH;FMTTYPE=image/png:https://unsere-hafencity.de/wp-content/uploads/2025/08/QP.png
END:VEVENT
BEGIN:VEVENT
DTSTART;TZID=Europe/Berlin:20290503T190000
DTEND;TZID=Europe/Berlin:20290503T210000
DTSTAMP:20260426T061552
CREATED:20250805T062751Z
LAST-MODIFIED:20250805T062751Z
UID:10004078-1872529200-1872536400@unsere-hafencity.de
SUMMARY:Offener Nachbarschaftstreff - QUARTERPIPE BAR
DESCRIPTION:Kommt vorbei und genießt\neinen entspannten Abend bei guter Gesellschaft und leckeren Getränken! \nNeben kühlen Drinks könnt ihr auch eine Runde Kickern oder Tischtennis spielen. \nAlle willkommen 🙂
URL:https://unsere-hafencity.de/event/offener-nachbarschaftstreff-quarterpipe-bar/2029-05-03/
LOCATION:QUARTERPIPE\, Versmannstrasse 66 (Zugang über Versmannkai)\, Hamburg\, Hamburg\, 20457\, Germany
ATTACH;FMTTYPE=image/png:https://unsere-hafencity.de/wp-content/uploads/2025/08/QP.png
END:VEVENT
BEGIN:VEVENT
DTSTART;TZID=Europe/Berlin:20290510T190000
DTEND;TZID=Europe/Berlin:20290510T210000
DTSTAMP:20260426T061552
CREATED:20250805T062751Z
LAST-MODIFIED:20250805T062751Z
UID:10004079-1873134000-1873141200@unsere-hafencity.de
SUMMARY:Offener Nachbarschaftstreff - QUARTERPIPE BAR
DESCRIPTION:Kommt vorbei und genießt\neinen entspannten Abend bei guter Gesellschaft und leckeren Getränken! \nNeben kühlen Drinks könnt ihr auch eine Runde Kickern oder Tischtennis spielen. \nAlle willkommen 🙂
URL:https://unsere-hafencity.de/event/offener-nachbarschaftstreff-quarterpipe-bar/2029-05-10/
LOCATION:QUARTERPIPE\, Versmannstrasse 66 (Zugang über Versmannkai)\, Hamburg\, Hamburg\, 20457\, Germany
ATTACH;FMTTYPE=image/png:https://unsere-hafencity.de/wp-content/uploads/2025/08/QP.png
END:VEVENT
BEGIN:VEVENT
DTSTART;TZID=Europe/Berlin:20290517T190000
DTEND;TZID=Europe/Berlin:20290517T210000
DTSTAMP:20260426T061552
CREATED:20250805T062751Z
LAST-MODIFIED:20250805T062751Z
UID:10004080-1873738800-1873746000@unsere-hafencity.de
SUMMARY:Offener Nachbarschaftstreff - QUARTERPIPE BAR
DESCRIPTION:Kommt vorbei und genießt\neinen entspannten Abend bei guter Gesellschaft und leckeren Getränken! \nNeben kühlen Drinks könnt ihr auch eine Runde Kickern oder Tischtennis spielen. \nAlle willkommen 🙂
URL:https://unsere-hafencity.de/event/offener-nachbarschaftstreff-quarterpipe-bar/2029-05-17/
LOCATION:QUARTERPIPE\, Versmannstrasse 66 (Zugang über Versmannkai)\, Hamburg\, Hamburg\, 20457\, Germany
ATTACH;FMTTYPE=image/png:https://unsere-hafencity.de/wp-content/uploads/2025/08/QP.png
END:VEVENT
BEGIN:VEVENT
DTSTART;TZID=Europe/Berlin:20290524T190000
DTEND;TZID=Europe/Berlin:20290524T210000
DTSTAMP:20260426T061552
CREATED:20250805T062751Z
LAST-MODIFIED:20250805T062751Z
UID:10004081-1874343600-1874350800@unsere-hafencity.de
SUMMARY:Offener Nachbarschaftstreff - QUARTERPIPE BAR
DESCRIPTION:Kommt vorbei und genießt\neinen entspannten Abend bei guter Gesellschaft und leckeren Getränken! \nNeben kühlen Drinks könnt ihr auch eine Runde Kickern oder Tischtennis spielen. \nAlle willkommen 🙂
URL:https://unsere-hafencity.de/event/offener-nachbarschaftstreff-quarterpipe-bar/2029-05-24/
LOCATION:QUARTERPIPE\, Versmannstrasse 66 (Zugang über Versmannkai)\, Hamburg\, Hamburg\, 20457\, Germany
ATTACH;FMTTYPE=image/png:https://unsere-hafencity.de/wp-content/uploads/2025/08/QP.png
END:VEVENT
BEGIN:VEVENT
DTSTART;TZID=Europe/Berlin:20290531T190000
DTEND;TZID=Europe/Berlin:20290531T210000
DTSTAMP:20260426T061552
CREATED:20250805T062751Z
LAST-MODIFIED:20250805T062751Z
UID:10004082-1874948400-1874955600@unsere-hafencity.de
SUMMARY:Offener Nachbarschaftstreff - QUARTERPIPE BAR
DESCRIPTION:Kommt vorbei und genießt\neinen entspannten Abend bei guter Gesellschaft und leckeren Getränken! \nNeben kühlen Drinks könnt ihr auch eine Runde Kickern oder Tischtennis spielen. \nAlle willkommen 🙂
URL:https://unsere-hafencity.de/event/offener-nachbarschaftstreff-quarterpipe-bar/2029-05-31/
LOCATION:QUARTERPIPE\, Versmannstrasse 66 (Zugang über Versmannkai)\, Hamburg\, Hamburg\, 20457\, Germany
ATTACH;FMTTYPE=image/png:https://unsere-hafencity.de/wp-content/uploads/2025/08/QP.png
END:VEVENT
BEGIN:VEVENT
DTSTART;TZID=Europe/Berlin:20290607T190000
DTEND;TZID=Europe/Berlin:20290607T210000
DTSTAMP:20260426T061552
CREATED:20250805T062751Z
LAST-MODIFIED:20250805T062751Z
UID:10004083-1875553200-1875560400@unsere-hafencity.de
SUMMARY:Offener Nachbarschaftstreff - QUARTERPIPE BAR
DESCRIPTION:Kommt vorbei und genießt\neinen entspannten Abend bei guter Gesellschaft und leckeren Getränken! \nNeben kühlen Drinks könnt ihr auch eine Runde Kickern oder Tischtennis spielen. \nAlle willkommen 🙂
URL:https://unsere-hafencity.de/event/offener-nachbarschaftstreff-quarterpipe-bar/2029-06-07/
LOCATION:QUARTERPIPE\, Versmannstrasse 66 (Zugang über Versmannkai)\, Hamburg\, Hamburg\, 20457\, Germany
ATTACH;FMTTYPE=image/png:https://unsere-hafencity.de/wp-content/uploads/2025/08/QP.png
END:VEVENT
BEGIN:VEVENT
DTSTART;TZID=Europe/Berlin:20290614T190000
DTEND;TZID=Europe/Berlin:20290614T210000
DTSTAMP:20260426T061552
CREATED:20250805T062751Z
LAST-MODIFIED:20250805T062751Z
UID:10004084-1876158000-1876165200@unsere-hafencity.de
SUMMARY:Offener Nachbarschaftstreff - QUARTERPIPE BAR
DESCRIPTION:Kommt vorbei und genießt\neinen entspannten Abend bei guter Gesellschaft und leckeren Getränken! \nNeben kühlen Drinks könnt ihr auch eine Runde Kickern oder Tischtennis spielen. \nAlle willkommen 🙂
URL:https://unsere-hafencity.de/event/offener-nachbarschaftstreff-quarterpipe-bar/2029-06-14/
LOCATION:QUARTERPIPE\, Versmannstrasse 66 (Zugang über Versmannkai)\, Hamburg\, Hamburg\, 20457\, Germany
ATTACH;FMTTYPE=image/png:https://unsere-hafencity.de/wp-content/uploads/2025/08/QP.png
END:VEVENT
BEGIN:VEVENT
DTSTART;TZID=Europe/Berlin:20290621T190000
DTEND;TZID=Europe/Berlin:20290621T210000
DTSTAMP:20260426T061552
CREATED:20250805T062751Z
LAST-MODIFIED:20250805T062751Z
UID:10004085-1876762800-1876770000@unsere-hafencity.de
SUMMARY:Offener Nachbarschaftstreff - QUARTERPIPE BAR
DESCRIPTION:Kommt vorbei und genießt\neinen entspannten Abend bei guter Gesellschaft und leckeren Getränken! \nNeben kühlen Drinks könnt ihr auch eine Runde Kickern oder Tischtennis spielen. \nAlle willkommen 🙂
URL:https://unsere-hafencity.de/event/offener-nachbarschaftstreff-quarterpipe-bar/2029-06-21/
LOCATION:QUARTERPIPE\, Versmannstrasse 66 (Zugang über Versmannkai)\, Hamburg\, Hamburg\, 20457\, Germany
ATTACH;FMTTYPE=image/png:https://unsere-hafencity.de/wp-content/uploads/2025/08/QP.png
END:VEVENT
BEGIN:VEVENT
DTSTART;TZID=Europe/Berlin:20290628T190000
DTEND;TZID=Europe/Berlin:20290628T210000
DTSTAMP:20260426T061552
CREATED:20250805T062751Z
LAST-MODIFIED:20250805T062751Z
UID:10004086-1877367600-1877374800@unsere-hafencity.de
SUMMARY:Offener Nachbarschaftstreff - QUARTERPIPE BAR
DESCRIPTION:Kommt vorbei und genießt\neinen entspannten Abend bei guter Gesellschaft und leckeren Getränken! \nNeben kühlen Drinks könnt ihr auch eine Runde Kickern oder Tischtennis spielen. \nAlle willkommen 🙂
URL:https://unsere-hafencity.de/event/offener-nachbarschaftstreff-quarterpipe-bar/2029-06-28/
LOCATION:QUARTERPIPE\, Versmannstrasse 66 (Zugang über Versmannkai)\, Hamburg\, Hamburg\, 20457\, Germany
ATTACH;FMTTYPE=image/png:https://unsere-hafencity.de/wp-content/uploads/2025/08/QP.png
END:VEVENT
BEGIN:VEVENT
DTSTART;TZID=Europe/Berlin:20290705T190000
DTEND;TZID=Europe/Berlin:20290705T210000
DTSTAMP:20260426T061552
CREATED:20250805T062751Z
LAST-MODIFIED:20250805T062751Z
UID:10004087-1877972400-1877979600@unsere-hafencity.de
SUMMARY:Offener Nachbarschaftstreff - QUARTERPIPE BAR
DESCRIPTION:Kommt vorbei und genießt\neinen entspannten Abend bei guter Gesellschaft und leckeren Getränken! \nNeben kühlen Drinks könnt ihr auch eine Runde Kickern oder Tischtennis spielen. \nAlle willkommen 🙂
URL:https://unsere-hafencity.de/event/offener-nachbarschaftstreff-quarterpipe-bar/2029-07-05/
LOCATION:QUARTERPIPE\, Versmannstrasse 66 (Zugang über Versmannkai)\, Hamburg\, Hamburg\, 20457\, Germany
ATTACH;FMTTYPE=image/png:https://unsere-hafencity.de/wp-content/uploads/2025/08/QP.png
END:VEVENT
BEGIN:VEVENT
DTSTART;TZID=Europe/Berlin:20290712T190000
DTEND;TZID=Europe/Berlin:20290712T210000
DTSTAMP:20260426T061552
CREATED:20250805T062751Z
LAST-MODIFIED:20250805T062751Z
UID:10004088-1878577200-1878584400@unsere-hafencity.de
SUMMARY:Offener Nachbarschaftstreff - QUARTERPIPE BAR
DESCRIPTION:Kommt vorbei und genießt\neinen entspannten Abend bei guter Gesellschaft und leckeren Getränken! \nNeben kühlen Drinks könnt ihr auch eine Runde Kickern oder Tischtennis spielen. \nAlle willkommen 🙂
URL:https://unsere-hafencity.de/event/offener-nachbarschaftstreff-quarterpipe-bar/2029-07-12/
LOCATION:QUARTERPIPE\, Versmannstrasse 66 (Zugang über Versmannkai)\, Hamburg\, Hamburg\, 20457\, Germany
ATTACH;FMTTYPE=image/png:https://unsere-hafencity.de/wp-content/uploads/2025/08/QP.png
END:VEVENT
BEGIN:VEVENT
DTSTART;TZID=Europe/Berlin:20290719T190000
DTEND;TZID=Europe/Berlin:20290719T210000
DTSTAMP:20260426T061552
CREATED:20250805T062751Z
LAST-MODIFIED:20250805T062751Z
UID:10004089-1879182000-1879189200@unsere-hafencity.de
SUMMARY:Offener Nachbarschaftstreff - QUARTERPIPE BAR
DESCRIPTION:Kommt vorbei und genießt\neinen entspannten Abend bei guter Gesellschaft und leckeren Getränken! \nNeben kühlen Drinks könnt ihr auch eine Runde Kickern oder Tischtennis spielen. \nAlle willkommen 🙂
URL:https://unsere-hafencity.de/event/offener-nachbarschaftstreff-quarterpipe-bar/2029-07-19/
LOCATION:QUARTERPIPE\, Versmannstrasse 66 (Zugang über Versmannkai)\, Hamburg\, Hamburg\, 20457\, Germany
ATTACH;FMTTYPE=image/png:https://unsere-hafencity.de/wp-content/uploads/2025/08/QP.png
END:VEVENT
BEGIN:VEVENT
DTSTART;TZID=Europe/Berlin:20290726T190000
DTEND;TZID=Europe/Berlin:20290726T210000
DTSTAMP:20260426T061552
CREATED:20250805T062751Z
LAST-MODIFIED:20250805T062751Z
UID:10004090-1879786800-1879794000@unsere-hafencity.de
SUMMARY:Offener Nachbarschaftstreff - QUARTERPIPE BAR
DESCRIPTION:Kommt vorbei und genießt\neinen entspannten Abend bei guter Gesellschaft und leckeren Getränken! \nNeben kühlen Drinks könnt ihr auch eine Runde Kickern oder Tischtennis spielen. \nAlle willkommen 🙂
URL:https://unsere-hafencity.de/event/offener-nachbarschaftstreff-quarterpipe-bar/2029-07-26/
LOCATION:QUARTERPIPE\, Versmannstrasse 66 (Zugang über Versmannkai)\, Hamburg\, Hamburg\, 20457\, Germany
ATTACH;FMTTYPE=image/png:https://unsere-hafencity.de/wp-content/uploads/2025/08/QP.png
END:VEVENT
BEGIN:VEVENT
DTSTART;TZID=Europe/Berlin:20290802T190000
DTEND;TZID=Europe/Berlin:20290802T210000
DTSTAMP:20260426T061552
CREATED:20250805T062751Z
LAST-MODIFIED:20250805T062751Z
UID:10004091-1880391600-1880398800@unsere-hafencity.de
SUMMARY:Offener Nachbarschaftstreff - QUARTERPIPE BAR
DESCRIPTION:Kommt vorbei und genießt\neinen entspannten Abend bei guter Gesellschaft und leckeren Getränken! \nNeben kühlen Drinks könnt ihr auch eine Runde Kickern oder Tischtennis spielen. \nAlle willkommen 🙂
URL:https://unsere-hafencity.de/event/offener-nachbarschaftstreff-quarterpipe-bar/2029-08-02/
LOCATION:QUARTERPIPE\, Versmannstrasse 66 (Zugang über Versmannkai)\, Hamburg\, Hamburg\, 20457\, Germany
ATTACH;FMTTYPE=image/png:https://unsere-hafencity.de/wp-content/uploads/2025/08/QP.png
END:VEVENT
BEGIN:VEVENT
DTSTART;TZID=Europe/Berlin:20290809T190000
DTEND;TZID=Europe/Berlin:20290809T210000
DTSTAMP:20260426T061552
CREATED:20250805T062751Z
LAST-MODIFIED:20250805T062751Z
UID:10004092-1880996400-1881003600@unsere-hafencity.de
SUMMARY:Offener Nachbarschaftstreff - QUARTERPIPE BAR
DESCRIPTION:Kommt vorbei und genießt\neinen entspannten Abend bei guter Gesellschaft und leckeren Getränken! \nNeben kühlen Drinks könnt ihr auch eine Runde Kickern oder Tischtennis spielen. \nAlle willkommen 🙂
URL:https://unsere-hafencity.de/event/offener-nachbarschaftstreff-quarterpipe-bar/2029-08-09/
LOCATION:QUARTERPIPE\, Versmannstrasse 66 (Zugang über Versmannkai)\, Hamburg\, Hamburg\, 20457\, Germany
ATTACH;FMTTYPE=image/png:https://unsere-hafencity.de/wp-content/uploads/2025/08/QP.png
END:VEVENT
BEGIN:VEVENT
DTSTART;TZID=Europe/Berlin:20290816T190000
DTEND;TZID=Europe/Berlin:20290816T210000
DTSTAMP:20260426T061552
CREATED:20250805T062751Z
LAST-MODIFIED:20250805T062751Z
UID:10004093-1881601200-1881608400@unsere-hafencity.de
SUMMARY:Offener Nachbarschaftstreff - QUARTERPIPE BAR
DESCRIPTION:Kommt vorbei und genießt\neinen entspannten Abend bei guter Gesellschaft und leckeren Getränken! \nNeben kühlen Drinks könnt ihr auch eine Runde Kickern oder Tischtennis spielen. \nAlle willkommen 🙂
URL:https://unsere-hafencity.de/event/offener-nachbarschaftstreff-quarterpipe-bar/2029-08-16/
LOCATION:QUARTERPIPE\, Versmannstrasse 66 (Zugang über Versmannkai)\, Hamburg\, Hamburg\, 20457\, Germany
ATTACH;FMTTYPE=image/png:https://unsere-hafencity.de/wp-content/uploads/2025/08/QP.png
END:VEVENT
BEGIN:VEVENT
DTSTART;TZID=Europe/Berlin:20290823T190000
DTEND;TZID=Europe/Berlin:20290823T210000
DTSTAMP:20260426T061552
CREATED:20250805T062751Z
LAST-MODIFIED:20250805T062751Z
UID:10004094-1882206000-1882213200@unsere-hafencity.de
SUMMARY:Offener Nachbarschaftstreff - QUARTERPIPE BAR
DESCRIPTION:Kommt vorbei und genießt\neinen entspannten Abend bei guter Gesellschaft und leckeren Getränken! \nNeben kühlen Drinks könnt ihr auch eine Runde Kickern oder Tischtennis spielen. \nAlle willkommen 🙂
URL:https://unsere-hafencity.de/event/offener-nachbarschaftstreff-quarterpipe-bar/2029-08-23/
LOCATION:QUARTERPIPE\, Versmannstrasse 66 (Zugang über Versmannkai)\, Hamburg\, Hamburg\, 20457\, Germany
ATTACH;FMTTYPE=image/png:https://unsere-hafencity.de/wp-content/uploads/2025/08/QP.png
END:VEVENT
BEGIN:VEVENT
DTSTART;TZID=Europe/Berlin:20290830T190000
DTEND;TZID=Europe/Berlin:20290830T210000
DTSTAMP:20260426T061552
CREATED:20250805T062751Z
LAST-MODIFIED:20250805T062751Z
UID:10004095-1882810800-1882818000@unsere-hafencity.de
SUMMARY:Offener Nachbarschaftstreff - QUARTERPIPE BAR
DESCRIPTION:Kommt vorbei und genießt\neinen entspannten Abend bei guter Gesellschaft und leckeren Getränken! \nNeben kühlen Drinks könnt ihr auch eine Runde Kickern oder Tischtennis spielen. \nAlle willkommen 🙂
URL:https://unsere-hafencity.de/event/offener-nachbarschaftstreff-quarterpipe-bar/2029-08-30/
LOCATION:QUARTERPIPE\, Versmannstrasse 66 (Zugang über Versmannkai)\, Hamburg\, Hamburg\, 20457\, Germany
ATTACH;FMTTYPE=image/png:https://unsere-hafencity.de/wp-content/uploads/2025/08/QP.png
END:VEVENT
BEGIN:VEVENT
DTSTART;TZID=Europe/Berlin:20290906T190000
DTEND;TZID=Europe/Berlin:20290906T210000
DTSTAMP:20260426T061552
CREATED:20250805T062751Z
LAST-MODIFIED:20250805T062751Z
UID:10004096-1883415600-1883422800@unsere-hafencity.de
SUMMARY:Offener Nachbarschaftstreff - QUARTERPIPE BAR
DESCRIPTION:Kommt vorbei und genießt\neinen entspannten Abend bei guter Gesellschaft und leckeren Getränken! \nNeben kühlen Drinks könnt ihr auch eine Runde Kickern oder Tischtennis spielen. \nAlle willkommen 🙂
URL:https://unsere-hafencity.de/event/offener-nachbarschaftstreff-quarterpipe-bar/2029-09-06/
LOCATION:QUARTERPIPE\, Versmannstrasse 66 (Zugang über Versmannkai)\, Hamburg\, Hamburg\, 20457\, Germany
ATTACH;FMTTYPE=image/png:https://unsere-hafencity.de/wp-content/uploads/2025/08/QP.png
END:VEVENT
BEGIN:VEVENT
DTSTART;TZID=Europe/Berlin:20290913T190000
DTEND;TZID=Europe/Berlin:20290913T210000
DTSTAMP:20260426T061552
CREATED:20250805T062751Z
LAST-MODIFIED:20250805T062751Z
UID:10004097-1884020400-1884027600@unsere-hafencity.de
SUMMARY:Offener Nachbarschaftstreff - QUARTERPIPE BAR
DESCRIPTION:Kommt vorbei und genießt\neinen entspannten Abend bei guter Gesellschaft und leckeren Getränken! \nNeben kühlen Drinks könnt ihr auch eine Runde Kickern oder Tischtennis spielen. \nAlle willkommen 🙂
URL:https://unsere-hafencity.de/event/offener-nachbarschaftstreff-quarterpipe-bar/2029-09-13/
LOCATION:QUARTERPIPE\, Versmannstrasse 66 (Zugang über Versmannkai)\, Hamburg\, Hamburg\, 20457\, Germany
ATTACH;FMTTYPE=image/png:https://unsere-hafencity.de/wp-content/uploads/2025/08/QP.png
END:VEVENT
BEGIN:VEVENT
DTSTART;TZID=Europe/Berlin:20290920T190000
DTEND;TZID=Europe/Berlin:20290920T210000
DTSTAMP:20260426T061552
CREATED:20250805T062751Z
LAST-MODIFIED:20250805T062751Z
UID:10004098-1884625200-1884632400@unsere-hafencity.de
SUMMARY:Offener Nachbarschaftstreff - QUARTERPIPE BAR
DESCRIPTION:Kommt vorbei und genießt\neinen entspannten Abend bei guter Gesellschaft und leckeren Getränken! \nNeben kühlen Drinks könnt ihr auch eine Runde Kickern oder Tischtennis spielen. \nAlle willkommen 🙂
URL:https://unsere-hafencity.de/event/offener-nachbarschaftstreff-quarterpipe-bar/2029-09-20/
LOCATION:QUARTERPIPE\, Versmannstrasse 66 (Zugang über Versmannkai)\, Hamburg\, Hamburg\, 20457\, Germany
ATTACH;FMTTYPE=image/png:https://unsere-hafencity.de/wp-content/uploads/2025/08/QP.png
END:VEVENT
BEGIN:VEVENT
DTSTART;TZID=Europe/Berlin:20290927T190000
DTEND;TZID=Europe/Berlin:20290927T210000
DTSTAMP:20260426T061552
CREATED:20250805T062751Z
LAST-MODIFIED:20250805T062751Z
UID:10004099-1885230000-1885237200@unsere-hafencity.de
SUMMARY:Offener Nachbarschaftstreff - QUARTERPIPE BAR
DESCRIPTION:Kommt vorbei und genießt\neinen entspannten Abend bei guter Gesellschaft und leckeren Getränken! \nNeben kühlen Drinks könnt ihr auch eine Runde Kickern oder Tischtennis spielen. \nAlle willkommen 🙂
URL:https://unsere-hafencity.de/event/offener-nachbarschaftstreff-quarterpipe-bar/2029-09-27/
LOCATION:QUARTERPIPE\, Versmannstrasse 66 (Zugang über Versmannkai)\, Hamburg\, Hamburg\, 20457\, Germany
ATTACH;FMTTYPE=image/png:https://unsere-hafencity.de/wp-content/uploads/2025/08/QP.png
END:VEVENT
BEGIN:VEVENT
DTSTART;TZID=Europe/Berlin:20291004T190000
DTEND;TZID=Europe/Berlin:20291004T210000
DTSTAMP:20260426T061552
CREATED:20250805T062751Z
LAST-MODIFIED:20250805T062751Z
UID:10004100-1885834800-1885842000@unsere-hafencity.de
SUMMARY:Offener Nachbarschaftstreff - QUARTERPIPE BAR
DESCRIPTION:Kommt vorbei und genießt\neinen entspannten Abend bei guter Gesellschaft und leckeren Getränken! \nNeben kühlen Drinks könnt ihr auch eine Runde Kickern oder Tischtennis spielen. \nAlle willkommen 🙂
URL:https://unsere-hafencity.de/event/offener-nachbarschaftstreff-quarterpipe-bar/2029-10-04/
LOCATION:QUARTERPIPE\, Versmannstrasse 66 (Zugang über Versmannkai)\, Hamburg\, Hamburg\, 20457\, Germany
ATTACH;FMTTYPE=image/png:https://unsere-hafencity.de/wp-content/uploads/2025/08/QP.png
END:VEVENT
BEGIN:VEVENT
DTSTART;TZID=Europe/Berlin:20291011T190000
DTEND;TZID=Europe/Berlin:20291011T210000
DTSTAMP:20260426T061552
CREATED:20250805T062751Z
LAST-MODIFIED:20250805T062751Z
UID:10004101-1886439600-1886446800@unsere-hafencity.de
SUMMARY:Offener Nachbarschaftstreff - QUARTERPIPE BAR
DESCRIPTION:Kommt vorbei und genießt\neinen entspannten Abend bei guter Gesellschaft und leckeren Getränken! \nNeben kühlen Drinks könnt ihr auch eine Runde Kickern oder Tischtennis spielen. \nAlle willkommen 🙂
URL:https://unsere-hafencity.de/event/offener-nachbarschaftstreff-quarterpipe-bar/2029-10-11/
LOCATION:QUARTERPIPE\, Versmannstrasse 66 (Zugang über Versmannkai)\, Hamburg\, Hamburg\, 20457\, Germany
ATTACH;FMTTYPE=image/png:https://unsere-hafencity.de/wp-content/uploads/2025/08/QP.png
END:VEVENT
END:VCALENDAR