BEGIN:VCALENDAR
VERSION:2.0
PRODID:-//unsere-hafencity - ECPv6.15.20//NONSGML v1.0//EN
CALSCALE:GREGORIAN
METHOD:PUBLISH
X-WR-CALNAME:unsere-hafencity
X-ORIGINAL-URL:https://unsere-hafencity.de
X-WR-CALDESC:Veranstaltungen für unsere-hafencity
REFRESH-INTERVAL;VALUE=DURATION:PT1H
X-Robots-Tag:noindex
X-PUBLISHED-TTL:PT1H
BEGIN:VTIMEZONE
TZID:Europe/Berlin
BEGIN:DAYLIGHT
TZOFFSETFROM:+0100
TZOFFSETTO:+0200
TZNAME:CEST
DTSTART:20250330T010000
END:DAYLIGHT
BEGIN:STANDARD
TZOFFSETFROM:+0200
TZOFFSETTO:+0100
TZNAME:CET
DTSTART:20251026T010000
END:STANDARD
BEGIN:DAYLIGHT
TZOFFSETFROM:+0100
TZOFFSETTO:+0200
TZNAME:CEST
DTSTART:20260329T010000
END:DAYLIGHT
BEGIN:STANDARD
TZOFFSETFROM:+0200
TZOFFSETTO:+0100
TZNAME:CET
DTSTART:20261025T010000
END:STANDARD
BEGIN:DAYLIGHT
TZOFFSETFROM:+0100
TZOFFSETTO:+0200
TZNAME:CEST
DTSTART:20270328T010000
END:DAYLIGHT
BEGIN:STANDARD
TZOFFSETFROM:+0200
TZOFFSETTO:+0100
TZNAME:CET
DTSTART:20271031T010000
END:STANDARD
END:VTIMEZONE
BEGIN:VEVENT
DTSTART;TZID=Europe/Berlin:20260309T180000
DTEND;TZID=Europe/Berlin:20260309T220000
DTSTAMP:20260419T145840
CREATED:20260305T073912Z
LAST-MODIFIED:20260324T083705Z
UID:10011198-1773079200-1773093600@unsere-hafencity.de
SUMMARY:Skatesession
DESCRIPTION:Von 18 bis 22 Uhr kannst du bei uns neue Tricks lernen\, alten Tricks nachtrauern oder einfach nur an der Bar chillen und Musik hören. Egal ob Kid\, Anfänger:in oder OldschoolRipper:in – hier ist Platz für alle.\nBe aware\, der Boden ist aus Beton\, also pack gerne Schützer ein.
URL:https://unsere-hafencity.de/event/skatesession-2/2026-03-09/
LOCATION:QUARTERPIPE\, Versmannstrasse 66 (Zugang über Versmannkai)\, Hamburg\, Hamburg\, 20457\, Germany
ATTACH;FMTTYPE=image/jpeg:https://unsere-hafencity.de/wp-content/uploads/2026/03/4.jpg
END:VEVENT
BEGIN:VEVENT
DTSTART;TZID=Europe/Berlin:20260316T180000
DTEND;TZID=Europe/Berlin:20260316T220000
DTSTAMP:20260419T145840
CREATED:20260305T073912Z
LAST-MODIFIED:20260324T083705Z
UID:10011199-1773684000-1773698400@unsere-hafencity.de
SUMMARY:Skatesession
DESCRIPTION:Von 18 bis 22 Uhr kannst du bei uns neue Tricks lernen\, alten Tricks nachtrauern oder einfach nur an der Bar chillen und Musik hören. Egal ob Kid\, Anfänger:in oder OldschoolRipper:in – hier ist Platz für alle.\nBe aware\, der Boden ist aus Beton\, also pack gerne Schützer ein.
URL:https://unsere-hafencity.de/event/skatesession-2/2026-03-16/
LOCATION:QUARTERPIPE\, Versmannstrasse 66 (Zugang über Versmannkai)\, Hamburg\, Hamburg\, 20457\, Germany
ATTACH;FMTTYPE=image/jpeg:https://unsere-hafencity.de/wp-content/uploads/2026/03/4.jpg
END:VEVENT
BEGIN:VEVENT
DTSTART;TZID=Europe/Berlin:20260323T180000
DTEND;TZID=Europe/Berlin:20260323T220000
DTSTAMP:20260419T145840
CREATED:20260305T073912Z
LAST-MODIFIED:20260324T083705Z
UID:10011200-1774288800-1774303200@unsere-hafencity.de
SUMMARY:Skatesession
DESCRIPTION:Von 18 bis 22 Uhr kannst du bei uns neue Tricks lernen\, alten Tricks nachtrauern oder einfach nur an der Bar chillen und Musik hören. Egal ob Kid\, Anfänger:in oder OldschoolRipper:in – hier ist Platz für alle.\nBe aware\, der Boden ist aus Beton\, also pack gerne Schützer ein.
URL:https://unsere-hafencity.de/event/skatesession-2/2026-03-23/
LOCATION:QUARTERPIPE\, Versmannstrasse 66 (Zugang über Versmannkai)\, Hamburg\, Hamburg\, 20457\, Germany
ATTACH;FMTTYPE=image/jpeg:https://unsere-hafencity.de/wp-content/uploads/2026/03/4.jpg
END:VEVENT
BEGIN:VEVENT
DTSTART;TZID=Europe/Berlin:20260330T180000
DTEND;TZID=Europe/Berlin:20260330T220000
DTSTAMP:20260419T145840
CREATED:20260305T073912Z
LAST-MODIFIED:20260324T083705Z
UID:10011201-1774893600-1774908000@unsere-hafencity.de
SUMMARY:Skatesession
DESCRIPTION:Von 18 bis 22 Uhr kannst du bei uns neue Tricks lernen\, alten Tricks nachtrauern oder einfach nur an der Bar chillen und Musik hören. Egal ob Kid\, Anfänger:in oder OldschoolRipper:in – hier ist Platz für alle.\nBe aware\, der Boden ist aus Beton\, also pack gerne Schützer ein.
URL:https://unsere-hafencity.de/event/skatesession-2/2026-03-30/
LOCATION:QUARTERPIPE\, Versmannstrasse 66 (Zugang über Versmannkai)\, Hamburg\, Hamburg\, 20457\, Germany
ATTACH;FMTTYPE=image/jpeg:https://unsere-hafencity.de/wp-content/uploads/2026/03/4.jpg
END:VEVENT
END:VCALENDAR