BEGIN:VCALENDAR
VERSION:2.0
PRODID:-//unsere-hafencity - ECPv6.15.20//NONSGML v1.0//EN
CALSCALE:GREGORIAN
METHOD:PUBLISH
X-ORIGINAL-URL:https://unsere-hafencity.de
X-WR-CALDESC:Veranstaltungen für unsere-hafencity
REFRESH-INTERVAL;VALUE=DURATION:PT1H
X-Robots-Tag:noindex
X-PUBLISHED-TTL:PT1H
BEGIN:VTIMEZONE
TZID:Europe/Berlin
BEGIN:DAYLIGHT
TZOFFSETFROM:+0100
TZOFFSETTO:+0200
TZNAME:CEST
DTSTART:20250330T010000
END:DAYLIGHT
BEGIN:STANDARD
TZOFFSETFROM:+0200
TZOFFSETTO:+0100
TZNAME:CET
DTSTART:20251026T010000
END:STANDARD
BEGIN:DAYLIGHT
TZOFFSETFROM:+0100
TZOFFSETTO:+0200
TZNAME:CEST
DTSTART:20260329T010000
END:DAYLIGHT
BEGIN:STANDARD
TZOFFSETFROM:+0200
TZOFFSETTO:+0100
TZNAME:CET
DTSTART:20261025T010000
END:STANDARD
BEGIN:DAYLIGHT
TZOFFSETFROM:+0100
TZOFFSETTO:+0200
TZNAME:CEST
DTSTART:20270328T010000
END:DAYLIGHT
BEGIN:STANDARD
TZOFFSETFROM:+0200
TZOFFSETTO:+0100
TZNAME:CET
DTSTART:20271031T010000
END:STANDARD
END:VTIMEZONE
BEGIN:VEVENT
DTSTART;TZID=Europe/Berlin:20260206T183000
DTEND;TZID=Europe/Berlin:20260206T220000
DTSTAMP:20260425T131935
CREATED:20260131T172406Z
LAST-MODIFIED:20260131T172406Z
UID:10010976-1770402600-1770415200@unsere-hafencity.de
SUMMARY:SORTIMENT - Ausstellung und Programm der HCU
DESCRIPTION:Ausstellung & Programm der Architekturstudierenden der HafenCity Universität Hamburg \nWie wird Architektur heute entworfen\, diskutiert und vermittelt? Mit SORTIMENT laden die Architekturstudierenden der HafenCity Universität Hamburg zu einem offenen Ausstellungs- und Veranstaltungswochenende ein\, das Entwurfsprozesse sichtbar macht und zugleich zum Dialog über Stadt\, Raum und Gesellschaft einlädt. \nÜber mehrere Tage hinweg wird die Hochschule selbst zum Ausstellungsort und Diskursraum. Gezeigt werden aktuelle studentische Arbeiten\, die nicht nur Ergebnisse präsentieren\, sondern Fragen stellen:Welche Verantwortung trägt Architektur in einer Stadt im Wandel? Für wen werden Räume geplant\, und wer bleibt dabei außen vor? SORTIMENT versteht sich bewusst als offenes Format und richtet sich an alle Interessierten\, unabhängig von fachlichem Hintergrund oder Vorwissen. \nDetails:\n\nVernissage: Freitag\, 06. Februar 2026\, ab 18:30 Uhr\nAusstellung: Samstag\, 07.02. bis Montag\, 09.02.2026 | täglich von 10:00 – 22:00 Uhr\nWo: HafenCity Universität Hamburg\, Henning-Voscherau-Platz 1\, 20457 Hamburg\nEintritt: frei\n\nWeitere Infos findest du direkt bei der HCU! \nBegleitet wird die Ausstellung von einem vielseitigen Programm mit Workshops\, Gesprächsrunden\, einer Filmveranstaltung und Mitmachangeboten. Diese Formate übersetzen die ausgestellten Arbeiten in unterschiedliche Perspektiven und schaffen Raum für Austausch zwischen Studierenden\, Lehrenden und Gästen. \nDen Auftakt bildet die Vernissage am Freitagabend\, die Ausstellung\, Vortrag und gemeinsames Feiern verbindet. Nach einem Rundgang durch die Ausstellung geht der Abend mit Musik\, Gesprächen sowie Essen und Getränken weiter – und setzt sich anschließend im fundbureau fort. Studierende der HCU erhalten dort bei Vorlage ihres Ausweises vergünstigten Eintritt. \nSORTIMENT ist ein Wochenende der Begegnung zwischen Entwurf und Diskussion\, zwischen Hochschule und Stadt\, zwischen Architektur und Öffentlichkeit. Alle sind eingeladen\, vorbeizukommen\, mitzudenken und Architektur als gemeinsamen Prozess zu erleben.
URL:https://unsere-hafencity.de/event/sortiment-ausstellung-und-programm-der-hcu/2026-02-06/
LOCATION:HafenCity Universität\, Henning-Voscherau-Platz 1\, Hamburg\, 20457
ATTACH;FMTTYPE=image/png:https://unsere-hafencity.de/wp-content/uploads/2026/01/Sortiment_HCU_Ausstellung-Programm-Vernissage-06.02.-09.02.png
END:VEVENT
BEGIN:VEVENT
DTSTART;TZID=Europe/Berlin:20260207T100000
DTEND;TZID=Europe/Berlin:20260207T220000
DTSTAMP:20260425T131935
CREATED:20260131T172406Z
LAST-MODIFIED:20260131T172406Z
UID:10010977-1770458400-1770501600@unsere-hafencity.de
SUMMARY:SORTIMENT - Ausstellung und Programm der HCU
DESCRIPTION:Ausstellung & Programm der Architekturstudierenden der HafenCity Universität Hamburg \nWie wird Architektur heute entworfen\, diskutiert und vermittelt? Mit SORTIMENT laden die Architekturstudierenden der HafenCity Universität Hamburg zu einem offenen Ausstellungs- und Veranstaltungswochenende ein\, das Entwurfsprozesse sichtbar macht und zugleich zum Dialog über Stadt\, Raum und Gesellschaft einlädt. \nÜber mehrere Tage hinweg wird die Hochschule selbst zum Ausstellungsort und Diskursraum. Gezeigt werden aktuelle studentische Arbeiten\, die nicht nur Ergebnisse präsentieren\, sondern Fragen stellen:Welche Verantwortung trägt Architektur in einer Stadt im Wandel? Für wen werden Räume geplant\, und wer bleibt dabei außen vor? SORTIMENT versteht sich bewusst als offenes Format und richtet sich an alle Interessierten\, unabhängig von fachlichem Hintergrund oder Vorwissen. \nDetails:\n\nVernissage: Freitag\, 06. Februar 2026\, ab 18:30 Uhr\nAusstellung: Samstag\, 07.02. bis Montag\, 09.02.2026 | täglich von 10:00 – 22:00 Uhr\nWo: HafenCity Universität Hamburg\, Henning-Voscherau-Platz 1\, 20457 Hamburg\nEintritt: frei\n\nWeitere Infos findest du direkt bei der HCU! \nBegleitet wird die Ausstellung von einem vielseitigen Programm mit Workshops\, Gesprächsrunden\, einer Filmveranstaltung und Mitmachangeboten. Diese Formate übersetzen die ausgestellten Arbeiten in unterschiedliche Perspektiven und schaffen Raum für Austausch zwischen Studierenden\, Lehrenden und Gästen. \nDen Auftakt bildet die Vernissage am Freitagabend\, die Ausstellung\, Vortrag und gemeinsames Feiern verbindet. Nach einem Rundgang durch die Ausstellung geht der Abend mit Musik\, Gesprächen sowie Essen und Getränken weiter – und setzt sich anschließend im fundbureau fort. Studierende der HCU erhalten dort bei Vorlage ihres Ausweises vergünstigten Eintritt. \nSORTIMENT ist ein Wochenende der Begegnung zwischen Entwurf und Diskussion\, zwischen Hochschule und Stadt\, zwischen Architektur und Öffentlichkeit. Alle sind eingeladen\, vorbeizukommen\, mitzudenken und Architektur als gemeinsamen Prozess zu erleben.
URL:https://unsere-hafencity.de/event/sortiment-ausstellung-und-programm-der-hcu/2026-02-07/
LOCATION:HafenCity Universität\, Henning-Voscherau-Platz 1\, Hamburg\, 20457
ATTACH;FMTTYPE=image/png:https://unsere-hafencity.de/wp-content/uploads/2026/01/Sortiment_HCU_Ausstellung-Programm-Vernissage-06.02.-09.02.png
END:VEVENT
BEGIN:VEVENT
DTSTART;TZID=Europe/Berlin:20260208T100000
DTEND;TZID=Europe/Berlin:20260208T220000
DTSTAMP:20260425T131935
CREATED:20260131T172406Z
LAST-MODIFIED:20260131T172406Z
UID:10010978-1770544800-1770588000@unsere-hafencity.de
SUMMARY:SORTIMENT - Ausstellung und Programm der HCU
DESCRIPTION:Ausstellung & Programm der Architekturstudierenden der HafenCity Universität Hamburg \nWie wird Architektur heute entworfen\, diskutiert und vermittelt? Mit SORTIMENT laden die Architekturstudierenden der HafenCity Universität Hamburg zu einem offenen Ausstellungs- und Veranstaltungswochenende ein\, das Entwurfsprozesse sichtbar macht und zugleich zum Dialog über Stadt\, Raum und Gesellschaft einlädt. \nÜber mehrere Tage hinweg wird die Hochschule selbst zum Ausstellungsort und Diskursraum. Gezeigt werden aktuelle studentische Arbeiten\, die nicht nur Ergebnisse präsentieren\, sondern Fragen stellen:Welche Verantwortung trägt Architektur in einer Stadt im Wandel? Für wen werden Räume geplant\, und wer bleibt dabei außen vor? SORTIMENT versteht sich bewusst als offenes Format und richtet sich an alle Interessierten\, unabhängig von fachlichem Hintergrund oder Vorwissen. \nDetails:\n\nVernissage: Freitag\, 06. Februar 2026\, ab 18:30 Uhr\nAusstellung: Samstag\, 07.02. bis Montag\, 09.02.2026 | täglich von 10:00 – 22:00 Uhr\nWo: HafenCity Universität Hamburg\, Henning-Voscherau-Platz 1\, 20457 Hamburg\nEintritt: frei\n\nWeitere Infos findest du direkt bei der HCU! \nBegleitet wird die Ausstellung von einem vielseitigen Programm mit Workshops\, Gesprächsrunden\, einer Filmveranstaltung und Mitmachangeboten. Diese Formate übersetzen die ausgestellten Arbeiten in unterschiedliche Perspektiven und schaffen Raum für Austausch zwischen Studierenden\, Lehrenden und Gästen. \nDen Auftakt bildet die Vernissage am Freitagabend\, die Ausstellung\, Vortrag und gemeinsames Feiern verbindet. Nach einem Rundgang durch die Ausstellung geht der Abend mit Musik\, Gesprächen sowie Essen und Getränken weiter – und setzt sich anschließend im fundbureau fort. Studierende der HCU erhalten dort bei Vorlage ihres Ausweises vergünstigten Eintritt. \nSORTIMENT ist ein Wochenende der Begegnung zwischen Entwurf und Diskussion\, zwischen Hochschule und Stadt\, zwischen Architektur und Öffentlichkeit. Alle sind eingeladen\, vorbeizukommen\, mitzudenken und Architektur als gemeinsamen Prozess zu erleben.
URL:https://unsere-hafencity.de/event/sortiment-ausstellung-und-programm-der-hcu/2026-02-08/
LOCATION:HafenCity Universität\, Henning-Voscherau-Platz 1\, Hamburg\, 20457
ATTACH;FMTTYPE=image/png:https://unsere-hafencity.de/wp-content/uploads/2026/01/Sortiment_HCU_Ausstellung-Programm-Vernissage-06.02.-09.02.png
END:VEVENT
BEGIN:VEVENT
DTSTART;TZID=Europe/Berlin:20260209T100000
DTEND;TZID=Europe/Berlin:20260209T220000
DTSTAMP:20260425T131935
CREATED:20260131T172406Z
LAST-MODIFIED:20260131T172406Z
UID:10010979-1770631200-1770674400@unsere-hafencity.de
SUMMARY:SORTIMENT - Ausstellung und Programm der HCU
DESCRIPTION:Ausstellung & Programm der Architekturstudierenden der HafenCity Universität Hamburg \nWie wird Architektur heute entworfen\, diskutiert und vermittelt? Mit SORTIMENT laden die Architekturstudierenden der HafenCity Universität Hamburg zu einem offenen Ausstellungs- und Veranstaltungswochenende ein\, das Entwurfsprozesse sichtbar macht und zugleich zum Dialog über Stadt\, Raum und Gesellschaft einlädt. \nÜber mehrere Tage hinweg wird die Hochschule selbst zum Ausstellungsort und Diskursraum. Gezeigt werden aktuelle studentische Arbeiten\, die nicht nur Ergebnisse präsentieren\, sondern Fragen stellen:Welche Verantwortung trägt Architektur in einer Stadt im Wandel? Für wen werden Räume geplant\, und wer bleibt dabei außen vor? SORTIMENT versteht sich bewusst als offenes Format und richtet sich an alle Interessierten\, unabhängig von fachlichem Hintergrund oder Vorwissen. \nDetails:\n\nVernissage: Freitag\, 06. Februar 2026\, ab 18:30 Uhr\nAusstellung: Samstag\, 07.02. bis Montag\, 09.02.2026 | täglich von 10:00 – 22:00 Uhr\nWo: HafenCity Universität Hamburg\, Henning-Voscherau-Platz 1\, 20457 Hamburg\nEintritt: frei\n\nWeitere Infos findest du direkt bei der HCU! \nBegleitet wird die Ausstellung von einem vielseitigen Programm mit Workshops\, Gesprächsrunden\, einer Filmveranstaltung und Mitmachangeboten. Diese Formate übersetzen die ausgestellten Arbeiten in unterschiedliche Perspektiven und schaffen Raum für Austausch zwischen Studierenden\, Lehrenden und Gästen. \nDen Auftakt bildet die Vernissage am Freitagabend\, die Ausstellung\, Vortrag und gemeinsames Feiern verbindet. Nach einem Rundgang durch die Ausstellung geht der Abend mit Musik\, Gesprächen sowie Essen und Getränken weiter – und setzt sich anschließend im fundbureau fort. Studierende der HCU erhalten dort bei Vorlage ihres Ausweises vergünstigten Eintritt. \nSORTIMENT ist ein Wochenende der Begegnung zwischen Entwurf und Diskussion\, zwischen Hochschule und Stadt\, zwischen Architektur und Öffentlichkeit. Alle sind eingeladen\, vorbeizukommen\, mitzudenken und Architektur als gemeinsamen Prozess zu erleben.
URL:https://unsere-hafencity.de/event/sortiment-ausstellung-und-programm-der-hcu/2026-02-09/
LOCATION:HafenCity Universität\, Henning-Voscherau-Platz 1\, Hamburg\, 20457
ATTACH;FMTTYPE=image/png:https://unsere-hafencity.de/wp-content/uploads/2026/01/Sortiment_HCU_Ausstellung-Programm-Vernissage-06.02.-09.02.png
END:VEVENT
END:VCALENDAR