BEGIN:VCALENDAR
VERSION:2.0
PRODID:-//unsere-hafencity - ECPv6.15.20//NONSGML v1.0//EN
CALSCALE:GREGORIAN
METHOD:PUBLISH
X-ORIGINAL-URL:https://unsere-hafencity.de
X-WR-CALDESC:Veranstaltungen für unsere-hafencity
REFRESH-INTERVAL;VALUE=DURATION:PT1H
X-Robots-Tag:noindex
X-PUBLISHED-TTL:PT1H
BEGIN:VTIMEZONE
TZID:Europe/Berlin
BEGIN:DAYLIGHT
TZOFFSETFROM:+0100
TZOFFSETTO:+0200
TZNAME:CEST
DTSTART:20250330T010000
END:DAYLIGHT
BEGIN:STANDARD
TZOFFSETFROM:+0200
TZOFFSETTO:+0100
TZNAME:CET
DTSTART:20251026T010000
END:STANDARD
BEGIN:DAYLIGHT
TZOFFSETFROM:+0100
TZOFFSETTO:+0200
TZNAME:CEST
DTSTART:20260329T010000
END:DAYLIGHT
BEGIN:STANDARD
TZOFFSETFROM:+0200
TZOFFSETTO:+0100
TZNAME:CET
DTSTART:20261025T010000
END:STANDARD
BEGIN:DAYLIGHT
TZOFFSETFROM:+0100
TZOFFSETTO:+0200
TZNAME:CEST
DTSTART:20270328T010000
END:DAYLIGHT
BEGIN:STANDARD
TZOFFSETFROM:+0200
TZOFFSETTO:+0100
TZNAME:CET
DTSTART:20271031T010000
END:STANDARD
END:VTIMEZONE
BEGIN:VEVENT
DTSTART;TZID=Europe/Berlin:20260331T180000
DTEND;TZID=Europe/Berlin:20260331T200000
DTSTAMP:20260421T095704
CREATED:20251214T162110Z
LAST-MODIFIED:20251216T085803Z
UID:10007710-1774980000-1774987200@unsere-hafencity.de
SUMMARY:AG Verkehr (Netzwerk HafenCity e.V.)
DESCRIPTION:Beim Themenabend der AG Verkehr kommen interessierte Anwohner zusammen\, um sich über die Verkehrssituation in der HafenCity auszutauschen und\, wo nötig\, zu besprechen\, was für einen bürgerfreundlichen Verkehr getan werden kann. \nDer Abend wird von der Arbeitsgruppe Verkehr des Netzwerks HafenCity e.V. getragen\, ist aber für alle Anwohnende offen\, also auch für solche\, die nicht Mitglied im Netzwerk HafenCity e.V. sind. \n\nWann: Letzter Dienstag im Monat\, 18:00-20:00 Uhr\nOrt: Gemeinschaftshaus Grasbrookpark\nAnmeldung: nicht notwendig\nAngebotsleitung: Wolfgang Weisbrod-Weber\, Lutz Metterhausen
URL:https://unsere-hafencity.de/event/ag-verkehr-netzwerk-hafencity-e-v/2026-03-31/
LOCATION:Gemeinschaftshaus Grasbrook Park\, Gemeinschaftshaus Grasbrookpark\, Strandkai\, Hamburg\, 20457\, Germany
ATTACH;FMTTYPE=image/jpeg:https://unsere-hafencity.de/wp-content/uploads/2025/12/AG-Verkehr-QMHC.jpeg
END:VEVENT
END:VCALENDAR