BEGIN:VCALENDAR
VERSION:2.0
PRODID:-//unsere-hafencity - ECPv6.15.20//NONSGML v1.0//EN
CALSCALE:GREGORIAN
METHOD:PUBLISH
X-WR-CALNAME:unsere-hafencity
X-ORIGINAL-URL:https://unsere-hafencity.de
X-WR-CALDESC:Veranstaltungen für unsere-hafencity
REFRESH-INTERVAL;VALUE=DURATION:PT1H
X-Robots-Tag:noindex
X-PUBLISHED-TTL:PT1H
BEGIN:VTIMEZONE
TZID:Europe/Berlin
BEGIN:DAYLIGHT
TZOFFSETFROM:+0100
TZOFFSETTO:+0200
TZNAME:CEST
DTSTART:20250330T010000
END:DAYLIGHT
BEGIN:STANDARD
TZOFFSETFROM:+0200
TZOFFSETTO:+0100
TZNAME:CET
DTSTART:20251026T010000
END:STANDARD
BEGIN:DAYLIGHT
TZOFFSETFROM:+0100
TZOFFSETTO:+0200
TZNAME:CEST
DTSTART:20260329T010000
END:DAYLIGHT
BEGIN:STANDARD
TZOFFSETFROM:+0200
TZOFFSETTO:+0100
TZNAME:CET
DTSTART:20261025T010000
END:STANDARD
BEGIN:DAYLIGHT
TZOFFSETFROM:+0100
TZOFFSETTO:+0200
TZNAME:CEST
DTSTART:20270328T010000
END:DAYLIGHT
BEGIN:STANDARD
TZOFFSETFROM:+0200
TZOFFSETTO:+0100
TZNAME:CET
DTSTART:20271031T010000
END:STANDARD
END:VTIMEZONE
BEGIN:VEVENT
DTSTART;TZID=Europe/Berlin:20260707T180000
DTEND;TZID=Europe/Berlin:20260707T193000
DTSTAMP:20260424T130415
CREATED:20260315T202247Z
LAST-MODIFIED:20260315T202346Z
UID:10012116-1783447200-1783452600@unsere-hafencity.de
SUMMARY:Acroyoga
DESCRIPTION:Akrobatik trifft Yoga!\nAcroyoga verbindet Yoga\, Akrobatik und Partnerarbeit zu einer spielerischen Praxis. In diesem Kurs lernst du gemeinsam mit anderen grundlegende Figuren\, stärkst Kraft\, Balance und Vertrauen. Geeignet für Anfänger*innen und Fortgeschrittene – Vorkenntnisse sind nicht nötig.\nKomm zu einem kostenlosen Schnuppertraining vorbei!
URL:https://unsere-hafencity.de/event/acroyoga/2026-07-07/
LOCATION:Gemeinschaftsraum Sportlerhaus\, Baakenallee 51\, Hamburg\, 20457\, Germany
CATEGORIES:Sport
ATTACH;FMTTYPE=image/jpeg:https://unsere-hafencity.de/wp-content/uploads/2026/03/IMG_5499.jpeg
ORGANIZER;CN="SportvereinBaakenhafen":MAILTO:Verein@sportlerhaus.com
END:VEVENT
BEGIN:VEVENT
DTSTART;TZID=Europe/Berlin:20260714T180000
DTEND;TZID=Europe/Berlin:20260714T193000
DTSTAMP:20260424T130415
CREATED:20260315T202247Z
LAST-MODIFIED:20260315T202346Z
UID:10012117-1784052000-1784057400@unsere-hafencity.de
SUMMARY:Acroyoga
DESCRIPTION:Akrobatik trifft Yoga!\nAcroyoga verbindet Yoga\, Akrobatik und Partnerarbeit zu einer spielerischen Praxis. In diesem Kurs lernst du gemeinsam mit anderen grundlegende Figuren\, stärkst Kraft\, Balance und Vertrauen. Geeignet für Anfänger*innen und Fortgeschrittene – Vorkenntnisse sind nicht nötig.\nKomm zu einem kostenlosen Schnuppertraining vorbei!
URL:https://unsere-hafencity.de/event/acroyoga/2026-07-14/
LOCATION:Gemeinschaftsraum Sportlerhaus\, Baakenallee 51\, Hamburg\, 20457\, Germany
CATEGORIES:Sport
ATTACH;FMTTYPE=image/jpeg:https://unsere-hafencity.de/wp-content/uploads/2026/03/IMG_5499.jpeg
ORGANIZER;CN="SportvereinBaakenhafen":MAILTO:Verein@sportlerhaus.com
END:VEVENT
BEGIN:VEVENT
DTSTART;TZID=Europe/Berlin:20260721T180000
DTEND;TZID=Europe/Berlin:20260721T193000
DTSTAMP:20260424T130415
CREATED:20260315T202247Z
LAST-MODIFIED:20260315T202346Z
UID:10012118-1784656800-1784662200@unsere-hafencity.de
SUMMARY:Acroyoga
DESCRIPTION:Akrobatik trifft Yoga!\nAcroyoga verbindet Yoga\, Akrobatik und Partnerarbeit zu einer spielerischen Praxis. In diesem Kurs lernst du gemeinsam mit anderen grundlegende Figuren\, stärkst Kraft\, Balance und Vertrauen. Geeignet für Anfänger*innen und Fortgeschrittene – Vorkenntnisse sind nicht nötig.\nKomm zu einem kostenlosen Schnuppertraining vorbei!
URL:https://unsere-hafencity.de/event/acroyoga/2026-07-21/
LOCATION:Gemeinschaftsraum Sportlerhaus\, Baakenallee 51\, Hamburg\, 20457\, Germany
CATEGORIES:Sport
ATTACH;FMTTYPE=image/jpeg:https://unsere-hafencity.de/wp-content/uploads/2026/03/IMG_5499.jpeg
ORGANIZER;CN="SportvereinBaakenhafen":MAILTO:Verein@sportlerhaus.com
END:VEVENT
BEGIN:VEVENT
DTSTART;TZID=Europe/Berlin:20260728T180000
DTEND;TZID=Europe/Berlin:20260728T193000
DTSTAMP:20260424T130415
CREATED:20260315T202247Z
LAST-MODIFIED:20260315T202346Z
UID:10012119-1785261600-1785267000@unsere-hafencity.de
SUMMARY:Acroyoga
DESCRIPTION:Akrobatik trifft Yoga!\nAcroyoga verbindet Yoga\, Akrobatik und Partnerarbeit zu einer spielerischen Praxis. In diesem Kurs lernst du gemeinsam mit anderen grundlegende Figuren\, stärkst Kraft\, Balance und Vertrauen. Geeignet für Anfänger*innen und Fortgeschrittene – Vorkenntnisse sind nicht nötig.\nKomm zu einem kostenlosen Schnuppertraining vorbei!
URL:https://unsere-hafencity.de/event/acroyoga/2026-07-28/
LOCATION:Gemeinschaftsraum Sportlerhaus\, Baakenallee 51\, Hamburg\, 20457\, Germany
CATEGORIES:Sport
ATTACH;FMTTYPE=image/jpeg:https://unsere-hafencity.de/wp-content/uploads/2026/03/IMG_5499.jpeg
ORGANIZER;CN="SportvereinBaakenhafen":MAILTO:Verein@sportlerhaus.com
END:VEVENT
END:VCALENDAR