BEGIN:VCALENDAR
VERSION:2.0
PRODID:-//unsere-hafencity - ECPv6.15.20//NONSGML v1.0//EN
CALSCALE:GREGORIAN
METHOD:PUBLISH
X-ORIGINAL-URL:https://unsere-hafencity.de
X-WR-CALDESC:Veranstaltungen für unsere-hafencity
REFRESH-INTERVAL;VALUE=DURATION:PT1H
X-Robots-Tag:noindex
X-PUBLISHED-TTL:PT1H
BEGIN:VTIMEZONE
TZID:Europe/Berlin
BEGIN:DAYLIGHT
TZOFFSETFROM:+0100
TZOFFSETTO:+0200
TZNAME:CEST
DTSTART:20260329T010000
END:DAYLIGHT
BEGIN:STANDARD
TZOFFSETFROM:+0200
TZOFFSETTO:+0100
TZNAME:CET
DTSTART:20261025T010000
END:STANDARD
BEGIN:DAYLIGHT
TZOFFSETFROM:+0100
TZOFFSETTO:+0200
TZNAME:CEST
DTSTART:20270328T010000
END:DAYLIGHT
BEGIN:STANDARD
TZOFFSETFROM:+0200
TZOFFSETTO:+0100
TZNAME:CET
DTSTART:20271031T010000
END:STANDARD
BEGIN:DAYLIGHT
TZOFFSETFROM:+0100
TZOFFSETTO:+0200
TZNAME:CEST
DTSTART:20280326T010000
END:DAYLIGHT
BEGIN:STANDARD
TZOFFSETFROM:+0200
TZOFFSETTO:+0100
TZNAME:CET
DTSTART:20281029T010000
END:STANDARD
BEGIN:DAYLIGHT
TZOFFSETFROM:+0100
TZOFFSETTO:+0200
TZNAME:CEST
DTSTART:20290325T010000
END:DAYLIGHT
BEGIN:STANDARD
TZOFFSETFROM:+0200
TZOFFSETTO:+0100
TZNAME:CET
DTSTART:20291028T010000
END:STANDARD
END:VTIMEZONE
BEGIN:VEVENT
DTSTART;TZID=Europe/Berlin:20271214T200000
DTEND;TZID=Europe/Berlin:20271214T210000
DTSTAMP:20260426T063433
CREATED:20260331T071720Z
LAST-MODIFIED:20260331T071720Z
UID:10012907-1828814400-1828818000@unsere-hafencity.de
SUMMARY:Pilates
DESCRIPTION:Kräftigung\, Beweglichkeit und Entspannung in einem: Pilates stärkt gezielt die Körpermitte und verbessert deine Haltung. Ein ruhiger\, effektiver Ausgleich zum Alltag – für jedes Fitnesslevel geeignet.
URL:https://unsere-hafencity.de/event/pilates/2027-12-14/
LOCATION:Gemeinschaftsraum Sportlerhaus\, Baakenallee 51\, Hamburg\, 20457\, Germany
ATTACH;FMTTYPE=image/jpeg:https://unsere-hafencity.de/wp-content/uploads/2026/03/IMG_5531.jpeg
ORGANIZER;CN="SportvereinBaakenhafen":MAILTO:Verein@sportlerhaus.com
END:VEVENT
BEGIN:VEVENT
DTSTART;TZID=Europe/Berlin:20271221T200000
DTEND;TZID=Europe/Berlin:20271221T210000
DTSTAMP:20260426T063433
CREATED:20260331T071720Z
LAST-MODIFIED:20260331T071720Z
UID:10012908-1829419200-1829422800@unsere-hafencity.de
SUMMARY:Pilates
DESCRIPTION:Kräftigung\, Beweglichkeit und Entspannung in einem: Pilates stärkt gezielt die Körpermitte und verbessert deine Haltung. Ein ruhiger\, effektiver Ausgleich zum Alltag – für jedes Fitnesslevel geeignet.
URL:https://unsere-hafencity.de/event/pilates/2027-12-21/
LOCATION:Gemeinschaftsraum Sportlerhaus\, Baakenallee 51\, Hamburg\, 20457\, Germany
ATTACH;FMTTYPE=image/jpeg:https://unsere-hafencity.de/wp-content/uploads/2026/03/IMG_5531.jpeg
ORGANIZER;CN="SportvereinBaakenhafen":MAILTO:Verein@sportlerhaus.com
END:VEVENT
BEGIN:VEVENT
DTSTART;TZID=Europe/Berlin:20271228T200000
DTEND;TZID=Europe/Berlin:20271228T210000
DTSTAMP:20260426T063433
CREATED:20260331T071720Z
LAST-MODIFIED:20260331T071720Z
UID:10012909-1830024000-1830027600@unsere-hafencity.de
SUMMARY:Pilates
DESCRIPTION:Kräftigung\, Beweglichkeit und Entspannung in einem: Pilates stärkt gezielt die Körpermitte und verbessert deine Haltung. Ein ruhiger\, effektiver Ausgleich zum Alltag – für jedes Fitnesslevel geeignet.
URL:https://unsere-hafencity.de/event/pilates/2027-12-28/
LOCATION:Gemeinschaftsraum Sportlerhaus\, Baakenallee 51\, Hamburg\, 20457\, Germany
ATTACH;FMTTYPE=image/jpeg:https://unsere-hafencity.de/wp-content/uploads/2026/03/IMG_5531.jpeg
ORGANIZER;CN="SportvereinBaakenhafen":MAILTO:Verein@sportlerhaus.com
END:VEVENT
BEGIN:VEVENT
DTSTART;TZID=Europe/Berlin:20280104T200000
DTEND;TZID=Europe/Berlin:20280104T210000
DTSTAMP:20260426T063433
CREATED:20260331T071720Z
LAST-MODIFIED:20260331T071720Z
UID:10012910-1830628800-1830632400@unsere-hafencity.de
SUMMARY:Pilates
DESCRIPTION:Kräftigung\, Beweglichkeit und Entspannung in einem: Pilates stärkt gezielt die Körpermitte und verbessert deine Haltung. Ein ruhiger\, effektiver Ausgleich zum Alltag – für jedes Fitnesslevel geeignet.
URL:https://unsere-hafencity.de/event/pilates/2028-01-04/
LOCATION:Gemeinschaftsraum Sportlerhaus\, Baakenallee 51\, Hamburg\, 20457\, Germany
ATTACH;FMTTYPE=image/jpeg:https://unsere-hafencity.de/wp-content/uploads/2026/03/IMG_5531.jpeg
ORGANIZER;CN="SportvereinBaakenhafen":MAILTO:Verein@sportlerhaus.com
END:VEVENT
BEGIN:VEVENT
DTSTART;TZID=Europe/Berlin:20280111T200000
DTEND;TZID=Europe/Berlin:20280111T210000
DTSTAMP:20260426T063433
CREATED:20260331T071720Z
LAST-MODIFIED:20260331T071720Z
UID:10012911-1831233600-1831237200@unsere-hafencity.de
SUMMARY:Pilates
DESCRIPTION:Kräftigung\, Beweglichkeit und Entspannung in einem: Pilates stärkt gezielt die Körpermitte und verbessert deine Haltung. Ein ruhiger\, effektiver Ausgleich zum Alltag – für jedes Fitnesslevel geeignet.
URL:https://unsere-hafencity.de/event/pilates/2028-01-11/
LOCATION:Gemeinschaftsraum Sportlerhaus\, Baakenallee 51\, Hamburg\, 20457\, Germany
ATTACH;FMTTYPE=image/jpeg:https://unsere-hafencity.de/wp-content/uploads/2026/03/IMG_5531.jpeg
ORGANIZER;CN="SportvereinBaakenhafen":MAILTO:Verein@sportlerhaus.com
END:VEVENT
BEGIN:VEVENT
DTSTART;TZID=Europe/Berlin:20280118T200000
DTEND;TZID=Europe/Berlin:20280118T210000
DTSTAMP:20260426T063433
CREATED:20260331T071720Z
LAST-MODIFIED:20260331T071720Z
UID:10012912-1831838400-1831842000@unsere-hafencity.de
SUMMARY:Pilates
DESCRIPTION:Kräftigung\, Beweglichkeit und Entspannung in einem: Pilates stärkt gezielt die Körpermitte und verbessert deine Haltung. Ein ruhiger\, effektiver Ausgleich zum Alltag – für jedes Fitnesslevel geeignet.
URL:https://unsere-hafencity.de/event/pilates/2028-01-18/
LOCATION:Gemeinschaftsraum Sportlerhaus\, Baakenallee 51\, Hamburg\, 20457\, Germany
ATTACH;FMTTYPE=image/jpeg:https://unsere-hafencity.de/wp-content/uploads/2026/03/IMG_5531.jpeg
ORGANIZER;CN="SportvereinBaakenhafen":MAILTO:Verein@sportlerhaus.com
END:VEVENT
BEGIN:VEVENT
DTSTART;TZID=Europe/Berlin:20280125T200000
DTEND;TZID=Europe/Berlin:20280125T210000
DTSTAMP:20260426T063433
CREATED:20260331T071720Z
LAST-MODIFIED:20260331T071720Z
UID:10012913-1832443200-1832446800@unsere-hafencity.de
SUMMARY:Pilates
DESCRIPTION:Kräftigung\, Beweglichkeit und Entspannung in einem: Pilates stärkt gezielt die Körpermitte und verbessert deine Haltung. Ein ruhiger\, effektiver Ausgleich zum Alltag – für jedes Fitnesslevel geeignet.
URL:https://unsere-hafencity.de/event/pilates/2028-01-25/
LOCATION:Gemeinschaftsraum Sportlerhaus\, Baakenallee 51\, Hamburg\, 20457\, Germany
ATTACH;FMTTYPE=image/jpeg:https://unsere-hafencity.de/wp-content/uploads/2026/03/IMG_5531.jpeg
ORGANIZER;CN="SportvereinBaakenhafen":MAILTO:Verein@sportlerhaus.com
END:VEVENT
BEGIN:VEVENT
DTSTART;TZID=Europe/Berlin:20280201T200000
DTEND;TZID=Europe/Berlin:20280201T210000
DTSTAMP:20260426T063433
CREATED:20260331T071720Z
LAST-MODIFIED:20260331T071720Z
UID:10012914-1833048000-1833051600@unsere-hafencity.de
SUMMARY:Pilates
DESCRIPTION:Kräftigung\, Beweglichkeit und Entspannung in einem: Pilates stärkt gezielt die Körpermitte und verbessert deine Haltung. Ein ruhiger\, effektiver Ausgleich zum Alltag – für jedes Fitnesslevel geeignet.
URL:https://unsere-hafencity.de/event/pilates/2028-02-01/
LOCATION:Gemeinschaftsraum Sportlerhaus\, Baakenallee 51\, Hamburg\, 20457\, Germany
ATTACH;FMTTYPE=image/jpeg:https://unsere-hafencity.de/wp-content/uploads/2026/03/IMG_5531.jpeg
ORGANIZER;CN="SportvereinBaakenhafen":MAILTO:Verein@sportlerhaus.com
END:VEVENT
BEGIN:VEVENT
DTSTART;TZID=Europe/Berlin:20280208T200000
DTEND;TZID=Europe/Berlin:20280208T210000
DTSTAMP:20260426T063433
CREATED:20260331T071720Z
LAST-MODIFIED:20260331T071720Z
UID:10012915-1833652800-1833656400@unsere-hafencity.de
SUMMARY:Pilates
DESCRIPTION:Kräftigung\, Beweglichkeit und Entspannung in einem: Pilates stärkt gezielt die Körpermitte und verbessert deine Haltung. Ein ruhiger\, effektiver Ausgleich zum Alltag – für jedes Fitnesslevel geeignet.
URL:https://unsere-hafencity.de/event/pilates/2028-02-08/
LOCATION:Gemeinschaftsraum Sportlerhaus\, Baakenallee 51\, Hamburg\, 20457\, Germany
ATTACH;FMTTYPE=image/jpeg:https://unsere-hafencity.de/wp-content/uploads/2026/03/IMG_5531.jpeg
ORGANIZER;CN="SportvereinBaakenhafen":MAILTO:Verein@sportlerhaus.com
END:VEVENT
BEGIN:VEVENT
DTSTART;TZID=Europe/Berlin:20280215T200000
DTEND;TZID=Europe/Berlin:20280215T210000
DTSTAMP:20260426T063433
CREATED:20260331T071720Z
LAST-MODIFIED:20260331T071720Z
UID:10012916-1834257600-1834261200@unsere-hafencity.de
SUMMARY:Pilates
DESCRIPTION:Kräftigung\, Beweglichkeit und Entspannung in einem: Pilates stärkt gezielt die Körpermitte und verbessert deine Haltung. Ein ruhiger\, effektiver Ausgleich zum Alltag – für jedes Fitnesslevel geeignet.
URL:https://unsere-hafencity.de/event/pilates/2028-02-15/
LOCATION:Gemeinschaftsraum Sportlerhaus\, Baakenallee 51\, Hamburg\, 20457\, Germany
ATTACH;FMTTYPE=image/jpeg:https://unsere-hafencity.de/wp-content/uploads/2026/03/IMG_5531.jpeg
ORGANIZER;CN="SportvereinBaakenhafen":MAILTO:Verein@sportlerhaus.com
END:VEVENT
BEGIN:VEVENT
DTSTART;TZID=Europe/Berlin:20280222T200000
DTEND;TZID=Europe/Berlin:20280222T210000
DTSTAMP:20260426T063433
CREATED:20260331T071720Z
LAST-MODIFIED:20260331T071720Z
UID:10012917-1834862400-1834866000@unsere-hafencity.de
SUMMARY:Pilates
DESCRIPTION:Kräftigung\, Beweglichkeit und Entspannung in einem: Pilates stärkt gezielt die Körpermitte und verbessert deine Haltung. Ein ruhiger\, effektiver Ausgleich zum Alltag – für jedes Fitnesslevel geeignet.
URL:https://unsere-hafencity.de/event/pilates/2028-02-22/
LOCATION:Gemeinschaftsraum Sportlerhaus\, Baakenallee 51\, Hamburg\, 20457\, Germany
ATTACH;FMTTYPE=image/jpeg:https://unsere-hafencity.de/wp-content/uploads/2026/03/IMG_5531.jpeg
ORGANIZER;CN="SportvereinBaakenhafen":MAILTO:Verein@sportlerhaus.com
END:VEVENT
BEGIN:VEVENT
DTSTART;TZID=Europe/Berlin:20280229T200000
DTEND;TZID=Europe/Berlin:20280229T210000
DTSTAMP:20260426T063433
CREATED:20260331T071720Z
LAST-MODIFIED:20260331T071720Z
UID:10012918-1835467200-1835470800@unsere-hafencity.de
SUMMARY:Pilates
DESCRIPTION:Kräftigung\, Beweglichkeit und Entspannung in einem: Pilates stärkt gezielt die Körpermitte und verbessert deine Haltung. Ein ruhiger\, effektiver Ausgleich zum Alltag – für jedes Fitnesslevel geeignet.
URL:https://unsere-hafencity.de/event/pilates/2028-02-29/
LOCATION:Gemeinschaftsraum Sportlerhaus\, Baakenallee 51\, Hamburg\, 20457\, Germany
ATTACH;FMTTYPE=image/jpeg:https://unsere-hafencity.de/wp-content/uploads/2026/03/IMG_5531.jpeg
ORGANIZER;CN="SportvereinBaakenhafen":MAILTO:Verein@sportlerhaus.com
END:VEVENT
BEGIN:VEVENT
DTSTART;TZID=Europe/Berlin:20280307T200000
DTEND;TZID=Europe/Berlin:20280307T210000
DTSTAMP:20260426T063433
CREATED:20260331T071720Z
LAST-MODIFIED:20260331T071720Z
UID:10012919-1836072000-1836075600@unsere-hafencity.de
SUMMARY:Pilates
DESCRIPTION:Kräftigung\, Beweglichkeit und Entspannung in einem: Pilates stärkt gezielt die Körpermitte und verbessert deine Haltung. Ein ruhiger\, effektiver Ausgleich zum Alltag – für jedes Fitnesslevel geeignet.
URL:https://unsere-hafencity.de/event/pilates/2028-03-07/
LOCATION:Gemeinschaftsraum Sportlerhaus\, Baakenallee 51\, Hamburg\, 20457\, Germany
ATTACH;FMTTYPE=image/jpeg:https://unsere-hafencity.de/wp-content/uploads/2026/03/IMG_5531.jpeg
ORGANIZER;CN="SportvereinBaakenhafen":MAILTO:Verein@sportlerhaus.com
END:VEVENT
BEGIN:VEVENT
DTSTART;TZID=Europe/Berlin:20280314T200000
DTEND;TZID=Europe/Berlin:20280314T210000
DTSTAMP:20260426T063433
CREATED:20260331T071720Z
LAST-MODIFIED:20260331T071720Z
UID:10012920-1836676800-1836680400@unsere-hafencity.de
SUMMARY:Pilates
DESCRIPTION:Kräftigung\, Beweglichkeit und Entspannung in einem: Pilates stärkt gezielt die Körpermitte und verbessert deine Haltung. Ein ruhiger\, effektiver Ausgleich zum Alltag – für jedes Fitnesslevel geeignet.
URL:https://unsere-hafencity.de/event/pilates/2028-03-14/
LOCATION:Gemeinschaftsraum Sportlerhaus\, Baakenallee 51\, Hamburg\, 20457\, Germany
ATTACH;FMTTYPE=image/jpeg:https://unsere-hafencity.de/wp-content/uploads/2026/03/IMG_5531.jpeg
ORGANIZER;CN="SportvereinBaakenhafen":MAILTO:Verein@sportlerhaus.com
END:VEVENT
BEGIN:VEVENT
DTSTART;TZID=Europe/Berlin:20280321T200000
DTEND;TZID=Europe/Berlin:20280321T210000
DTSTAMP:20260426T063433
CREATED:20260331T071720Z
LAST-MODIFIED:20260331T071720Z
UID:10012921-1837281600-1837285200@unsere-hafencity.de
SUMMARY:Pilates
DESCRIPTION:Kräftigung\, Beweglichkeit und Entspannung in einem: Pilates stärkt gezielt die Körpermitte und verbessert deine Haltung. Ein ruhiger\, effektiver Ausgleich zum Alltag – für jedes Fitnesslevel geeignet.
URL:https://unsere-hafencity.de/event/pilates/2028-03-21/
LOCATION:Gemeinschaftsraum Sportlerhaus\, Baakenallee 51\, Hamburg\, 20457\, Germany
ATTACH;FMTTYPE=image/jpeg:https://unsere-hafencity.de/wp-content/uploads/2026/03/IMG_5531.jpeg
ORGANIZER;CN="SportvereinBaakenhafen":MAILTO:Verein@sportlerhaus.com
END:VEVENT
BEGIN:VEVENT
DTSTART;TZID=Europe/Berlin:20280328T200000
DTEND;TZID=Europe/Berlin:20280328T210000
DTSTAMP:20260426T063433
CREATED:20260331T071720Z
LAST-MODIFIED:20260331T071720Z
UID:10012922-1837886400-1837890000@unsere-hafencity.de
SUMMARY:Pilates
DESCRIPTION:Kräftigung\, Beweglichkeit und Entspannung in einem: Pilates stärkt gezielt die Körpermitte und verbessert deine Haltung. Ein ruhiger\, effektiver Ausgleich zum Alltag – für jedes Fitnesslevel geeignet.
URL:https://unsere-hafencity.de/event/pilates/2028-03-28/
LOCATION:Gemeinschaftsraum Sportlerhaus\, Baakenallee 51\, Hamburg\, 20457\, Germany
ATTACH;FMTTYPE=image/jpeg:https://unsere-hafencity.de/wp-content/uploads/2026/03/IMG_5531.jpeg
ORGANIZER;CN="SportvereinBaakenhafen":MAILTO:Verein@sportlerhaus.com
END:VEVENT
BEGIN:VEVENT
DTSTART;TZID=Europe/Berlin:20280404T200000
DTEND;TZID=Europe/Berlin:20280404T210000
DTSTAMP:20260426T063433
CREATED:20260331T071720Z
LAST-MODIFIED:20260331T071720Z
UID:10012923-1838491200-1838494800@unsere-hafencity.de
SUMMARY:Pilates
DESCRIPTION:Kräftigung\, Beweglichkeit und Entspannung in einem: Pilates stärkt gezielt die Körpermitte und verbessert deine Haltung. Ein ruhiger\, effektiver Ausgleich zum Alltag – für jedes Fitnesslevel geeignet.
URL:https://unsere-hafencity.de/event/pilates/2028-04-04/
LOCATION:Gemeinschaftsraum Sportlerhaus\, Baakenallee 51\, Hamburg\, 20457\, Germany
ATTACH;FMTTYPE=image/jpeg:https://unsere-hafencity.de/wp-content/uploads/2026/03/IMG_5531.jpeg
ORGANIZER;CN="SportvereinBaakenhafen":MAILTO:Verein@sportlerhaus.com
END:VEVENT
BEGIN:VEVENT
DTSTART;TZID=Europe/Berlin:20280411T200000
DTEND;TZID=Europe/Berlin:20280411T210000
DTSTAMP:20260426T063433
CREATED:20260331T071720Z
LAST-MODIFIED:20260331T071720Z
UID:10012924-1839096000-1839099600@unsere-hafencity.de
SUMMARY:Pilates
DESCRIPTION:Kräftigung\, Beweglichkeit und Entspannung in einem: Pilates stärkt gezielt die Körpermitte und verbessert deine Haltung. Ein ruhiger\, effektiver Ausgleich zum Alltag – für jedes Fitnesslevel geeignet.
URL:https://unsere-hafencity.de/event/pilates/2028-04-11/
LOCATION:Gemeinschaftsraum Sportlerhaus\, Baakenallee 51\, Hamburg\, 20457\, Germany
ATTACH;FMTTYPE=image/jpeg:https://unsere-hafencity.de/wp-content/uploads/2026/03/IMG_5531.jpeg
ORGANIZER;CN="SportvereinBaakenhafen":MAILTO:Verein@sportlerhaus.com
END:VEVENT
BEGIN:VEVENT
DTSTART;TZID=Europe/Berlin:20280418T200000
DTEND;TZID=Europe/Berlin:20280418T210000
DTSTAMP:20260426T063433
CREATED:20260331T071720Z
LAST-MODIFIED:20260331T071720Z
UID:10012925-1839700800-1839704400@unsere-hafencity.de
SUMMARY:Pilates
DESCRIPTION:Kräftigung\, Beweglichkeit und Entspannung in einem: Pilates stärkt gezielt die Körpermitte und verbessert deine Haltung. Ein ruhiger\, effektiver Ausgleich zum Alltag – für jedes Fitnesslevel geeignet.
URL:https://unsere-hafencity.de/event/pilates/2028-04-18/
LOCATION:Gemeinschaftsraum Sportlerhaus\, Baakenallee 51\, Hamburg\, 20457\, Germany
ATTACH;FMTTYPE=image/jpeg:https://unsere-hafencity.de/wp-content/uploads/2026/03/IMG_5531.jpeg
ORGANIZER;CN="SportvereinBaakenhafen":MAILTO:Verein@sportlerhaus.com
END:VEVENT
BEGIN:VEVENT
DTSTART;TZID=Europe/Berlin:20280425T200000
DTEND;TZID=Europe/Berlin:20280425T210000
DTSTAMP:20260426T063433
CREATED:20260331T071720Z
LAST-MODIFIED:20260331T071720Z
UID:10012926-1840305600-1840309200@unsere-hafencity.de
SUMMARY:Pilates
DESCRIPTION:Kräftigung\, Beweglichkeit und Entspannung in einem: Pilates stärkt gezielt die Körpermitte und verbessert deine Haltung. Ein ruhiger\, effektiver Ausgleich zum Alltag – für jedes Fitnesslevel geeignet.
URL:https://unsere-hafencity.de/event/pilates/2028-04-25/
LOCATION:Gemeinschaftsraum Sportlerhaus\, Baakenallee 51\, Hamburg\, 20457\, Germany
ATTACH;FMTTYPE=image/jpeg:https://unsere-hafencity.de/wp-content/uploads/2026/03/IMG_5531.jpeg
ORGANIZER;CN="SportvereinBaakenhafen":MAILTO:Verein@sportlerhaus.com
END:VEVENT
BEGIN:VEVENT
DTSTART;TZID=Europe/Berlin:20280502T200000
DTEND;TZID=Europe/Berlin:20280502T210000
DTSTAMP:20260426T063433
CREATED:20260331T071720Z
LAST-MODIFIED:20260331T071720Z
UID:10012927-1840910400-1840914000@unsere-hafencity.de
SUMMARY:Pilates
DESCRIPTION:Kräftigung\, Beweglichkeit und Entspannung in einem: Pilates stärkt gezielt die Körpermitte und verbessert deine Haltung. Ein ruhiger\, effektiver Ausgleich zum Alltag – für jedes Fitnesslevel geeignet.
URL:https://unsere-hafencity.de/event/pilates/2028-05-02/
LOCATION:Gemeinschaftsraum Sportlerhaus\, Baakenallee 51\, Hamburg\, 20457\, Germany
ATTACH;FMTTYPE=image/jpeg:https://unsere-hafencity.de/wp-content/uploads/2026/03/IMG_5531.jpeg
ORGANIZER;CN="SportvereinBaakenhafen":MAILTO:Verein@sportlerhaus.com
END:VEVENT
BEGIN:VEVENT
DTSTART;TZID=Europe/Berlin:20280509T200000
DTEND;TZID=Europe/Berlin:20280509T210000
DTSTAMP:20260426T063433
CREATED:20260331T071720Z
LAST-MODIFIED:20260331T071720Z
UID:10012928-1841515200-1841518800@unsere-hafencity.de
SUMMARY:Pilates
DESCRIPTION:Kräftigung\, Beweglichkeit und Entspannung in einem: Pilates stärkt gezielt die Körpermitte und verbessert deine Haltung. Ein ruhiger\, effektiver Ausgleich zum Alltag – für jedes Fitnesslevel geeignet.
URL:https://unsere-hafencity.de/event/pilates/2028-05-09/
LOCATION:Gemeinschaftsraum Sportlerhaus\, Baakenallee 51\, Hamburg\, 20457\, Germany
ATTACH;FMTTYPE=image/jpeg:https://unsere-hafencity.de/wp-content/uploads/2026/03/IMG_5531.jpeg
ORGANIZER;CN="SportvereinBaakenhafen":MAILTO:Verein@sportlerhaus.com
END:VEVENT
BEGIN:VEVENT
DTSTART;TZID=Europe/Berlin:20280516T200000
DTEND;TZID=Europe/Berlin:20280516T210000
DTSTAMP:20260426T063433
CREATED:20260331T071720Z
LAST-MODIFIED:20260331T071720Z
UID:10012929-1842120000-1842123600@unsere-hafencity.de
SUMMARY:Pilates
DESCRIPTION:Kräftigung\, Beweglichkeit und Entspannung in einem: Pilates stärkt gezielt die Körpermitte und verbessert deine Haltung. Ein ruhiger\, effektiver Ausgleich zum Alltag – für jedes Fitnesslevel geeignet.
URL:https://unsere-hafencity.de/event/pilates/2028-05-16/
LOCATION:Gemeinschaftsraum Sportlerhaus\, Baakenallee 51\, Hamburg\, 20457\, Germany
ATTACH;FMTTYPE=image/jpeg:https://unsere-hafencity.de/wp-content/uploads/2026/03/IMG_5531.jpeg
ORGANIZER;CN="SportvereinBaakenhafen":MAILTO:Verein@sportlerhaus.com
END:VEVENT
BEGIN:VEVENT
DTSTART;TZID=Europe/Berlin:20280523T200000
DTEND;TZID=Europe/Berlin:20280523T210000
DTSTAMP:20260426T063433
CREATED:20260331T071720Z
LAST-MODIFIED:20260331T071720Z
UID:10012930-1842724800-1842728400@unsere-hafencity.de
SUMMARY:Pilates
DESCRIPTION:Kräftigung\, Beweglichkeit und Entspannung in einem: Pilates stärkt gezielt die Körpermitte und verbessert deine Haltung. Ein ruhiger\, effektiver Ausgleich zum Alltag – für jedes Fitnesslevel geeignet.
URL:https://unsere-hafencity.de/event/pilates/2028-05-23/
LOCATION:Gemeinschaftsraum Sportlerhaus\, Baakenallee 51\, Hamburg\, 20457\, Germany
ATTACH;FMTTYPE=image/jpeg:https://unsere-hafencity.de/wp-content/uploads/2026/03/IMG_5531.jpeg
ORGANIZER;CN="SportvereinBaakenhafen":MAILTO:Verein@sportlerhaus.com
END:VEVENT
BEGIN:VEVENT
DTSTART;TZID=Europe/Berlin:20280530T200000
DTEND;TZID=Europe/Berlin:20280530T210000
DTSTAMP:20260426T063433
CREATED:20260331T071720Z
LAST-MODIFIED:20260331T071720Z
UID:10012931-1843329600-1843333200@unsere-hafencity.de
SUMMARY:Pilates
DESCRIPTION:Kräftigung\, Beweglichkeit und Entspannung in einem: Pilates stärkt gezielt die Körpermitte und verbessert deine Haltung. Ein ruhiger\, effektiver Ausgleich zum Alltag – für jedes Fitnesslevel geeignet.
URL:https://unsere-hafencity.de/event/pilates/2028-05-30/
LOCATION:Gemeinschaftsraum Sportlerhaus\, Baakenallee 51\, Hamburg\, 20457\, Germany
ATTACH;FMTTYPE=image/jpeg:https://unsere-hafencity.de/wp-content/uploads/2026/03/IMG_5531.jpeg
ORGANIZER;CN="SportvereinBaakenhafen":MAILTO:Verein@sportlerhaus.com
END:VEVENT
BEGIN:VEVENT
DTSTART;TZID=Europe/Berlin:20280606T200000
DTEND;TZID=Europe/Berlin:20280606T210000
DTSTAMP:20260426T063433
CREATED:20260331T071720Z
LAST-MODIFIED:20260331T071720Z
UID:10012932-1843934400-1843938000@unsere-hafencity.de
SUMMARY:Pilates
DESCRIPTION:Kräftigung\, Beweglichkeit und Entspannung in einem: Pilates stärkt gezielt die Körpermitte und verbessert deine Haltung. Ein ruhiger\, effektiver Ausgleich zum Alltag – für jedes Fitnesslevel geeignet.
URL:https://unsere-hafencity.de/event/pilates/2028-06-06/
LOCATION:Gemeinschaftsraum Sportlerhaus\, Baakenallee 51\, Hamburg\, 20457\, Germany
ATTACH;FMTTYPE=image/jpeg:https://unsere-hafencity.de/wp-content/uploads/2026/03/IMG_5531.jpeg
ORGANIZER;CN="SportvereinBaakenhafen":MAILTO:Verein@sportlerhaus.com
END:VEVENT
BEGIN:VEVENT
DTSTART;TZID=Europe/Berlin:20280613T200000
DTEND;TZID=Europe/Berlin:20280613T210000
DTSTAMP:20260426T063433
CREATED:20260331T071720Z
LAST-MODIFIED:20260331T071720Z
UID:10012933-1844539200-1844542800@unsere-hafencity.de
SUMMARY:Pilates
DESCRIPTION:Kräftigung\, Beweglichkeit und Entspannung in einem: Pilates stärkt gezielt die Körpermitte und verbessert deine Haltung. Ein ruhiger\, effektiver Ausgleich zum Alltag – für jedes Fitnesslevel geeignet.
URL:https://unsere-hafencity.de/event/pilates/2028-06-13/
LOCATION:Gemeinschaftsraum Sportlerhaus\, Baakenallee 51\, Hamburg\, 20457\, Germany
ATTACH;FMTTYPE=image/jpeg:https://unsere-hafencity.de/wp-content/uploads/2026/03/IMG_5531.jpeg
ORGANIZER;CN="SportvereinBaakenhafen":MAILTO:Verein@sportlerhaus.com
END:VEVENT
BEGIN:VEVENT
DTSTART;TZID=Europe/Berlin:20280620T200000
DTEND;TZID=Europe/Berlin:20280620T210000
DTSTAMP:20260426T063433
CREATED:20260331T071720Z
LAST-MODIFIED:20260331T071720Z
UID:10012934-1845144000-1845147600@unsere-hafencity.de
SUMMARY:Pilates
DESCRIPTION:Kräftigung\, Beweglichkeit und Entspannung in einem: Pilates stärkt gezielt die Körpermitte und verbessert deine Haltung. Ein ruhiger\, effektiver Ausgleich zum Alltag – für jedes Fitnesslevel geeignet.
URL:https://unsere-hafencity.de/event/pilates/2028-06-20/
LOCATION:Gemeinschaftsraum Sportlerhaus\, Baakenallee 51\, Hamburg\, 20457\, Germany
ATTACH;FMTTYPE=image/jpeg:https://unsere-hafencity.de/wp-content/uploads/2026/03/IMG_5531.jpeg
ORGANIZER;CN="SportvereinBaakenhafen":MAILTO:Verein@sportlerhaus.com
END:VEVENT
BEGIN:VEVENT
DTSTART;TZID=Europe/Berlin:20280627T200000
DTEND;TZID=Europe/Berlin:20280627T210000
DTSTAMP:20260426T063433
CREATED:20260331T071720Z
LAST-MODIFIED:20260331T071720Z
UID:10012935-1845748800-1845752400@unsere-hafencity.de
SUMMARY:Pilates
DESCRIPTION:Kräftigung\, Beweglichkeit und Entspannung in einem: Pilates stärkt gezielt die Körpermitte und verbessert deine Haltung. Ein ruhiger\, effektiver Ausgleich zum Alltag – für jedes Fitnesslevel geeignet.
URL:https://unsere-hafencity.de/event/pilates/2028-06-27/
LOCATION:Gemeinschaftsraum Sportlerhaus\, Baakenallee 51\, Hamburg\, 20457\, Germany
ATTACH;FMTTYPE=image/jpeg:https://unsere-hafencity.de/wp-content/uploads/2026/03/IMG_5531.jpeg
ORGANIZER;CN="SportvereinBaakenhafen":MAILTO:Verein@sportlerhaus.com
END:VEVENT
BEGIN:VEVENT
DTSTART;TZID=Europe/Berlin:20280704T200000
DTEND;TZID=Europe/Berlin:20280704T210000
DTSTAMP:20260426T063433
CREATED:20260331T071720Z
LAST-MODIFIED:20260331T071720Z
UID:10012936-1846353600-1846357200@unsere-hafencity.de
SUMMARY:Pilates
DESCRIPTION:Kräftigung\, Beweglichkeit und Entspannung in einem: Pilates stärkt gezielt die Körpermitte und verbessert deine Haltung. Ein ruhiger\, effektiver Ausgleich zum Alltag – für jedes Fitnesslevel geeignet.
URL:https://unsere-hafencity.de/event/pilates/2028-07-04/
LOCATION:Gemeinschaftsraum Sportlerhaus\, Baakenallee 51\, Hamburg\, 20457\, Germany
ATTACH;FMTTYPE=image/jpeg:https://unsere-hafencity.de/wp-content/uploads/2026/03/IMG_5531.jpeg
ORGANIZER;CN="SportvereinBaakenhafen":MAILTO:Verein@sportlerhaus.com
END:VEVENT
END:VCALENDAR