BEGIN:VCALENDAR
VERSION:2.0
PRODID:-//unsere-hafencity - ECPv6.15.20//NONSGML v1.0//EN
CALSCALE:GREGORIAN
METHOD:PUBLISH
X-WR-CALNAME:unsere-hafencity
X-ORIGINAL-URL:https://unsere-hafencity.de
X-WR-CALDESC:Veranstaltungen für unsere-hafencity
REFRESH-INTERVAL;VALUE=DURATION:PT1H
X-Robots-Tag:noindex
X-PUBLISHED-TTL:PT1H
BEGIN:VTIMEZONE
TZID:Europe/Berlin
BEGIN:DAYLIGHT
TZOFFSETFROM:+0100
TZOFFSETTO:+0200
TZNAME:CEST
DTSTART:20240331T010000
END:DAYLIGHT
BEGIN:STANDARD
TZOFFSETFROM:+0200
TZOFFSETTO:+0100
TZNAME:CET
DTSTART:20241027T010000
END:STANDARD
BEGIN:DAYLIGHT
TZOFFSETFROM:+0100
TZOFFSETTO:+0200
TZNAME:CEST
DTSTART:20250330T010000
END:DAYLIGHT
BEGIN:STANDARD
TZOFFSETFROM:+0200
TZOFFSETTO:+0100
TZNAME:CET
DTSTART:20251026T010000
END:STANDARD
BEGIN:DAYLIGHT
TZOFFSETFROM:+0100
TZOFFSETTO:+0200
TZNAME:CEST
DTSTART:20260329T010000
END:DAYLIGHT
BEGIN:STANDARD
TZOFFSETFROM:+0200
TZOFFSETTO:+0100
TZNAME:CET
DTSTART:20261025T010000
END:STANDARD
BEGIN:DAYLIGHT
TZOFFSETFROM:+0100
TZOFFSETTO:+0200
TZNAME:CEST
DTSTART:20270328T010000
END:DAYLIGHT
BEGIN:STANDARD
TZOFFSETFROM:+0200
TZOFFSETTO:+0100
TZNAME:CET
DTSTART:20271031T010000
END:STANDARD
END:VTIMEZONE
BEGIN:VEVENT
DTSTART;TZID=Europe/Berlin:20260312T183000
DTEND;TZID=Europe/Berlin:20260312T183000
DTSTAMP:20260422T204539
CREATED:20251216T092545Z
LAST-MODIFIED:20260218T083752Z
UID:10008376-1773340200-1773340200@unsere-hafencity.de
SUMMARY:Quartierskino - Greatest Showman
DESCRIPTION:Ab jetzt heißt es Leinwand auf und Film ab! Bei unserem neuen Quartierskino kannst du gemütlich einen Film genießen – dazu gibt es auch einen Drink für alle Teilnehmenden. Lass dich überraschen und tauche in spannende Geschichten ein\, gemeinsam mit Nachbarn und Nachbarinnen aus der HafenCity. \nIhr habt abgestimmt und das Ergebnis steht fest! Gewonnen hat der Film Greatest Showman.  \n\nWann: Donnerstag\, 18:30 Uhr\nTermin: 12.03.\nOrt: Botschaft der Wildtiere\nAnmeldung: notwendig\nAngebotsleitung: Quartiersmanagement HafenCity e.V.\n\nZur Anmeldung unter: Anmeldungsformular für Programmplan 2026 Quartiersmanagement HafenCity – Formular ausfüllen
URL:https://unsere-hafencity.de/event/quartierskino/
LOCATION:Lernwerkstatt Botschaft der Wildtiere\, Lucy-Borchardt-Straße 2\, Hamburg\, 20457
END:VEVENT
BEGIN:VEVENT
DTSTART;TZID=Europe/Berlin:20250802T100000
DTEND;TZID=Europe/Berlin:20250802T130000
DTSTAMP:20260422T204539
CREATED:20250730T113814Z
LAST-MODIFIED:20250730T113814Z
UID:10003612-1754128800-1754139600@unsere-hafencity.de
SUMMARY:Wildtier-Rätsel in der Botschaft der Wildtiere
DESCRIPTION:Welches Tier hat denn diese Spur hinterlassen? Und zu welchem Vogel gehört wohl dieser Gesang? \nIn der Botschaft der Wildtiere können junge Naturforscherinnen und Naturforscher auf Entdeckungsreise gehen. Viele spannende Materialien rund um unsere heimischen Wildtiere warten darauf untersucht\, bestimmt und erforscht zu werden. \nWer alle tierischen Rätsel gelöst hat\, kann sogar ein Forscher-Zertifikat mit nach Hause nehmen. \n\nVeranstalter: Deutsche Wildtier Stiftung\nTermine: Sa.\, 02.08.2025\, 10:00 Uhr – 13:00 Uhr\nOrt: Lernwerkstatt in der Botschaft der Wildtiere\, Lucy-Borchardt-Straße\, 20457 Hamburg\nEintritt: frei
URL:https://unsere-hafencity.de/event/wildtier-raetsel-in-der-botschaft-der-wildtiere/
LOCATION:Lernwerkstatt Botschaft der Wildtiere\, Lucy-Borchardt-Straße 2\, Hamburg\, 20457
END:VEVENT
END:VCALENDAR