BEGIN:VCALENDAR
VERSION:2.0
PRODID:-//unsere-hafencity - ECPv6.15.20//NONSGML v1.0//EN
CALSCALE:GREGORIAN
METHOD:PUBLISH
X-WR-CALNAME:unsere-hafencity
X-ORIGINAL-URL:https://unsere-hafencity.de
X-WR-CALDESC:Veranstaltungen für unsere-hafencity
REFRESH-INTERVAL;VALUE=DURATION:PT1H
X-Robots-Tag:noindex
X-PUBLISHED-TTL:PT1H
BEGIN:VTIMEZONE
TZID:Europe/Berlin
BEGIN:DAYLIGHT
TZOFFSETFROM:+0100
TZOFFSETTO:+0200
TZNAME:CEST
DTSTART:20240331T010000
END:DAYLIGHT
BEGIN:STANDARD
TZOFFSETFROM:+0200
TZOFFSETTO:+0100
TZNAME:CET
DTSTART:20241027T010000
END:STANDARD
BEGIN:DAYLIGHT
TZOFFSETFROM:+0100
TZOFFSETTO:+0200
TZNAME:CEST
DTSTART:20250330T010000
END:DAYLIGHT
BEGIN:STANDARD
TZOFFSETFROM:+0200
TZOFFSETTO:+0100
TZNAME:CET
DTSTART:20251026T010000
END:STANDARD
BEGIN:DAYLIGHT
TZOFFSETFROM:+0100
TZOFFSETTO:+0200
TZNAME:CEST
DTSTART:20260329T010000
END:DAYLIGHT
BEGIN:STANDARD
TZOFFSETFROM:+0200
TZOFFSETTO:+0100
TZNAME:CET
DTSTART:20261025T010000
END:STANDARD
BEGIN:DAYLIGHT
TZOFFSETFROM:+0100
TZOFFSETTO:+0200
TZNAME:CEST
DTSTART:20270328T010000
END:DAYLIGHT
BEGIN:STANDARD
TZOFFSETFROM:+0200
TZOFFSETTO:+0100
TZNAME:CET
DTSTART:20271031T010000
END:STANDARD
END:VTIMEZONE
BEGIN:VEVENT
DTSTART;TZID=Europe/Berlin:20260415T110000
DTEND;TZID=Europe/Berlin:20260415T200000
DTSTAMP:20260422T103318
CREATED:20260408T121752Z
LAST-MODIFIED:20260408T121752Z
UID:10013154-1776250800-1776283200@unsere-hafencity.de
SUMMARY:Schlagzeugunterricht
DESCRIPTION:Es groovt mitten in der Hafencity! In der neuen Groovedock- Schlagzeugschule Hafencity erwartet dich moderner\, professioneller Schlagzeugunterricht für alle\, in einem top ausgestatteten\, hellen Raum direkt am Baakenhafen. \nDie Groovedock- Schlagzeugschule verbindet moderne\, musikpädagogische Konzepte mit viel Spielfreude am Instrument und eine hochprofessionelle Ausstattung mit einer gemütlichen\, freundlichen Atmosphäre. Erhalte Unterricht direkt beim Profi- Musiker\, Tour- und Studioschlagzeuger und #1- Artist. Immer Montags und Mittwochs zwischen 11:00 und 20:00 Uhr im Marktplatz der Manufakturen. Termine nach Vereinbarung. Leg an\, groove los!
URL:https://unsere-hafencity.de/event/schlagzeugunterricht/2026-04-15/
LOCATION:Marktplatz der Manufakturen\, Versmannstraße 42\, Hamburg\, 20457
CATEGORIES:Musik
ATTACH;FMTTYPE=image/jpeg:https://unsere-hafencity.de/wp-content/uploads/2026/04/IMG_5405-5-scaled.jpg
END:VEVENT
BEGIN:VEVENT
DTSTART;TZID=Europe/Berlin:20260408T110000
DTEND;TZID=Europe/Berlin:20260408T200000
DTSTAMP:20260422T103318
CREATED:20260408T121752Z
LAST-MODIFIED:20260408T121752Z
UID:10013153-1775646000-1775678400@unsere-hafencity.de
SUMMARY:Schlagzeugunterricht
DESCRIPTION:Es groovt mitten in der Hafencity! In der neuen Groovedock- Schlagzeugschule Hafencity erwartet dich moderner\, professioneller Schlagzeugunterricht für alle\, in einem top ausgestatteten\, hellen Raum direkt am Baakenhafen. \nDie Groovedock- Schlagzeugschule verbindet moderne\, musikpädagogische Konzepte mit viel Spielfreude am Instrument und eine hochprofessionelle Ausstattung mit einer gemütlichen\, freundlichen Atmosphäre. Erhalte Unterricht direkt beim Profi- Musiker\, Tour- und Studioschlagzeuger und #1- Artist. Immer Montags und Mittwochs zwischen 11:00 und 20:00 Uhr im Marktplatz der Manufakturen. Termine nach Vereinbarung. Leg an\, groove los!
URL:https://unsere-hafencity.de/event/schlagzeugunterricht/2026-04-08/
LOCATION:Marktplatz der Manufakturen\, Versmannstraße 42\, Hamburg\, 20457
CATEGORIES:Musik
ATTACH;FMTTYPE=image/jpeg:https://unsere-hafencity.de/wp-content/uploads/2026/04/IMG_5405-5-scaled.jpg
END:VEVENT
BEGIN:VEVENT
DTSTART;TZID=Europe/Berlin:20250802T120000
DTEND;TZID=Europe/Berlin:20250802T180000
DTSTAMP:20260422T103318
CREATED:20250730T113050Z
LAST-MODIFIED:20250730T113223Z
UID:10003611-1754136000-1754157600@unsere-hafencity.de
SUMMARY:Ausstellung Armelle Maguer
DESCRIPTION:Im Rahmen des elbsommers lädt der Marktplatz der Manufakturen gemeinsam mit der französischen Künstlerin Armelle Maguer zu einer besonderen Kunstveranstaltung ein. Armelle Maguer öffnet ihren Showroom im Marktplatz der Manufakturen\, Versmannstraße 42\, 20457 Hamburg\, und präsentiert persönlich ihre großen und abstrakten Gemälde. Gerne könne Sie an diesen Tagen (zuletzt am 02.08.) ihre Gemälde erkunden und sich direkt mit der Künstlerin\, die vor Ort sein wird\, austauschen. \nIn ihren Bildern stehen natürliche Elemente\, menschliche Strukturen und archetypische Formen nebeneinander\, sie spielen miteinander und verschmelzen auf der Suche nach Intensität und Dynamik\, die durch die zunehmende Verwendung natürlicher Materialien wie umweltfreundliche Pigmente und Bindemittel noch verstärkt werden. Was werden Sie in den Bildern entdecken? Horizonte\, die man berühren möchte\, Lichter\, die glücklich sind\, sich in der Dicke der Materie zu verankern\, Quadrate\, die umherwandern\, archaische Schriften\, die ein Geheimnis bewahren sowie Wurzeln oder Netze? \nJa\, der Künstlerin bereitet es bei der Erstellung ihrer Bilder besonders viel Spaß\, Zweifel an der Identität dessen\, was man sieht sowie ein gewisses Staunen über Farben\, Materialien und die eigene Vorstellungskraft miteinander zu verbinden. \nWeitere detaillierte Informationen über die Künstlerin und ihre Gemälde finden Sie unter https://armellemaguer.fr\, https://fr.wikipedia.org/wiki/Armelle_Maguer und https://www.instagram.com/armellemaguer/  \n\n\nTermine\n\nSa.\, 14.06.2025\, 12:00 Uhr – 18:00 Uhr\nSa.\, 05.07.2025\, 12:00 Uhr – 18:00 Uhr\nSa.\, 02.08.2025\, 12:00 Uhr – 18:00 Uhr\n\n\nOrt: Marktplatz der Manufakturen\, Versmannstraße 42\, 20457 Hamburg\nEintritt: frei\nVeranstalter: Marktplatz der Manufakturen
URL:https://unsere-hafencity.de/event/ausstellung-armelle-maguer/
LOCATION:Marktplatz der Manufakturen\, Versmannstraße 42\, Hamburg\, 20457
END:VEVENT
END:VCALENDAR