BEGIN:VCALENDAR
VERSION:2.0
PRODID:-//unsere-hafencity - ECPv6.15.20//NONSGML v1.0//EN
CALSCALE:GREGORIAN
METHOD:PUBLISH
X-WR-CALNAME:unsere-hafencity
X-ORIGINAL-URL:https://unsere-hafencity.de
X-WR-CALDESC:Veranstaltungen für unsere-hafencity
REFRESH-INTERVAL;VALUE=DURATION:PT1H
X-Robots-Tag:noindex
X-PUBLISHED-TTL:PT1H
BEGIN:VTIMEZONE
TZID:Europe/Berlin
BEGIN:DAYLIGHT
TZOFFSETFROM:+0100
TZOFFSETTO:+0200
TZNAME:CEST
DTSTART:20250330T010000
END:DAYLIGHT
BEGIN:STANDARD
TZOFFSETFROM:+0200
TZOFFSETTO:+0100
TZNAME:CET
DTSTART:20251026T010000
END:STANDARD
BEGIN:DAYLIGHT
TZOFFSETFROM:+0100
TZOFFSETTO:+0200
TZNAME:CEST
DTSTART:20260329T010000
END:DAYLIGHT
BEGIN:STANDARD
TZOFFSETFROM:+0200
TZOFFSETTO:+0100
TZNAME:CET
DTSTART:20261025T010000
END:STANDARD
BEGIN:DAYLIGHT
TZOFFSETFROM:+0100
TZOFFSETTO:+0200
TZNAME:CEST
DTSTART:20270328T010000
END:DAYLIGHT
BEGIN:STANDARD
TZOFFSETFROM:+0200
TZOFFSETTO:+0100
TZNAME:CET
DTSTART:20271031T010000
END:STANDARD
END:VTIMEZONE
BEGIN:VEVENT
DTSTART;TZID=Europe/Berlin:20260209T170000
DTEND;TZID=Europe/Berlin:20260209T190000
DTSTAMP:20260424T120919
CREATED:20251216T090947Z
LAST-MODIFIED:20251216T091013Z
UID:10008357-1770656400-1770663600@unsere-hafencity.de
SUMMARY:Workshop „Gemeinsam das Quartier gestalten“
DESCRIPTION:Die AG Soziales im Netzwerk HafenCity\, das Quartiersmanagement HafenCity e.V. und soziale Träger laden alle Menschen im Quartier – mit und ohne Behinderung – zu einer neuen Workshopreihe ein. \nNach der Umfrage „Was wünschst du dir im Quartier?“ starten wir die nächste Phase: Gemeinsam sammeln\, diskutieren und planen wir Ideen\, um die HafenCity inklusiver zu gestalten. In einem offenen Workshop und Sprechstunden können alle ihre Wünsche\, Erfahrungen und Vorschläge einbringen – mündlich\, schriftlich oder kreativ. Alle Bewohnenden\, Besuchenden\, Angehörigen\, Fachkräfte und Engagierten sind herzlich willkommen\, um gemeinsam das Quartier lebendig und inklusiv zu gestalten. \n\nWann: Montag\, 17:00-19:00 Uhr\nTermine: 09.02\nOrt: Urbaneo\, Am Strandkai 7\nAnmeldung: nicht notwendig\nAngebotsleitung: AG Soziales\, Quartiersmanagement HafenCity e.V.\, Netzwerk HafenCity e.V.
URL:https://unsere-hafencity.de/event/workshop-gemeinsam-das-quartier-gestalten/
LOCATION:urbaneo\, Urbaneo\, Am Strandkai 7\, Hamburg\, 20457
END:VEVENT
END:VCALENDAR